Workbook
Name _ftn1: 'Kütteväärtused CO2 CH4 N2O EU'!$A$49
Name _ftnref1: 'Kütteväärtused CO2 CH4 N2O EU'!$A$23
Name Fatores_Categoria: OFFSET([1]Fatores!$E$1,0,0,COUNTA([1]Fatores!$E:$E))
Name Fatores_Nome: OFFSET([1]Fatores!$F$1,0,0,COUNTA([1]Fatores!$F:$F))
Name Fatores_TipoFonte: OFFSET([1]Fatores!$C$1,0,0,COUNTA([1]Fatores!$C:$C))
Name Fatores_Unidade1: OFFSET([1]Fatores!$I$1,0,0,COUNTA([1]Fatores!$I:$I))
Name Fatores_Unidade2: OFFSET([1]Fatores!$J$1,0,0,COUNTA([1]Fatores!$J:$J))
Name Fatores_Valor: OFFSET([1]Fatores!$G$1,0,0,COUNTA([1]Fatores!$G:$G))
Name Option_A_0_B_1: [2]About!$B$87

Sheet Tulemused
A1: Projekti nimetus: | B1: ='CO2 arvutus'!B3 -> Näiteks: Tõravere soojatorustiku rekonstrueerimine
A2: 1. | B2: Soojustorustiku renoveerimine ja lokaalkütet kasutava hoone tarbijapaigaldise ühendamine olemasoleva kaugküttevõrguga (määruse § 5 lõike 1 punktides 1 ja 3 nimetatud tegevuste elluviimiseks koostatud projekt) | H2: Max punktid
A3: 1.1 | B3: Projekti tulemusena renoveeritavas soojustorustiku lõigus kokkuhoitud aastane soojusenergia võrreldes eelnenud aasta andmetega | C3: ='CO2 arvutus'!B23 -> 72.996776 | D3: % | E3: <50% | F3: 50-70% | G3: >70% | H3: 30
A4: 1.2 | B4: Aastas kokku hoitavate kasvuhoonegaaside kogus süsinikdioksiidi ekvivalenttonnides, võrreldes taotluse esitamisele eelnenud aasta andmetega | C4: ='CO2 arvutus'!B24 -> 28.794887 | D4: t CO2e / aastas | E4: Projektide punktid kujunevad pingerea alusel, kusjuures kõige suuremat kokkuhoidu saavutav projekt saab maksimumpunktid ja kõige vähem kokkuhoidnud projekt saab 0 punkti. | H4: 20
A6: 2. | B6: Soojuse tootmise seadme renoveerimine (määruse § 5 lõike 1 punktis 2 nimetatud tegevuse elluviimiseks koostatud projekt)
A7: 2.1 | B7: Aastas kokku hoitavate kasvuhoonegaaside heitkogus süsinikdioksiidi ekvivalenttonnides renoveeritava või uue ehitatava soojuse tootmise seadme kohta võrreldes taotluse esitamisele eelnenud aasta andmetega | C7: ='CO2 arvutus'!N112 -> 0 | D7: t CO2e / aastas | E7: Projektide punktid kujunevad pingerea alusel, kusjuures kõige suurema näitaja saavutav projekt saab maksumumpunktid ja kõige väiksema näitajaga projekt saab 0 punkti. | H7: 25
B8: ='CO2 arvutus'!A118 -> Aastane energia kokkuhoid soojuse tootmisel | C8: ='CO2 arvutus'!C118 -> 0 | D8: MWh/aastas
A9: 2.8 | B9: ='CO2 arvutus'!A15 -> Soojusjaama efektiivsus | C9: ='CO2 arvutus'!C15 -> 0.96 | D9: - | E9: ≤1,3 | F9: - | G9: >1,3 | H9: 10 | I9: Arvutatud kogu tootmisjaama prognoositav kasutegur või soojustegur peale projekti elluviimist.
B11: ='CO2 arvutus'!A125 -> Summaarne energia kokkuhoid (koos torustiku renoveerimisega) | C11: ='CO2 arvutus'!B125 -> 439.28 | D11: MWh/aastas
B12: Taastuvenergia täiendav kasutuselevõtt | C12: ='CO2 arvutus'!B123 -> 0 | D12: MWh/aastas
B13: Muu kaasneva õhuheide muutus | C13: ='CO2 arvutus'!Y112/1000 -> 0 | D13: t/aastas

Sheet CO2 arvutus
A1: Taotleja täidab kollased lahtrid!
A3: Projekti nimetus: | B3: Näiteks: Tõravere soojatorustiku rekonstrueerimine
A4: Valida loendist missugusele küttelahendusele minnakse üle | C4: Kui soojustootmisseadme vahetust ei toimu, jätta lahter tühjaks
A6: Kaugkütte pakkuja | B6: SW Energia | O6: https://kotkas.envir.ee/permits/public_index
A7: Soojustootmisjaama nimi | B7: Tõravere katlamaja
A8: Keskkonnaloa nr | B8: L.ÕV.TM-43364 | G8: Aastaaruande saab otsida keskonnaloa numbri ja aasta järgi andmebaasist KOTKAS. Kopeeri vajalikud andmed läbipaistvuse suurendamiseks lehele Katlamaja. Kui arunaded KOTKASes katavad vaid osa aastaid, lisada omalt poolt puudvad andmed lehel katlamajad.
A9: Kasutatud aastaaruanne | B9: 2018 - 2020 | O9: https://kotkas.envir.ee/annual_reports_registry
A10: Kasutatud aastaaruanne viide | B10: https://kotkas.envir.ee/annual_reports_registry/view?search=1&nav_tab=annual_reports_registry&s__permit_nr_like=L.%C3%95V.TM-43364&s__owner_name=&s__year=2020&annual_report_id=24575
A11: Soojustootmisjaama aadress | B11: Torni tn 1, Tõravere alevik, Nõo vald, Tartu maakond
B13: Enne projekti | C13: Peale projekti
A14: Soojustootmisjaama poolt aastas keskmine toodetav väljundsoojuse kogus | B14: =C116*0.85 -> 31802.252 | C14: =C117*0.96 -> 35917.837 | D14: MWh/aastas | E14: Arvutada taotlusele eelnenud aasta põhjal arvestades vajadusel ka suitsugaaside pesuri poolt tagastatavat soojust; prognoos teha taotluse esitamise aastale eelnenud aasta tegeliku tarbimise põhjal arvestades prognoositavaid muudatusi tarbimises, soojusseadme võimsuses, kasutegris ja kasutatava kütuse kütteväärtuses; vastav seletus peab olema ära toodud ka finantsmajandusanalüüsis ja numbriliselt kajastuma siinses arvutuskäigus. Kui muudatusi soojustootmisseadmes pole planeeritud, siis märkida mõlemasse tabelisse siin ja all samad andmed, st taotluse esitamisele eelnenud aasta väärtus.
A15: Soojusjaama efektiivsus | B15: =B14/C116 -> 0.85 | C15: =C14/C117 -> 0.96 | D15: -
A17: SOOJUSTORUSTIKU PROJEKT
A18: Renoveeritava torustiku pikkus rekonstrueerimise järel | B18: 836.6 | C18: m | D18: Mõeldud on torustiku osa, mis välja vahetatakse, täiendavalt rajatav uus torustik märkida järgmisse lahtrisse.
A19: Uue paigaldatava torustiku pikkus | B19: 0 | C19: m | D19: Mõeldud on vaid täiesti uut rajatavat torustikku, vana torustiku rekonstrueerimist siia mitte arvestada.
A20: Varasem keskmine soojuskadu renoveeritavas torustikus | B20: 601.78 | C20: MWh/aastas | D20: Märkida vaid juba olemasoleva renoveeritava torustiku soojuskadu, uut rajatavat torustikku mitte arvestada!
A21: Prognoositav keskmine soojuskadu renoveeritavas torustikus peale renoveerimist | B21: 162.5 | C21: MWh/aastas | D21: Märkida vaid projekti tulemusel renoveeritava torustiku prognoositav soojuskadu, uut rajatavat torustikku mitte arvestada!
A22: Prognoositav soojuskao vähenemine renoveeritavas torustikus | B22: =B20-B21 -> 439.28 | C22: MWh/aastas
A23: Prognoositav soojuskao vähenemine renoveeritavas torustikus, % | B23: =(B20-B21)/B20*100 -> 72.996776 | C23: %
A24: Prognoositav kasvuhoonegaaside heite vähenemine renoveeritavas torustikus eelmise aasta väärtuse alusel | B24: =$B$22/C116*N65/B15 -> 28.794887 | C24: t CO2e / aastas | D24: Tulemuse saamiseks sisestada allolevasse kahte tabelisse nii taotlusele eelnenud aasta kui prognoositav energiatootmine. Juhul kui soojustootmises muudatusi ei toimu, sisestada mõlemasse tabelisse samad, taotlusele eelnenud aasta andmed.
A25: Prognoositav kasvuhoonegaaside heite vähenemine renoveeritavas torustikus, kui soojustootmises on planeeritud muudatused | B25: =$B$22/C117*N107/C15 -> 25.495473 | C25: t CO2e / aastas | D25: Tulemuse saamiseks sisestada allolevasse kahte tabelisse nii taotlusele eelnenud aasta kui prognoositav energiatootmine. Juhul kui soojustootmises muudatusi ei toimu, sisestada mõlemasse tabelisse samad, taotlusele eelnenud aasta andmed.
A27: Lisada eelnevalt kasutatud kütuste kogused liigiti (kollased lahtrid) - eelnev tarbimine (taotlusele eelnenud aasta põhjal arvutatuna) iga kütuse liigi kohta eraldi (t/aastas).
A28: Kütuse nimetus | B28: Kasutatud kütuse kogus | C28: Kütteväärtus | D28: Aastane kütteväärtus | E28: Aastane kütteväärtus | F28: Süsinikuheite faktor | G28: ox C osa | H28: CO2/C | I28: CO2 kogus | J28: CH4 emissiooni-faktor | K28: CH4 kogus | L28: N2O emissiooni-faktor | M28: N2O kogus | N28: CO2e kogus* | O28: NOx emissiooni-faktor | P28: NOx kogus | Q28: CO emissiooni-faktor | R28: CO kogus | S28: NMVOC emissiooni-faktor | T28: NMVOC kogus | U28: SOx emissiooni-faktor | V28: SOx kogus | W28: TSP emissiooni-faktor | X28: TSP kogus | Y28: Muu kaasnev õhuheide kokku
A29: Massiühikutes | B29: t/aasta | C29: MJ/kg | D29: TJ/aasta | E29: GJ/aasta | F29: tC/TJ | G29: arv | H29: 44/12 | I29: t/aasta | J29: kg/TJ | K29: kg/aasta | L29: kg/TJ | M29: kg/aasta | N29: t/aasta | O29: kg/TJ | P29: kg/aasta | Q29: kg/TJ | R29: kg/aasta | S29: kg/TJ | T29: kg/aasta | U29: kg/TJ | V29: kg/aasta | W29: kg/TJ | X29: kg/aasta | Y29: kg/aasta
A30: LPG | B30: 0 | C30: 45.5 | D30: =B30*C30/1000 -> 0 | E30: =C30*B30 -> 0 | F30: 17.73 | G30: 0.995 | H30: =44/12 -> 3.6666667 | I30: =D30*F30*G30*H30 -> 0 | J30: ='Kütteväärtused CO2 CH4 N2O EU'!$B$86 -> 5 | K30: =D30*J30 -> 0 | L30: ='Kütteväärtused CO2 CH4 N2O EU'!$C$86 -> 0.1 | M30: =D30*L30 -> 0 | N30: =SUM(I30+K30/1000*$J$141+M30/1000*$K$141) -> 0 | O30: =O72 -> 35.3 | P30: =$D30*O30 -> 0 | Q30: =Q72 -> 418.1 | R30: =$D30*Q30 -> 0 | S30: =S72 -> 6.1 | T30: =$D30*S30 -> 0 | U30: ='Heited suured kütteseamed EU'!$J$143 -> 0.281 | V30: =$D30*U30 -> 0 | W30: =W72 -> 15.85 | X30: =$D30*W30 -> 0 | Y30: =SUM(P30,R30,T30,V30,X30) -> 0
A31: Kivisüsi | B31: 0 | C31: 22 | D31: =B31*C31/1000 -> 0 | E31: =C31*B31 -> 0 | F31: 25.74 | G31: 0.99 | H31: =44/12 -> 3.6666667 | I31: =D31*F31*G31*H31 -> 0 | J31: ='Kütteväärtused CO2 CH4 N2O EU'!$B$89 -> 300 | K31: =D31*J31 -> 0 | L31: ='Kütteväärtused CO2 CH4 N2O EU'!$C$89 -> 1.5 | M31: =D31*L31 -> 0 | N31: =SUM(I31+K31/1000*$J$141+M31/1000*$K$141) -> 0 | O31: =O73 -> 199.42 | P31: =$D31*O31 -> 0 | Q31: =Q73 -> 5.25 | R31: =$D31*Q31 -> 0 | S31: =S73 -> 0.375 | T31: =$D31*S31 -> 0 | U31: =AVERAGE('Heited suured kütteseamed EU'!$J$161,'Heited suured kütteseamed EU'!$J$174) -> 820 | V31: =$D31*U31 -> 0 | W31: =W73 -> 19.558 | X31: =$D31*W31 -> 0 | Y31: =SUM(P31,R31,T31,V31,X31) -> 0
A32: Kerge kütteõli | B32: 0 | C32: 42.5 | D32: =B32*C32/1000 -> 0 | E32: =C32*B32 -> 0 | F32: 20.26 | G32: 0.99 | H32: =44/12 -> 3.6666667 | I32: =D32*F32*G32*H32 -> 0 | J32: ='Kütteväärtused CO2 CH4 N2O EU'!$B$85 -> 10 | K32: =D32*J32 -> 0 | L32: ='Kütteväärtused CO2 CH4 N2O EU'!$C$85 -> 0.6 | M32: =D32*L32 -> 0 | N32: =SUM(I32+K32/1000*$J$141+M32/1000*$K$141) -> 0 | O32: =O74 -> 37 | P32: =$D32*O32 -> 0 | Q32: =Q74 -> 2.2 | R32: =$D32*Q32 -> 0 | S32: =S74 -> 0.74 | T32: =$D32*S32 -> 0 | U32: =AVERAGE('Heited suured kütteseamed EU'!$J$100,'Heited suured kütteseamed EU'!$J$113,'Heited suured kütteseamed EU'!$J$121) -> 46.5 | V32: =$D32*U32 -> 0 | W32: =W74 -> 1 | X32: =$D32*W32 -> 0 | Y32: =SUM(P32,R32,T32,V32,X32) -> 0
A33: Masuut | B33: 0 | C33: 40.15 | D33: =B33*C33/1000 -> 0 | E33: =C33*B33 -> 0 | F33: 20.92 | G33: 0.99 | H33: =44/12 -> 3.6666667 | I33: =D33*F33*G33*H33 -> 0 | J33: ='Kütteväärtused CO2 CH4 N2O EU'!$B$85 -> 10 | K33: =D33*J33 -> 0 | L33: ='Kütteväärtused CO2 CH4 N2O EU'!$C$85 -> 0.6 | M33: =D33*L33 -> 0 | N33: =SUM(I33+K33/1000*$J$141+M33/1000*$K$141) -> 0 | O33: =O75 -> 89 | P33: =$D33*O33 -> 0 | Q33: =Q75 -> 2.6 | R33: =$D33*Q33 -> 0 | S33: =S75 -> 89 | T33: =$D33*S33 -> 0 | U33: =AVERAGE('Heited suured kütteseamed EU'!$J$161,'Heited suured kütteseamed EU'!$J$174) -> 820 | V33: =$D33*U33 -> 0 | W33: =W75 -> 0.89 | X33: =$D33*W33 -> 0 | Y33: =SUM(P33,R33,T33,V33,X33) -> 0
A34: Põlevkivi | B34: 0 | C34: 8.16 | D34: =B34*C34/1000 -> 0 | E34: =C34*B34 -> 0 | F34: =AVERAGE(26.42,27.25) -> 26.835 | G34: 0.99 | H34: =44/12 -> 3.6666667 | I34: =D34*F34*G34*H34 -> 0 | J34: ='Kütteväärtused CO2 CH4 N2O EU'!$B$91 -> 300 | K34: =D34*J34 -> 0 | L34: ='Kütteväärtused CO2 CH4 N2O EU'!$C$91 -> 1.5 | M34: =D34*L34 -> 0 | N34: =SUM(I34+K34/1000*$J$141+M34/1000*$K$141) -> 0 | O34: =O76 -> 79.02 | P34: =$D34*O34 -> 0 | Q34: =Q76 -> 0.88 | R34: =$D34*Q34 -> 0 | S34: =S76 -> 0 | T34: =$D34*S34 -> 0 | U34: =AVERAGE('Heited suured kütteseamed EU'!$J$161,'Heited suured kütteseamed EU'!$J$174) -> 820 | V34: =$D34*U34 -> 0 | W34: =W76 -> 429.5 | X34: =$D34*W34 -> 0 | Y34: =SUM(P34,R34,T34,V34,X34) -> 0
A35: Põlevkiviõli (raskem) | B35: 324.75 | C35: 39.22 | D35: =B35*C35/1000 -> 12.736695 | E35: =C35*B35 -> 12736.695 | F35: 21.1 | G35: 0.99 | H35: =44/12 -> 3.6666667 | I35: =D35*F35*G35*H35 -> 975.54168 | J35: ='Kütteväärtused CO2 CH4 N2O EU'!$B$85 -> 10 | K35: =D35*J35 -> 127.36695 | L35: ='Kütteväärtused CO2 CH4 N2O EU'!$C$85 -> 0.6 | M35: =D35*L35 -> 7.642017 | N35: =SUM(I35+K35/1000*$J$141+M35/1000*$K$141) -> 981.00317 | O35: =O77 -> 79.02 | P35: =$D35*O35 -> 1006.4536 | Q35: =Q77 -> 0.88 | R35: =$D35*Q35 -> 11.208292 | S35: =S77 -> 0 | T35: =$D35*S35 -> 0 | U35: =AVERAGE('Heited suured kütteseamed EU'!$J$161,'Heited suured kütteseamed EU'!$J$174) -> 820 | V35: =$D35*U35 -> 10444.09 | W35: =W77 -> 1.9 | X35: =$D35*W35 -> 24.19972 | Y35: =SUM(P35,R35,T35,V35,X35) -> 11485.952
A36: Põlevkiviõli (kergem) | B36: 0 | C36: 42.3 | D36: =B36*C36/1000 -> 0 | E36: =C36*B36 -> 0 | F36: 20.2 | G36: 0.99 | H36: =44/12 -> 3.6666667 | I36: =D36*F36*G36*H36 -> 0 | J36: ='Kütteväärtused CO2 CH4 N2O EU'!$B$85 -> 10 | K36: =D36*J36 -> 0 | L36: ='Kütteväärtused CO2 CH4 N2O EU'!$C$85 -> 0.6 | M36: =D36*L36 -> 0 | N36: =SUM(I36+K36/1000*$J$141+M36/1000*$K$141) -> 0 | O36: =O78 -> 79.02 | P36: =$D36*O36 -> 0 | Q36: =Q78 -> 0.88 | R36: =$D36*Q36 -> 0 | S36: =S78 -> 0 | T36: =$D36*S36 -> 0 | U36: =AVERAGE('Heited suured kütteseamed EU'!$J$161,'Heited suured kütteseamed EU'!$J$174) -> 820 | V36: =$D36*U36 -> 0 | W36: =W78 -> 1.9 | X36: =$D36*W36 -> 0 | Y36: =SUM(P36,R36,T36,V36,X36) -> 0
A37: Diisel | B37: 0 | C37: 42.3 | D37: =B37*C37/1000 -> 0 | E37: =C37*B37 -> 0 | F37: 19.87 | G37: 0.99 | H37: =44/12 -> 3.6666667 | I37: =D37*F37*G37*H37 -> 0 | J37: ='Kütteväärtused CO2 CH4 N2O EU'!$B$85 -> 10 | K37: =D37*J37 -> 0 | L37: ='Kütteväärtused CO2 CH4 N2O EU'!$C$85 -> 0.6 | M37: =D37*L37 -> 0 | N37: =SUM(I37+K37/1000*$J$141+M37/1000*$K$141) -> 0 | O37: =O79 -> 250 | P37: =$D37*O37 -> 0 | Q37: =Q79 -> 2.6 | R37: =$D37*Q37 -> 0 | S37: =S79 -> 89 | T37: =$D37*S37 -> 0 | U37: ='Heited suured kütteseamed EU'!$J$182 -> 495 | V37: =$D37*U37 -> 0 | W37: =W79 -> 0.89 | X37: =$D37*W37 -> 0 | Y37: =SUM(P37,R37,T37,V37,X37) -> 0
A38: Koksiahjukoks | B38: 0 | C38: 28.5 | D38: =B38*C38/1000 -> 0 | E38: =C38*B38 -> 0 | F38: 29.02 | G38: 0.99 | H38: =44/12 -> 3.6666667 | I38: =D38*F38*G38*H38 -> 0 | J38: ='Kütteväärtused CO2 CH4 N2O EU'!$B$89 -> 300 | K38: =D38*J38 -> 0 | L38: ='Kütteväärtused CO2 CH4 N2O EU'!$C$89 -> 1.5 | M38: =D38*L38 -> 0 | N38: =SUM(I38+K38/1000*$J$141+M38/1000*$K$141) -> 0 | O38: =O80 -> 199.42 | P38: =$D38*O38 -> 0 | Q38: =Q80 -> 5.25 | R38: =$D38*Q38 -> 0 | S38: =S80 -> 0.375 | T38: =$D38*S38 -> 0 | U38: =AVERAGE('Heited suured kütteseamed EU'!$J$79,'Heited suured kütteseamed EU'!$J$92) -> 820 | V38: =$D38*U38 -> 0 | W38: =W80 -> 19.558 | X38: =$D38*W38 -> 0 | Y38: =SUM(P38,R38,T38,V38,X38) -> 0
A39: Õlijäägid | B39: 0 | C39: 16 | D39: =B39*C39/1000 -> 0 | E39: =C39*B39 -> 0 | F39: 20.18 | G39: 0.99 | H39: =44/12 -> 3.6666667 | I39: =D39*F39*G39*H39 -> 0 | J39: ='Kütteväärtused CO2 CH4 N2O EU'!$B$85 -> 10 | K39: =D39*J39 -> 0 | L39: ='Kütteväärtused CO2 CH4 N2O EU'!$C$85 -> 0.6 | M39: =D39*L39 -> 0 | N39: =SUM(I39+K39/1000*$J$141+M39/1000*$K$141) -> 0 | O39: =O81 -> 37 | P39: =$D39*O39 -> 0 | Q39: =Q81 -> 2.2 | R39: =$D39*Q39 -> 0 | S39: =S81 -> 0.74 | T39: =$D39*S39 -> 0 | U39: =AVERAGE('Heited suured kütteseamed EU'!$J$229) -> 495 | V39: =$D39*U39 -> 0 | W39: =W81 -> 1 | X39: =$D39*W39 -> 0 | Y39: =SUM(P39,R39,T39,V39,X39) -> 0
A40: Turvas (turbaplokk) | B40: 0 | C40: 12 | D40: =B40*C40/1000 -> 0 | E40: =C40*B40 -> 0 | F40: 27.82 | G40: 0.99 | H40: =44/12 -> 3.6666667 | I40: =D40*F40*G40*H40 -> 0 | J40: ='Kütteväärtused CO2 CH4 N2O EU'!$B$93 -> 300 | K40: =D40*J40 -> 0 | L40: ='Kütteväärtused CO2 CH4 N2O EU'!$C$93 -> 1.4 | M40: =D40*L40 -> 0 | N40: =SUM(I40+K40/1000*$J$141+M40/1000*$K$141) -> 0 | O40: =O82 -> 300 | P40: =$D40*O40 -> 0 | Q40: =Q82 -> 4696.75 | R40: =$D40*Q40 -> 0 | S40: =S82 -> 100 | T40: =$D40*S40 -> 0 | U40: =AVERAGE('Heited suured kütteseamed EU'!$J$248) -> 10.8 | V40: =$D40*U40 -> 0 | W40: =W82 -> 477.75 | X40: =$D40*W40 -> 0 | Y40: =SUM(P40,R40,T40,V40,X40) -> 0
A41: Turbabrikett | B41: 0 | C41: 16 | D41: =B41*C41/1000 -> 0 | E41: =C41*B41 -> 0 | F41: 26.45 | G41: 0.99 | H41: =44/12 -> 3.6666667 | I41: =D41*F41*G41*H41 -> 0 | J41: ='Kütteväärtused CO2 CH4 N2O EU'!$B$93 -> 300 | K41: =D41*J41 -> 0 | L41: ='Kütteväärtused CO2 CH4 N2O EU'!$C$93 -> 1.4 | M41: =D41*L41 -> 0 | N41: =SUM(I41+K41/1000*$J$141+M41/1000*$K$141) -> 0 | O41: =O83 -> 300 | P41: =$D41*O41 -> 0 | Q41: =Q83 -> 4696.75 | R41: =$D41*Q41 -> 0 | S41: =S83 -> 100 | T41: =$D41*S41 -> 0 | U41: =AVERAGE('Heited suured kütteseamed EU'!$J$248) -> 10.8 | V41: =$D41*U41 -> 0 | W41: =W83 -> 477.75 | X41: =$D41*W41 -> 0 | Y41: =SUM(P41,R41,T41,V41,X41) -> 0
A42: Freesturvas | B42: 0 | C42: 9.7 | D42: =B42*C42/1000 -> 0 | E42: =C42*B42 -> 0 | F42: 28.9 | G42: 0.99 | H42: =44/12 -> 3.6666667 | I42: =D42*F42*G42*H42 -> 0 | J42: ='Kütteväärtused CO2 CH4 N2O EU'!$B$93 -> 300 | K42: =D42*J42 -> 0 | L42: ='Kütteväärtused CO2 CH4 N2O EU'!$C$93 -> 1.4 | M42: =D42*L42 -> 0 | N42: =SUM(I42+K42/1000*$J$141+M42/1000*$K$141) -> 0 | O42: =O84 -> 300 | P42: =$D42*O42 -> 0 | Q42: =Q84 -> 4696.75 | R42: =$D42*Q42 -> 0 | S42: =S84 -> 100 | T42: =$D42*S42 -> 0 | U42: =AVERAGE('Heited suured kütteseamed EU'!$J$248) -> 10.8 | V42: =$D42*U42 -> 0 | W42: =W84 -> 477.75 | X42: =$D42*W42 -> 0 | Y42: =SUM(P42,R42,T42,V42,X42) -> 0
A43: Õlijäägid biojäätmetest | B43: 0 | C43: 16 | D43: =B43*C43/1000 -> 0 | E43: =C43*B43 -> 0 | F43: 20.18 | G43: 0.99 | H43: =44/12 -> 3.6666667 | I43: =D43*F43*G43*H43 -> 0 | J43: ='Kütteväärtused CO2 CH4 N2O EU'!$B$85 -> 10 | K43: =D43*J43 -> 0 | L43: ='Kütteväärtused CO2 CH4 N2O EU'!$C$85 -> 0.6 | M43: =D43*L43 -> 0 | N43: =SUM(K43/1000*$J$141+M43/1000*$K$141) -> 0 | O43: =O85 -> 37 | P43: =$D43*O43 -> 0 | Q43: =Q85 -> 2.2 | R43: =$D43*Q43 -> 0 | S43: =S85 -> 0.74 | T43: =$D43*S43 -> 0 | U43: =AVERAGE('Heited suured kütteseamed EU'!$J$248) -> 10.8 | V43: =$D43*U43 -> 0 | W43: =W85 -> 1 | X43: =$D43*W43 -> 0 | Y43: =SUM(P43,R43,T43,V43,X43) -> 0
A44: Halupuit (niiskussisaldus2 ≤20%) | B44: 0 | C44: 14.76 | D44: =B44*C44/1000 -> 0 | E44: =C44*B44 -> 0 | F44: 30.5 | G44: 1 | H44: =44/12 -> 3.6666667 | I44: =D44*F44*G44*H44 -> 0 | J44: ='Kütteväärtused CO2 CH4 N2O EU'!$B$94 -> 300 | K44: =D44*J44 -> 0 | L44: ='Kütteväärtused CO2 CH4 N2O EU'!$C$94 -> 4 | M44: =D44*L44 -> 0 | N44: =SUM(K44/1000*$J$141+M44/1000*$K$141) -> 0 | O44: =O86 -> 0.736 | P44: =$D44*O44 -> 0 | Q44: =Q86 -> 11.7 | R44: =$D44*Q44 -> 0 | S44: =S86 -> 2.2 | T44: =$D44*S44 -> 0 | U44: =AVERAGE('Heited suured kütteseamed EU'!$J$248) -> 10.8 | V44: =$D44*U44 -> 0 | W44: =W86 -> 8.7 | X44: =$D44*W44 -> 0 | Y44: =SUM(P44,R44,T44,V44,X44) -> 0
A45: Puitbrikett (niiskussisaldus2 ≤12%) | B45: 0 | C45: 16.56 | D45: =B45*C45/1000 -> 0 | E45: =C45*B45 -> 0 | F45: 30.5 | G45: 1 | H45: =44/12 -> 3.6666667 | I45: =D45*F45*G45*H45 -> 0 | J45: ='Kütteväärtused CO2 CH4 N2O EU'!$B$94 -> 300 | K45: =D45*J45 -> 0 | L45: ='Kütteväärtused CO2 CH4 N2O EU'!$C$94 -> 4 | M45: =D45*L45 -> 0 | N45: =SUM(K45/1000*$J$141+M45/1000*$K$141) -> 0 | O45: =O87 -> 0.736 | P45: =$D45*O45 -> 0 | Q45: =Q87 -> 11.7 | R45: =$D45*Q45 -> 0 | S45: =S87 -> 2.2 | T45: =$D45*S45 -> 0 | U45: =AVERAGE('Heited suured kütteseamed EU'!$J$248) -> 10.8 | V45: =$D45*U45 -> 0 | W45: =W87 -> 8.7 | X45: =$D45*W45 -> 0 | Y45: =SUM(P45,R45,T45,V45,X45) -> 0
...

Sheet Katlamajad
A1: Kopeeri aruandlusaastast siia vajalikud andmed (lae aruande pdf alla ja ava wordi failina, seejärel kopeeri vajalikud tabelid tervikuna siia)
A2: Viide aruandele | C2: https://kotkas.envir.ee/annual_reports_registry/view?search=1&nav_tab=annual_reports_registry&s__permit_nr_like=L.%C3%95V.TM-43364&s__owner_name=&s__year=2020&annual_report_id=24575
A3: 2.5. Kütuste ning jäätmete kasutamine ja energia tootmine tegevusalade kaupa
A4: Kasutatav kütus ja jäätmed | H4: Energia tootmine, MWh/a
A5: Kütuse liik | B5: Kütuse nimetus | C5: KN kood | D5: KN nimetus | E5: Tegevusala või tootmisprotsess | H5: Elekter | K5: Soojus ja aur
E6: SNAP kood | F6: Kütuse ja jäätmete kogus aastas | H6: Kokku | I6: Omatarve | J6: Müük | K6: Kokku | L6: Omatarve | M6: Müük
F7: Kogus | G7: Ühik
A8: Tahke kütus | B8: Puiduhake | C8: 440139 | D8: puiduhake ja puidujäätmed | E8: 010203b - Piirkondlikud katlamajad - põletusseade | F8: 492.7 | G8: tonni | H8: 0 | I8: 0 | J8: 0 | K8: 1058.621 | L8: 0 | M8: 899
E9: < 20 MW (katlad)
A10: Vedelkütus | B10: Põlevkiviõli (raske fraktsioon) | C10: 27101964 | D10: põlevkiviõli | E10: 010203b - Piirkondlikud katlamajad - põletusseade | F10: 3.718 | G10: tonni | H10: 0 | I10: 0 | J10: 0 | K10: 35.321 | L10: 0 | M10: 35.321
E11: < 20 MW (katlad)

Sheet Heited suured kütteseamed EU
A1: NFR | B1: Sector | C1: Table | D1: Type | E1: Technology | F1: Fuel | G1: Abatement | H1: Region | I1: Pollutant | J1: Value | K1: Unit | L1: CI_lower | M1: CI_upper | N1: Reference
A2: 1.A.1.a | B2: Public electricity and heat production | C2: Table_3-7 | D2: Tier 1 emission factor | E2: NA | F2: Biomass | H2: NA | I2: BC | J2: 3.3 | K2: % of PM2.5 | L2: 1.6 | M2: 6.6 | N2: See note in Guidebook chapter
A3: 1.A.1.a | B3: Public electricity and heat production | C3: Table_3-7 | D3: Tier 1 emission factor | E3: NA | F3: Biomass | H3: NA | I3: Benzo(a)pyrene | J3: 1.12 | K3: mg/GJ | L3: 0.671 | M3: 1.57 | N3: US EPA (2003), chapter 1.6
A4: 1.A.1.a | B4: Public electricity and heat production | C4: Table_3-7 | D4: Tier 1 emission factor | E4: NA | F4: Biomass | H4: NA | I4: Benzo(b)fluoranthene | J4: 0.043 | K4: mg/GJ | L4: 0.0215 | M4: 0.0645 | N4: US EPA (2003), chapter 1.6
A5: 1.A.1.a | B5: Public electricity and heat production | C5: Table_3-7 | D5: Tier 1 emission factor | E5: NA | F5: Biomass | H5: NA | I5: Benzo(k)fluoranthene | J5: 0.0155 | K5: mg/GJ | L5: 0.00774 | M5: 0.0232 | N5: US EPA (2003), chapter 1.6
A6: 1.A.1.a | B6: Public electricity and heat production | C6: Table_3-7 | D6: Tier 1 emission factor | E6: NA | F6: Biomass | H6: NA | I6: CO | J6: 90 | K6: g/GJ | L6: 45 | M6: 180 | N6: Nielsen et al., 2010
A7: 1.A.1.a | B7: Public electricity and heat production | C7: Table_3-7 | D7: Tier 1 emission factor | E7: NA | F7: Biomass | H7: NA | I7: HCB | J7: 5 | K7: µg/GJ | L7: 0.5 | M7: 50 | N7: Bailey, 2001
A8: 1.A.1.a | B8: Public electricity and heat production | C8: Table_3-7 | D8: Tier 1 emission factor | E8: NA | F8: Biomass | H8: NA | I8: NMVOC | J8: 7.31 | K8: g/GJ | L8: 2.44 | M8: 21.9 | N8: US EPA (2003), chapter 1.6
A9: 1.A.1.a | B9: Public electricity and heat production | C9: Table_3-7 | D9: Tier 1 emission factor | E9: NA | F9: Biomass | H9: NA | I9: NOx | J9: 81 | K9: g/GJ | L9: 40 | M9: 160 | N9: Nielsen et al., 2010
A10: 1.A.1.a | B10: Public electricity and heat production | C10: Table_3-7 | D10: Tier 1 emission factor | E10: NA | F10: Biomass | H10: NA | I10: PCB | J10: 3.5 | K10: µg/GJ | L10: 0.35 | M10: 35 | N10: US EPA (2003), chapter 1.6
A11: 1.A.1.a | B11: Public electricity and heat production | C11: Table_3-7 | D11: Tier 1 emission factor | E11: NA | F11: Biomass | H11: NA | I11: PM10 | J11: 155 | K11: g/GJ | L11: 77 | M11: 310 | N11: US EPA (2003), chapter 1.6
A12: 1.A.1.a | B12: Public electricity and heat production | C12: Table_3-7 | D12: Tier 1 emission factor | E12: NA | F12: Biomass | H12: NA | I12: PM2.5 | J12: 133 | K12: g/GJ | L12: 66 | M12: 266 | N12: US EPA (2003), chapter 1.6
A13: 1.A.1.a | B13: Public electricity and heat production | C13: Table_3-7 | D13: Tier 1 emission factor | E13: NA | F13: Biomass | H13: NA | I13: SOx | J13: 10.8 | K13: g/GJ | L13: 6.45 | M13: 15.1 | N13: US EPA (2003), chapter 1.6
... A249: 1.A.1.a | B249: Public electricity and heat production | C249: Table_3-13 | D249: Tier 2 emission factor | E249: Dry Bottom Boilers | F249: Wood and wood waste (clean wood waste) | H249: NA | I249: TSP | J249: 172 | K249: g/GJ | L249: 86 | M249: 344 | N249: US EPA (2003), chapter 1.6
A252: Allikas: | B252: http://efdb.apps.eea.europa.eu/?source=%7B%22query%22%3A%7B%22bool%22%3A%7B%22must%22%3A%7B%22match_all%22%3A%7B%7D%7D%2C%22filter%22%3A%7B%22bool%22%3A%7B%22must%22%3A%5B%7B%22bool%22%3A%7B%22should%22%3A%5B%7B%22term%22%3A%7B%22Pollutant%22%3A%22CH4%22%7D%7D%2C%7B%22term%22%3A%7B%22Pollutant%22%3A%22CO2%22%7D%7D%2C%7B%22term%22%3A%7B%22Pollutant%22%3A%22N2O%22%7D%7D%2C%7B%22term%22%3A%7B%22Pollutant%22%3A%22NH3%22%7D%7D%2C%7B%22term%22%3A%7B%22Pollutant%22%3A%22BC%22%7D%7D%2C%7B%22term%22%3A%7B%22Pollutant%22%3A%22Benzo(a)pyrene%22%7D%7D%2C%7B%22term%22%3A%7B%22Pollutant%22%3A%22Benzo(b)fluoranthene%22%7D%7D%2C%7B%22term%22%3A%7B%22Pollutant%22%3A%22Benzo(k)fluoranthene%22%7D%7D%2C%7B%22term%22%3A%7B%22Pollutant%22%3A%22CO%22%7D%7D%2C%7B%22term%22%3A%7B%22Pollutant%22%3A%22NMVOC%22%7D%7D%2C%7B%22term%22%3A%7B%22Pollutant%22%3A%22NOx%22%7D%7D%2C%7B%22term%22%3A%7B%22Pollutant%22%3A%22HCB%22%7D%7D%2C%7B%22term%22%3A%7B%22Pollutant%22%3A%22PCB%22%7D%7D%2C%7B%22term%22%3A%7B%22Pollutant%22%3A%22PM10%22%7D%7D%2C%7B%22term%22%3A%7B%22Pollutant%22%3A%22PM2.5%22%7D%7D%2C%7B%22term%22%3A%7B%22Pollutant%22%3A%22SOx%22%7D%7D%2C%7B%22term%22%3A%7B%22Pollutant%22%3A%22TSP%22%7D%7D%5D%7D%7D%2C%7B%22bool%22%3A%7B%22should%22%3A%5B%7B%22term%22%3A%7B%22Fuel%22%3A%22%27Other%27%20Liquid%20Fuels%22%7D%7D%2C%7B%22term%22%3A%7B%22Fuel%22%3A%22Coal%20Fuels%22%7D%7D%2C%7B%22term%22%3A%7B%22Fuel%22%3A%22Hard%20Coal%20and%20Brown%20Coal%22%7D%7D%2C%7B%22term%22%3A%7B%22Fuel%22%3A%22Solid%20Fuel%20(not%20biomass)%22%7D%7D%2C%7B%22term%22%3A%7B%22Fuel%22%3A%22Wood%22%7D%7D%2C%7B%22term%22%3A%7B%22Fuel%22%3A%22Wood%20and%20similar%20wood%20waste%22%7D%7D%2C%7B%22term%22%3A%7B%22Fuel%22%3A%22Biomass%22%7D%7D%2C%7B%22term%22%3A%7B%22Fuel%22%3A%22Brown%20Coal%22%7D%7D%2C%7B%22term%22%3A%7B%22Fuel%22%3A%22Brown%20Coal%2FLignite%22%7D%7D%2C%7B%22term%22%3A%7B%22Fuel%22%3A%22Coking%20Coal%22%7D%7D%2C%7B%22term%22%3A%7B%22Fuel%22%3A%22Gas%20Oil%22%7D%7D%2C%7B%22term%22%3A%7B%22Fuel%22%3A%22Gas%20oil%22%7D%7D%2C%7B%22term%22%3A%7B%22Fuel%22%3A%22Gaseous%20Fuels%22%7D%7D%2C%7B%22term%22%3A%7B%22Fuel%22%3A%22Gaseous%20fuels%22%7D%7D%2C%7B%22term%22%3A%7B%22Fuel%22%3A%22Hard%20Coal%22%7D%7D%2C%7B%22term%22%3A%7B%22Fuel%22%3A%22Heavy%20Fuel%20Oil%22%7D%7D%2C%7B%22term%22%3A%7B%22Fuel%22%3A%22Natural%20Gas%22%7D%7D%2C%7B%22term%22%3A%7B%22Fuel%22%3A%22Natural%20gas%22%7D%7D%2C%7B%22term%22%3A%7B%22Fuel%22%3A%22Residual%20Oil%22%7D%7D%2C%7B%22term%22%3A%7B%22Fuel%22%3A%22Wood%20and%20wood%20waste%20(clean%20wood%20waste)%22%7D%7D%2C%7B%22term%22%3A%7B%22Fuel%22%3A%22Steam%20Coal%20%26%20Sub-Bituminous%20Coal%22%7D%7D%5D%7D%7D%2C%7B%22bool%22%3A%7B%22should%22%3A%5B%7B%22term%22%3A%7B%22code%22%3A%221.A.1.a%20Public%20electricity%20and%20heat%20production%22%7D%7D%5D%7D%7D%5D%7D%7D%7D%7D%2C%22display_type%22%3A%22tabular%22%7D
A254: Lühendid põlemisel tekkivate lenduvate saasteainete kohta: | F254: Nimetus aastaaruannetes
A255: BC | B255: must süsinik, mõõdetakse % PM2.5 suhtes | C255: must süsinik, mõõdetakse % PM2.5 suhtes | D255: must süsinik, mõõdetakse % PM2.5 suhtes | F255: -
A256: CO | B256: CO - süsnikmonooksiid | C256: CO - süsnikmonooksiid | D256: CO - süsnikmonooksiid | F256: Süsinikmonooksiid
A257: NH3 | B257: NH3 - ammoniaak | C257: NH3 - ammoniaak | D257: NH3 - ammoniaak
A258: NMVOC | B258: lenduvad orgaanilised ained v.a. metaan | C258: lenduvad orgaanilised ained v.a. metaan | D258: lenduvad orgaanilised ained v.a. metaan | F258: Lenduvad orgaanilised ühendid kütuse põletamisel
A259: NOx | B259: NOx - lämmastiku oksiidid | C259: NOx - lämmastiku oksiidid | D259: NOx - lämmastiku oksiidid | F259: Lämmastikdioksiid
A260: PM10 | B260: PM10 - tahked osakesed suurusega alla 10 mikromeetri | C260: PM10 - tahked osakesed suurusega alla 10 mikromeetri | D260: PM10 - tahked osakesed suurusega alla 10 mikromeetri | F260: -
A261: PM2.5 | B261: PM2,5 - tahked osakesed suurusega alla 2,5 mikromeetri | C261: PM2,5 - tahked osakesed suurusega alla 2,5 mikromeetri | D261: PM2,5 - tahked osakesed suurusega alla 2,5 mikromeetri | F261: -
A262: TSP | B262: kõik tahked osakesed | C262: kõik tahked osakesed | D262: kõik tahked osakesed | F262: Tahked osakesed, summaarsed
A264: Ühikuteisendus: | E264: g/GJ = kg/TJ

Sheet Heited väiksed kütteseadmed EU
A1: NFR | B1: Sektor | C1: Table | D1: Type | E1: Tehnoloogia | F1: Kütus | G1: Abatement | H1: Region | I1: Saasteaine | J1: Väärtus | K1: Ühik | L1: CI_lower | M1: CI_upper | N1: Kirjandusallikas
A2: 1.A.4.b.i | B2: Olme/elamu põletusseade | C2: Table_3-42 | D2: Tier 2 emission factor | E2: Uuemad / ökomärgisega ahjud ja boilerid | F2: Puit | H2: NA | I2: BC | J2: 28 | K2: % of PM2.5 | L2: 11 | M2: 39 | N2: Goncalves et al. (2010)
A3: 1.A.4.b.i | B3: Olme/elamu põletusseade | C3: Table_3-42 | D3: Tier 2 emission factor | E3: Uuemad / ökomärgisega ahjud ja boilerid | F3: Puit | H3: NA | I3: CO | J3: 2000 | K3: g/GJ | L3: 500 | M3: 5000 | N3: Johansson et al. (2003)
A4: 1.A.4.b.i | B4: Olme/elamu põletusseade | C4: Table_3-42 | D4: Tier 2 emission factor | E4: Uuemad / ökomärgisega ahjud ja boilerid | F4: Puit | H4: NA | I4: NH3 | J4: 37 | K4: g/GJ | L4: 18 | M4: 74 | N4: Roe et al. (2004)
A5: 1.A.4.b.i | B5: Olme/elamu põletusseade | C5: Table_3-42 | D5: Tier 2 emission factor | E5: Uuemad / ökomärgisega ahjud ja boilerid | F5: Puit | H5: NA | I5: NMVOC | J5: 250 | K5: g/GJ | L5: 20 | M5: 500 | N5: EMEP/EEA Guidebook 2009
A6: 1.A.4.b.i | B6: Olme/elamu põletusseade | C6: Table_3-42 | D6: Tier 2 emission factor | E6: Uuemad / ökomärgisega ahjud ja boilerid | F6: Puit | H6: NA | I6: NOx | J6: 95 | K6: g/GJ | L6: 50 | M6: 150 | N6: Pettersson et al. (2011)
A7: 1.A.4.b.i | B7: Olme/elamu põletusseade | C7: Table_3-42 | D7: Tier 2 emission factor | E7: Uuemad / ökomärgisega ahjud ja boilerid | F7: Puit | H7: NA | I7: PM10 | J7: 95 | K7: g/GJ | L7: 19 | M7: 238 | N7: Johansson et al.(2003)
A8: 1.A.4.b.i | B8: Olme/elamu põletusseade | C8: Table_3-42 | D8: Tier 2 emission factor | E8: Uuemad / ökomärgisega ahjud ja boilerid | F8: Puit | H8: NA | I8: PM2.5 | J8: 93 | K8: g/GJ | L8: 19 | M8: 233 | N8: Johansson et al.(2003)
A9: 1.A.4.b.i | B9: Olme/elamu põletusseade | C9: Table_3-42 | D9: Tier 2 emission factor | E9: Uuemad / ökomärgisega ahjud ja boilerid | F9: Puit | H9: NA | I9: TSP | J9: 100 | K9: g/GJ | L9: 20 | M9: 250 | N9: Johansson et al.(2003)
A10: 1.A.4.b.i | B10: Olme/elamu põletusseade | C10: Table_3-19 | D10: Tier 2 emission factor | E10: Uuemad söepõletustehnikad <1MWth - uuemad ahjud | F10: Kivisüsi / kivisöe tahkekütused | H10: NA | I10: BC | J10: 6.4 | K10: % of PM2.5 | L10: 2 | M10: 26 | N10: Zhang et al. (2012)
A11: 1.A.4.b.i | B11: Olme/elamu põletusseade | C11: Table_3-19 | D11: Tier 2 emission factor | E11: Uuemad söepõletustehnikad <1MWth - uuemad ahjud | F11: Kivisüsi / kivisöe tahkekütused | H11: NA | I11: CO | J11: 2000 | K11: g/GJ | L11: 200 | M11: 3000 | N11: Guidebook (2006) chapter B216
A12: 1.A.4.b.i | B12: Olme/elamu põletusseade | C12: Table_3-19 | D12: Tier 2 emission factor | E12: Uuemad söepõletustehnikad <1MWth - uuemad ahjud | F12: Kivisüsi / kivisöe tahkekütused | H12: NA | I12: NMVOC | J12: 300 | K12: g/GJ | L12: 20 | M12: 400 | N12: Guidebook (2006) chapter B216
A13: 1.A.4.b.i | B13: Olme/elamu põletusseade | C13: Table_3-19 | D13: Tier 2 emission factor | E13: Uuemad söepõletustehnikad <1MWth - uuemad ahjud | F13: Kivisüsi / kivisöe tahkekütused | H13: NA | I13: NOx | J13: 150 | K13: g/GJ | L13: 50 | M13: 200 | N13: Guidebook (2006) chapter B216
... A107: 1.A.4.b.i | B107: Olme/elamu põletusseade | C107: Table_3-31 | D107: Tier 2 emission factor | E107: kolbmootor (Reciprocating Engines) | F107: Kerge kütteõli | H107: NA | I107: TSP | J107: 30 | K107: g/GJ | L107: 18 | M107: 42 | N107: BUWAL (2001)
A108: 1.A.4.b.i | B108: Olme/elamu põletusseade | C108: Table_3-49_04 | D108: Tier 2 emission factor | E108: Elamud - Uuemad / ökomärgisega ahjud ja boilerid | F108: Puit | H108: NA | I108: BC | J108: 55 | K108: % of PM2.5 | N108: Denier van der Gon et al. (2015) applied on EFs in Table 3.42
A109: 1.A.4.b.i | B109: Olme/elamu põletusseade | C109: Table_3-49_04 | D109: Tier 2 emission factor | E109: Elamud - Uuemad / ökomärgisega ahjud ja boilerid | F109: Puit | H109: NA | I109: PM10 | J109: 49 | K109: g/GJ | N109: Denier van der Gon et al. (2015) applied on EFs in Table 3.42
A110: 1.A.4.b.i | B110: Olme/elamu põletusseade | C110: Table_3-49_04 | D110: Tier 2 emission factor | E110: Elamud - Uuemad / ökomärgisega ahjud ja boilerid | F110: Puit | H110: NA | I110: PM2.5 | J110: 47 | K110: g/GJ | N110: Denier van der Gon et al. (2015) applied on EFs in Table 3.42
A111: 1.A.4.b.i | B111: Olme/elamu põletusseade | C111: Table_3-49_04 | D111: Tier 2 emission factor | E111: Elamud - Uuemad / ökomärgisega ahjud ja boilerid | F111: Puit | H111: NA | I111: TSP | J111: 54 | K111: g/GJ | N111: Denier van der Gon et al. (2015) applied on EFs in Table 3.42
A112: 1.A.4.b.i | B112: Olme/elamu põletusseade | C112: Table_3-49_05 | D112: Tier 2 emission factor | E112: Elamud - Traditsiooniline boiler < 50 kW | F112: Puit | H112: NA | I112: BC | J112: 54 | K112: % of PM2.5 | N112: Denier van der Gon et al. (2015) applied on EFs in Table 3.43
A113: 1.A.4.b.i | B113: Olme/elamu põletusseade | C113: Table_3-49_05 | D113: Tier 2 emission factor | E113: Elamud - Traditsiooniline boiler < 50 kW | F113: Puit | H113: NA | I113: PM10 | J113: 150 | K113: g/GJ | N113: Denier van der Gon et al. (2015) applied on EFs in Table 3.43
A114: 1.A.4.b.i | B114: Olme/elamu põletusseade | C114: Table_3-49_05 | D114: Tier 2 emission factor | E114: Elamud - Traditsiooniline boiler < 50 kW | F114: Puit | H114: NA | I114: PM2.5 | J114: 140 | K114: g/GJ | N114: Denier van der Gon et al. (2015) applied on EFs in Table 3.43
A115: 1.A.4.b.i | B115: Olme/elamu põletusseade | C115: Table_3-49_05 | D115: Tier 2 emission factor | E115: Elamud - Traditsiooniline boiler < 50 kW | F115: Puit | H115: NA | I115: TSP | J115: 170 | K115: g/GJ | N115: Denier van der Gon et al. (2015) applied on EFs in Table 3.43
A116: 1.A.4.b.i | B116: Olme/elamu põletusseade | C116: Table_3-49_02 | D116: Tier 2 emission factor | E116: Elamud - Traditsiooniline ahi | F116: Puit | H116: NA | I116: BC | J116: 53 | K116: % of PM2.5 | N116: Denier van der Gon et al. (2015) applied on EFs in Table 3.40
A117: 1.A.4.b.i | B117: Olme/elamu põletusseade | C117: Table_3-49_02 | D117: Tier 2 emission factor | E117: Elamud - Traditsiooniline ahi | F117: Puit | H117: NA | I117: PM10 | J117: 160 | K117: g/GJ | N117: Denier van der Gon et al. (2015) applied on EFs in Table 3.40
A118: 1.A.4.b.i | B118: Olme/elamu põletusseade | C118: Table_3-49_02 | D118: Tier 2 emission factor | E118: Elamud - Traditsiooniline ahi | F118: Puit | H118: NA | I118: PM2.5 | J118: 140 | K118: g/GJ | N118: Denier van der Gon et al. (2015) applied on EFs in Table 3.40
A119: 1.A.4.b.i | B119: Olme/elamu põletusseade | C119: Table_3-49_02 | D119: Tier 2 emission factor | E119: Elamud - Traditsiooniline ahi | F119: Puit | H119: NA | I119: TSP | J119: 200 | K119: g/GJ | N119: Denier van der Gon et al. (2015) applied on EFs in Table 3.40
... A131: 1.A.4.b.i | B131: Olme/elamu põletusseade | C131: Table_3-49_06 | D131: Tier 2 emission factor | E131: Elamud - Pelletahjud ja -boilerid (pelletite põletamine) | F131: Puit | H131: NA | I131: TSP | J131: 32 | K131: g/GJ | N131: Denier van der Gon et al. (2015), for BC applied on Schmidl et al. (2011)
A132: 1.A.4.b.i | B132: Olme/elamu põletusseade | C132: Table_3-18 | D132: Tier 2 emission factor | E132: Väikesed (üksikelamu skaalas, võimsus <= 50 kWth) boilerid | F132: Kerge kütteõli | H132: NA | I132: BC | J132: 3.9 | K132: % of PM2.5 | L132: 2 | M132: 8 | N132: US EPA (2011)
A133: 1.A.4.b.i | B133: Olme/elamu põletusseade | C133: Table_3-18 | D133: Tier 2 emission factor | E133: Väikesed (üksikelamu skaalas, võimsus <= 50 kWth) boilerid | F133: Kerge kütteõli | H133: NA | I133: CO | J133: 3.7 | K133: g/GJ | L133: 2 | M133: 5 | N133: Italian Ministry for the Environment (2005)
A134: 1.A.4.b.i | B134: Olme/elamu põletusseade | C134: Table_3-18 | D134: Tier 2 emission factor | E134: Väikesed (üksikelamu skaalas, võimsus <= 50 kWth) boilerid | F134: Kerge kütteõli | H134: NA | I134: NMVOC | J134: 0.17 | K134: g/GJ | L134: 0.06 | M134: 0.51 | N134: Italian Ministry for the Environment (2005)
A135: 1.A.4.b.i | B135: Olme/elamu põletusseade | C135: Table_3-18 | D135: Tier 2 emission factor | E135: Väikesed (üksikelamu skaalas, võimsus <= 50 kWth) boilerid | F135: Kerge kütteõli | H135: NA | I135: NOx | J135: 69 | K135: g/GJ | L135: 41 | M135: 97 | N135: Italian Ministry for the Environment (2005)
A136: 1.A.4.b.i | B136: Olme/elamu põletusseade | C136: Table_3-18 | D136: Tier 2 emission factor | E136: Väikesed (üksikelamu skaalas, võimsus <= 50 kWth) boilerid | F136: Kerge kütteõli | H136: NA | I136: PM10 | J136: 1.5 | K136: g/GJ | L136: 1 | M136: 2 | N136: *
A137: 1.A.4.b.i | B137: Olme/elamu põletusseade | C137: Table_3-18 | D137: Tier 2 emission factor | E137: Väikesed (üksikelamu skaalas, võimsus <= 50 kWth) boilerid | F137: Kerge kütteõli | H137: NA | I137: PM2.5 | J137: 1.5 | K137: g/GJ | L137: 1 | M137: 2 | N137: *
A138: 1.A.4.b.i | B138: Olme/elamu põletusseade | C138: Table_3-18 | D138: Tier 2 emission factor | E138: Väikesed (üksikelamu skaalas, võimsus <= 50 kWth) boilerid | F138: Kerge kütteõli | H138: NA | I138: TSP | J138: 1.5 | K138: g/GJ | L138: 1 | M138: 2 | N138: Italian Ministry for the Environment (2005)
A139: 1.A.4.b.i | B139: Olme/elamu põletusseade | C139: Table_3-16 | D139: Tier 2 emission factor | E139: Väikesed (üksikelamu skaalas, võimsus <= 50 kWth) boilerid | F139: Maagaas | H139: NA | I139: BC | J139: 5.4 | K139: % of PM2.5 | L139: 2.7 | M139: 11 | N139: Hildemann et al. (1991), Muhlbaier (1981) **
A140: 1.A.4.b.i | B140: Olme/elamu põletusseade | C140: Table_3-16 | D140: Tier 2 emission factor | E140: Väikesed (üksikelamu skaalas, võimsus <= 50 kWth) boilerid | F140: Maagaas | H140: NA | I140: CO | J140: 22 | K140: g/GJ | L140: 18 | M140: 42 | N140: DGC (2009)
A141: 1.A.4.b.i | B141: Olme/elamu põletusseade | C141: Table_3-16 | D141: Tier 2 emission factor | E141: Väikesed (üksikelamu skaalas, võimsus <= 50 kWth) boilerid | F141: Maagaas | H141: NA | I141: NMVOC | J141: 1.8 | K141: g/GJ | L141: 1.1 | M141: 2.5 | N141: Italian Ministry for the Environment (2005)
A142: 1.A.4.b.i | B142: Olme/elamu põletusseade | C142: Table_3-16 | D142: Tier 2 emission factor | E142: Väikesed (üksikelamu skaalas, võimsus <= 50 kWth) boilerid | F142: Maagaas | H142: NA | I142: NOx | J142: 42 | K142: g/GJ | L142: 25 | M142: 59 | N142: DGC (2009)
A143: 1.A.4.b.i | B143: Olme/elamu põletusseade | C143: Table_3-16 | D143: Tier 2 emission factor | E143: Väikesed (üksikelamu skaalas, võimsus <= 50 kWth) boilerid | F143: Maagaas | H143: NA | I143: PM10 | J143: 0.2 | K143: g/GJ | L143: 0.12 | M143: 0.28 | N143: BUWAL (2001)
... A180: 1.A.4.b.i | B180: Olme/elamu põletusseade | C180: Table_3-13 | D180: Tier 2 emission factor | E180: Ahjud, kaminad, saunad ja välisoojendid (Outdoor Heaters) | F180: Maagaas | H180: NA | I180: TSP | J180: 2.2 | K180: g/GJ | L180: 1.3 | M180: 3.1 | N180: Zhang et al. (2000)
...

Sheet Kütteväärtused CO2 CH4 N2O EU
A1: Allikas: | B1: GREENHOUSE GAS EMISSIONS IN ESTONIA 1990-2019 NATIONAL INVENTORY REPORT | I1: https://unfccc.int/sites/default/files/resource/est-2021-nir-15apr21_0.zip
A2: Tabelid: 3.9 lk 84-85 ja 3.10 lk 86-87, 3.11-3.13 lk 87 - suurenergeetika ja siin lehel all lõpus tabel 3.33 lk 119 ja osa tabelist Table1.A(a)s4 - kodumajapidamised | I2: https://unfccc.int/ghg-inventories-annex-i-parties/2020
A3: Table 3.9. Carbon emission factors, oxidation factors and net calorific values by fuels for 2019 | H3: Table 3.10. CH4 and N2O emission factors by fuel, kg/TJ
A4: Fuels | B4: NCV | C4: Unit | D4: CEF, tC/TJ | E4: Oxidation factor | F4: Source of emission factor | H4: Fuels | I4: Energy Industry | K4: Manufacturing Industry | M4: Source | O4: KIK märkus: 2026. aastal avaldatud "GREENHOUSE GAS EMISSIONS IN ESTONIA 1990-2024 NATIONAL INVENTORY DOCUMENT" aruandes kütteväärtused ei erine oluliselt siintoodud väärtustest, mistõttu neid käesolevas tabelis ei uuendata.
B5: average | I5: CH4 | J5: N2O | K5: CH4 | L5: N2O
A6: Liquid fuels | H6: Liquid fuels
A7: LPG | B7: 45.5 | C7: GJ/t | D7: 17.73 | E7: 1 | F7: CS (Estonia) | H7: LPG (Liquefied Petrol Gas) | I7: 1 | J7: 0.1 | K7: 1 | L7: 0.1 | M7: D, IPCC 2006
A8: Gasoline (for non-road transport) | B8: 44 | C8: GJ/t | D8: 19.09 | E8: 1 | F8: CS (Estonia) | H8: Gasoline | I8: 3 | J8: 0.6 | K8: 3 | L8: 0.6 | M8: D, IPCC 2006
A9: Light fuel oil | B9: 42.5 | C9: GJ/t | D9: 20.26 | E9: 1 | F9: CS (Estonia) | H9: Gasoil (light fuel oil) | I9: 3 | J9: 0.6 | K9: 3 | L9: 0.6 | M9: D, IPCC 2006
A10: Shale oil (heavy fraction) | B10: 39.22 | C10: GJ/t | D10: 21.1 | E10: 1 | F10: CS, MoE 2017 | H10: Gasoil (for non-road use) | I10: 3 | J10: 0.6 | K10: 3 | L10: 0.6 | M10: D, IPCC 2006
A11: Shale oil (light fraction) | B11: 42.3 | C11: GJ/t | D11: 20.2 | E11: 1 | F11: CS (Estonia), MoE 2017 | H11: Shale oil | I11: 3 | J11: 0.6 | K11: 3 | L11: 0.6 | M11: D, IPCC 2006
A12: Diesel oil | B12: 42.3 | C12: GJ/t | D12: 19.87 | E12: 1 | F12: CS (Estonia) | H12: Diesel oil | I12: 3 | J12: 0.6 | K12: 3 | L12: 0.6 | M12: D, IPCC 2006
A13: Residual fuel oil (heavy fuel oil) | B13: 40.15 | C13: GJ/t | D13: 20.92 | E13: 1 | F13: CS (Estonia) | H13: Residual fuel oil (heavy fuel oil) | I13: 3 | J13: 0.6 | K13: 3 | L13: 0.6 | M13: D, IPCC 2006
A14: Solid fuels | H14: Recycled waste oil | I14: 30 | J14: 0.6 | K14: 30 | L14: 0.6 | M14: D, IPCC 2006
A15: Coal | B15: 22 | C15: GJ/t | D15: 25.74 | E15: 1 | F15: CS (Estonia) | H15: Solid fuels
A16: Coke oven coke | B16: 28.5 | C16: GJ/t | D16: 29.02 | E16: 1 | F16: CS (Estonia) | H16: Coal | I16: 1 | J16: 1.5 | K16: 10 | L16: 1.5 | M16: D, IPCC 2006
A17: Oil shale CFB (fludised bed combustion) | B17: 8.16 | C17: GJ/t | D17: 26,42 – | E17: 1 | F17: PS (Estonia) | H17: Coke oven coke | K17: 10 | L17: 1.5 | M17: D, IPCC 2006
D18: 27.25 | H18: Oil shale PC12 | I18: 0 | J18: 0 | K18: 10 | L18: 1.5 | M18: CS, A.Ots/ D, IPCC
A19: Oil shale PC (pulverised combustion) | B19: 7.47 | C19: GJ/t | D19: 27,76 – | E19: 1 | F19: PS (Estonia) | L19: 1.5 | M19: 2006
D20: 29.14 | H20: Oil shale FBC* | I20: 0 | J20: 0.82 | K20: 10 | L20: 1.5 | M20: CS, EE/ D, IPCC 2006
A21: Milled peat | B21: 9.7 | C21: GJ/t | D21: 28.9 | E21: 1 | F21: D, IPCC 2006 | H21: Milled peat | I21: 1 | J21: 1.5 | K21: 2 | L21: 1.5 | M21: D, IPCC 2006
A22: Sod peat1 | B22: 12 | C22: GJ/t | D22: 27.82 | E22: 1 | F22: FI (Finland) | H22: Sod peat | I22: 1 | J22: 1.5 | K22: 2 | L22: 1.5 | M22: D, IPCC 2006
A23: Peat briquette | B23: 16 | C23: GJ/t | D23: 26.45 | E23: 1 | F23: FI (Finland) | H23: Peat briquette | I23: 1 | J23: 1.5 | K23: 2 | L23: 1.5 | M23: D, IPCC 2006
A24: Oil shale semi-coke gas (SHC technology, Narva Enefit 140 plant) | B24: 54.59 | C24: GJ/1000 m3 | D24: 18.9 | E24: 1 | F24: PS (Estonia) | H24: Oil shale gases (semi-coke gas and generator gas) | I24: 1 | J24: 0.1 | K24: 1 | L24: 0.1 | M24: D, IPCC 2006 (of natural gas)
A25: Oil shale semi-coke gas (SHC technology, Narva Enefit 280 plant) | B25: 46.12 | C25: GJ/1000 m3 | D25: 19.52 | E25: 1 | F25: PS (Estonia) | H25: Oil shale gases (semi-coke gas and generator gas) | I25: 1 | J25: 0.1 | K25: 1 | L25: 0.1 | M25: D, IPCC 2006 (of natural gas)
A26: Oil shale semi-coke gas (VKG Petroter I plant) | B26: 43.96 | C26: GJ/1000 m3 | D26: 18.44 | E26: 1 | F26: PS (Estonia) | H26: Oil shale gases (semi-coke gas and generator gas) | I26: 1 | J26: 0.1 | K26: 1 | L26: 0.1 | M26: D, IPCC 2006 (of natural gas)
A27: Oil shale semi-coke gas (VKG Petroter | B27: 43.96 | C27: GJ/1000 m3 | D27: 18.44 | E27: 1 | F27: PS (Estonia) | H27: Oil shale gases (semi-coke gas and generator gas) | I27: 1 | J27: 0.1 | K27: 1 | L27: 0.1 | M27: D, IPCC 2006 (of natural gas)
A28: II plant) | H28: Oil shale gases (semi-coke gas and generator gas) | I28: 1 | J28: 0.1 | K28: 1 | L28: 0.1 | M28: D, IPCC 2006 (of natural gas)
A29: Oil shale generators gas (VKG Petroter | B29: 43.96 | C29: GJ/1000 m3 | D29: 18.44 | E29: 1 | F29: PS (Estonia) | H29: Oil shale gases (semi-coke gas and generator gas) | I29: 1 | J29: 0.1 | K29: 1 | L29: 0.1 | M29: D, IPCC 2006 (of natural gas)
A30: III plant) | H30: Oil shale gases (semi-coke gas and generator gas) | I30: 1 | J30: 0.1 | K30: 1 | L30: 0.1 | M30: D, IPCC 2006 (of natural gas)
A31: Oil shale semi-coke gas (Kiviõli plant) | B31: 49.33 | C31: GJ/1000 m3 | D31: 17.94 | E31: 1 | F31: PS (Estonia) | H31: Oil shale gases (semi-coke gas and generator gas) | I31: 1 | J31: 0.1 | K31: 1 | L31: 0.1 | M31: D, IPCC 2006 (of natural gas)
A32: Oil shale generator gas (Kiviõli plant) | B32: 4.24 | C32: GJ/1000 m3 | D32: 38.99 | E32: 1 | F32: PS (Estonia) | H32: Oil shale gases (semi-coke gas and generator gas) | I32: 1 | J32: 0.1 | K32: 1 | L32: 0.1 | M32: D, IPCC 2006 (of natural gas)
A33: Oil shale generator gas (VKG plant) | B33: 3.4 | C33: GJ/1000 m3 | D33: 42.61 | E33: 1 | F33: PS (Estonia) | H33: Oil shale gases (semi-coke gas and generator gas) | I33: 1 | J33: 0.1 | K33: 1 | L33: 0.1 | M33: D, IPCC 2006 (of natural gas)
A34: Gas gasoline | B34: 44 | C34: GJ/t | D34: 19.09 | E34: 1 | F34: CS (Estonia) | H34: Gasoline | I34: 3 | J34: 0.6 | K34: 3 | L34: 0.6 | M34: D, IPCC 2006
A35: Waste oils (CRF 1A2f)* | B35: 16 | C35: GJ/t | D35: 20.18 | F35: PS, Kunda Nordic Cement | H35: Waste oils | K35: 30 | L35: 4
A36: Other fossil based solid waste (MSW) (CRF 1A2f) | B36: 19.3 | C36: GJ/t | D36: 21.82 | E36: 1 | F36: PS, Kunda Nordic Cement | H36: Other fossil based waste (MSW) | K36: 30 | L36: 4 | M36: D, IPCC 2006
A37: Plastic waste (CRF 1A2f) | B37: 21.12 | C37: GJ/t | D37: 20.45 | E37: 1 | F37: PS, Kunda Nordic Cement | H37: Plastic waste | K37: 30 | L37: 4 | M37: D, IPCC 2006
A38: Municipal solid waste (CRF 1A1a) | B38: 9 | C38: GJ/t | D38: 17.94 | E38: 1 | F38: PS, Iru incineration plant | H38: Municipal solid waste | I38: 30 | J38: 4
A39: Gaseous fuels | H39: Gaseous fuels
A40: Natural gas | B40: 33.6 | C40: GJ/1000 m3 | D40: 15.07 | E40: 1 | F40: CS (Estonia) | H40: Natural gas | I40: 1 | J40: 0.1 | K40: 1 | L40: 0.1 | M40: D, IPCC 2006
...

Sheet Kütteväärtused EE
A1: Majandus- ja kommunikatsiooniministri | F1: Ümberarvutus:
B2: 8. oktoobri 2012. a määrus nr 63 | F2: 1Wh=3,6kJ | G2: 3.6
B3: „Hoonete energiatõhususe arvutamise metoodika” | F3: 1kWh=3600kJ=3,6MJ
B4: Lisa 4
A6: Kütuste tarbimisaine alumised kütteväärtused
A8: Kütus | B8: Alumine kütteväärtus
B9: kWh/kg | C9: kWh/l | D9: kWh/m3 | E9: MJ/kg | F9: MJ/l | G9: MJ/m3
A10: Põlevkiviõli | B10: 10.8 | C10: 10 | E10: =B10*$G$2 -> 38.88 | F10: =C10*$G$2 -> 36
A11: Kerge kütteõli | B11: 11.7 | C11: 10 | E11: =B11*$G$2 -> 42.12 | F11: =C11*$G$2 -> 36
A12: Diislikütus | B12: 11.7 | C12: 9.7 | E12: =B12*$G$2 -> 42.12 | F12: =C12*$G$2 -> 34.92
A13: Masuut | B13: 11.3 | C13: 10.9 | E13: =B13*$G$2 -> 40.68 | F13: =C13*$G$2 -> 39.24
A14: Maagaas | D14: 9.3 | G14: =D14*$G$2 -> 33.48
A15: Vedelgaas (propaan + butaan) | B15: 12.8 | E15: =B15*$G$2 -> 46.08
A16: Biogaas1 | D16: 6 | G16: =D16*$G$2 -> 21.6
A17: Halupuit (niiskussisaldus2 ≤20%) | B17: 4.1 | E17: =B17*$G$2 -> 14.76
A18: Küttepuud, segapuit (ruumimeeter) | D18: 1300 | G18: =D18*$G$2 -> 4680
A19: Küttepuud, kask (ruumimeeter) | D19: 1500 | G19: =D19*$G$2 -> 5400
A20: Puiduhake (puistekuupmeeter) | D20: 800 | G20: =D20*$G$2 -> 2880
A21: Puitbrikett (niiskussisaldus2 ≤12%) | B21: 4.6 | E21: =B21*$G$2 -> 16.56
A22: Puitpellet (niiskussisaldus2 ≤12%) | B22: 4.6 | E22: =B22*$G$2 -> 16.56
A23: Turbabrikett (niiskussisaldus2 ≤20%) | B23: 4.2 | E23: =B23*$G$2 -> 15.12
A24: Tükkturvas (niiskussisaldus2 ≤40%) | B24: 3.4 | E24: =B24*$G$2 -> 12.24
A25: Freesturvas (niiskussisaldus2 ≤50%) | B25: 2.8 | E25: =B25*$G$2 -> 10.08
A26: Kivisüsi | B26: 7 | E26: =B26*$G$2 -> 25.2
A28: 1 ligikaudne väärtus, tegelik väärtus kõigub sõltuvalt toormest
A29: 2 niiskussisaldused massiprotsentides

Sheet puidu arvutused
A1: Küttepuud (cerbos.ee)
A2: Küttepuude kütteväärtus
A4: Kütteväärtus on soojushulk, mis eraldub puidu põlemisel. Erinevatel puuliikidel on erinev kütteväärtus. Enamlevinud küttepuude keskmised kütteväärtused 20% puiduniiskuse juures ("Puitkütus" 2010, SA Erametsakeskus):
A8: kask 1700 kWh/rm
A9: mänd 1360 kWh/rm
A10: haab 1330 kWh/rm
A11: kuusk 1320 kWh/rm
A12: lepp 1230 kWh/rm
A14: Küttepuude koguse mõõtmine
A16: Küttepuude tellimisel on oluline aru saada erinevatest kasutuselolevatest mõõtühikutest ja nendevahelistest seostest:
A19: Tihumeeter (tm) on 1 m3 puhta puidu maht ilma koore ja õhuvahedeta (1 m × 1 m × 1 m).
A20: Ruumimeeter (rm) on 1 m3 virna/riita laotud halgudelt mõõdetud metsamaterjali kogus koos koore ja õhuvahedega.
... A24: Järgnev tabel aitab paremini mõista seoseid mõõtühikute vahel
G27: TREA ettekanne, slaid 27 (allikas Wood Fuels…, 2000)
B28: Küttepuud (cerbos.ee) | G28: https://www.trea.ee/ettekanded/UloKaskspets_loeng_1_18_04_2017.pdf
B29: Puisteruum | C29: Laotud ruum e ruumimeeter | D29: Tihumeeter | H29: Puisteruum | I29: Laotud ruum e ruumimeeter | J29: Tihumeeter
A30: Puisteruum | B30: 1 | C30: 0.67 | D30: 0.44 | G30: Puisteruum | H30: 1 | I30: 0.6 | J30: 0.4
A31: Laotud ruum e ruumimeeter | B31: 1.5 | C31: 1 | D31: 0.67 | G31: Laotud ruum e ruumimeeter | H31: 1.68 | I31: 1 | J31: 0.67
A32: Tihumeeter | B32: 2.25 | C32: 1.5 | D32: 1 | G32: Tihumeeter | H32: 2.5 | I32: 1.49 | J32: 1
A34: Puisteruum - puud koos õhuvahedega (ca 46% puitu ja 54% õhuvahed). | I34: slaid 40
A35: Laotud ruum - puud koos õhuvahedega (ca 69% puitu ja 31% õhuvahed).
A36: Tihumeeter - puud ilma õhuvahedeta (ca 100% puitu õhuvahedeta).
A39: Tavapraktikas korrutatakse ruumimeetrid koefitsiendiga 0,5-0,6, et saada puidu mahtu tihumeetrites. Alati on oluline pöörata tähelepanu, kas müüja poolt pakutav hind kehtib tihumeetri, riidaruumi või puisteruumi kohta. Juhul kui osta kolme meetri pikkuseid saagimata ja lõhkumata küttepuid, moodustavad õhuvahed virnas olevate puude puhul keskmiselt 50% ehk 1 tihumeeter
A44: Küttepuude erikaal
A45: Kuivade küttepuude kaal on märgadega võrreldes tunduvalt väiksem. Küttepuu kuivab peaaegu kaks korda kokku. Tihe küttepuu annab kütmisel rohkem soojust.
A48: Kaal 20% niiskuse juures:
A49: - 1 ruumimeeter (rm) kasehalge kaalub u 480 kg
A50: - 1 rm kuusehalge kaalub u 330 kg
A51: - 1 rm lepahalge kaalub u 400 kg
A53: Keskmine ruumimeetri kaal | B53: =AVERAGE(480,330,400) -> 403.33333 | C53: kg/rm
A54: Kask ruumimeetri kaal | B54: 330 | C54: kg/rm
A55: Puistekuupmeetri kaal | B55: =B53*C31/B31 -> 268.88889 | C55: kg/pk
A56: Puiduhakke puistekuupmeetri kaal | B56: =AVERAGE(250,400) -> 325 | C56: kg/rm

Sheet Elekter 2025
A1: Eesti 2025. a elektri segajäägi CO2 sisaldus.
A2: Segajääk väljendab elektrienergia päritolu, kui see ei ole tõendatud päritolutunnistustega | F2: Andmeallikas: | G2: https://www.elextra.ee/segajaak
B4: g/kWh
A5: CO2 | B5: 467.35
A6: N2O | B6: NA | D6: * Elering ega AIB ei avalikusta segajäägi CH4 ja N2O komponenti
A7: CH4 | B7: NA
A9: Andmed lahtrites, mis puudutavad erinevatest taastumatutest lähteainetsest elektri tootmist Eestis, on Eesti Keskkonnauuringute Keskuse poolt antud 2020. aasta EL heitkogustega kauplemissüseemi (European Union Emission Trading Scheme) aruandluse andmed. Andmed ei ole avalikult viidatavad.
A10: Kasvuhoonegaaside eriheited (sinised numbrid) on saadud dokumentidest Greenhouse gas emissions in Estonia 1990-2020. National inventory report.” Lk. 79-80 “Table 3.9. Carbon emission factors, oxidation factors and net calorific values by fuels for 2020” ja lk. 81-82 “CH4 and N2O emission factors by fuel, kg/TJ”. Süsiniku eriheide on tC/TJ CO2 arvutamiseks ja CH4 ning N2O puhul on kg/TJ. Samad andmed ka Estonia 1990-2020. National inventory report.”
A11: Taastuvenergia abil toodetud elektri andmed on pärit Eesti Taastuvenergia koja aastaraamatust 2020 lk 15. 2021 aasta andmed on pärit stastistikaametist. | I11: ETEK_aastaraamat_2020_veebi (taastuvenergeetika.ee)
I12: KE033: ELEKTRIJAAMADE TOODANG JA ENERGIA TOOTMISEKS TARBITUD KÜTUS. Statistika andmebaas
C14: 2020 | D14: 2021 | J14: Allikas: statistikaamet | K14: https://andmed.stat.ee/et/stat/majandus__energeetika__energia-tarbimine-ja-tootmine__aastastatistika/KE033/table/tableViewLayout2
A15: Oil ShalePC (pulverised combustion) | B15: TJ | C15: 4527.8918 | D15: TJ | E15: =G15*$N$17/$O$17 -> 12888.009 | F15: GWh | G15: =L22 -> 3579 | N15: Teisendus
B16: Carbon Emission Factor, tC/TJ | C16: heide, t CO2 | D16: Carbon Emission Factor, tC/TJ | E16: heide, t CO2 | F16: Carbon Emission Factor, tC/TJ | G16: heide, t CO2 | L16: 2021 | N16: TJ = | O16: =GWh
A17: CO2 | B17: 29.452968 | C17: =$B$17*C15/1000*(44/12) -> 488.98613 | D17: 29.452968 | E17: =$B$17*E15/1000*(44/12) -> 1391.8304 | F17: =D17/$O$17 -> 106.06038 | G17: =F17*G15/1000*(44/12) -> 1391.8304 | L17: Kõik elektrijaamad | N17: 1 | O17: 0.2777
B18: CH4 and N2O emission factors by fuel, kg/TJ | C18: heide, t CH4 või N2O | D18: CH4 and N2O emission factors by fuel, kg/TJ | E18: heide, t CH4 või N2O | F18: CH4 and N2O emission factors by fuel, kg/TJ | G18: heide, t CH4 või N2O | J18: Kokku | K18: Toodetud elektrienergia, GWh | L18: 7359 | N18: =N17*O18/O17 -> 26499.82 | O18: =L18 -> 7359
A19: CH4 | B19: 0 | C19: 0 | D19: 0 | E19: 0 | F19: 0 | G19: 0 | K19: Elektrienergia tootmiseks tarbitud kütus | L19: ..
A20: N2O | B20: 0 | C20: 0 | D20: 0 | E20: 0 | F20: 0 | G20: 0 | J20: Kivisüsi, tuhat t | K20: Toodetud elektrienergia, GWh | L20: ..
A21: t CO2 eq | C21: =C17+C19*25+C20*298 -> 488.98613 | E21: =E17+E19*25+E20*298 -> 1391.8304 | G21: =G17+G19*25+G20*298 -> 1391.8304 | K21: Elektrienergia tootmiseks tarbitud kütus | L21: ..
J22: Põlevkivi, tuhat t | K22: Toodetud elektrienergia, GWh | L22: 3579
A23: Oil Shale FBC (fludised bed combustion) | B23: TJ | C23: 17686.378 | K23: Elektrienergia tootmiseks tarbitud kütus | L23: 4357
B24: Carbon Emission Factor, tC/TJ | C24: heide, t CO2 | J24: Turvas, tuhat t | K24: Toodetud elektrienergia, GWh | L24: ..
A25: CO2 | B25: 27.406802 | C25: =$B$25*C23/1000*44/12 -> 1777.3326 | K25: Elektrienergia tootmiseks tarbitud kütus | L25: ..
B26: CH4 and N2O emission factors by fuel, kg/TJ | C26: heide, t CH4 või N2O | J26: Puiduhake ja -jäätmed, tuhat tm | K26: Toodetud elektrienergia, GWh | L26: 1694
A27: CH4 | B27: 0 | C27: 0 | K27: Elektrienergia tootmiseks tarbitud kütus | L27: 1512
A28: N2O | B28: 0.82 | C28: =$B$28*C23/10^6 -> 0.01450283 | J28: Raske kütteõli, tuhat t | K28: Toodetud elektrienergia, GWh | L28: ..
A29: t CO2 eq | C29: =C25+C27*25+C28*298 -> 1781.6544 | K29: Elektrienergia tootmiseks tarbitud kütus | L29: ..
J30: Põlevkivikütteõli (raske fraktsioon), tuhat t | K30: Toodetud elektrienergia, GWh | L30: 37
A31: Milled Peat | B31: TJ | C31: 28.224 | G31: 0 | K31: Elektrienergia tootmiseks tarbitud kütus | L31: 11
B32: Carbon Emission Factor, tC/TJ | C32: heide, t CO2 | J32: Diislikütus, tuhat t | K32: Toodetud elektrienergia, GWh | L32: ..
A33: CO2 | B33: 28.9 | C33: =$B$33*C31/1000*3.664 -> 2.9886281 | K33: Elektrienergia tootmiseks tarbitud kütus | L33: ..
B34: CH4 and N2O emission factors by fuel, kg/TJ | C34: heide, t CH4 või N2O | J34: Maagaas, mln m³ | K34: Toodetud elektrienergia, GWh | L34: 42
A35: CH4 | B35: 1.3812734 | C35: =$B$35*C31/10^6 -> 3.8985059e-05 | K35: Elektrienergia tootmiseks tarbitud kütus | L35: 6
A36: N2O | B36: 2.0039509 | C36: =$B$36*C31/10^6 -> 5.6559509e-05 | J36: Biogaasid, mln m³ | K36: Toodetud elektrienergia, GWh | L36: 15
A37: CO2 eq | C37: =C33+C35*25+C36*298 -> 3.0064574 | K37: Elektrienergia tootmiseks tarbitud kütus | L37: 4
J38: Jäätmekütus, tuhat t | K38: Toodetud elektrienergia, GWh | L38: 151
A39: BIOMASS | K39: Elektrienergia tootmiseks tarbitud kütus | L39: 57
A40: Solid Biomass | J40: Muud taastuvad allikad, TJ | K40: Toodetud elektrienergia, GWh | L40: 20
A41: Wood and wood waste | B41: TJ | C41: 11294 | D41: TJ | E41: =G41*$N$17/$O$17 -> 6100.108 | F41: GWh | G41: =L26 -> 1694 | K41: Elektrienergia tootmiseks tarbitud kütus | L41: 123
B42: Carbon Emission Factor, tC/TJ | C42: heide, t CO2 | D42: Carbon Emission Factor, tC/TJ | E42: heide, t CO2 | F42: Carbon Emission Factor, tC/TJ | G42: heide, t CO2 | J42: Põlevkivigaas, TJ | K42: Toodetud elektrienergia, GWh | L42: 711
A43: CO2 wood | B43: 0 | D43: 0 | F43: =D43*$O$17 -> 0 | G43: =F43*G41/1000*(44/12) -> 0 | K43: Elektrienergia tootmiseks tarbitud kütus | L43: 8253
...
