Workbook
Name _ftn1: 'Kütteväärtused CO2 CH4 N2O EU'!$A$49
Name _ftnref1: 'Kütteväärtused CO2 CH4 N2O EU'!$A$23
Name Fatores_Categoria: OFFSET([1]Fatores!$E$1,0,0,COUNTA([1]Fatores!$E:$E))
Name Fatores_Nome: OFFSET([1]Fatores!$F$1,0,0,COUNTA([1]Fatores!$F:$F))
Name Fatores_TipoFonte: OFFSET([1]Fatores!$C$1,0,0,COUNTA([1]Fatores!$C:$C))
Name Fatores_Unidade1: OFFSET([1]Fatores!$I$1,0,0,COUNTA([1]Fatores!$I:$I))
Name Fatores_Unidade2: OFFSET([1]Fatores!$J$1,0,0,COUNTA([1]Fatores!$J:$J))
Name Fatores_Valor: OFFSET([1]Fatores!$G$1,0,0,COUNTA([1]Fatores!$G:$G))
Name Option_A_0_B_1: [2]About!$B$87

Sheet Tulemused
A1: Projekti nimetus: | B1: ='CO2 arvutus'!B3 -> Näiteks: Tõravere soojatorustiku rekonstrueerimine
A2: 1. | B2: Soojustorustiku renoveerimine ja lokaalkütet kasutava hoone tarbijapaigaldise ühendamine olemasoleva kaugküttevõrguga (määruse § 5 lõike 1 punktides 1 ja 3 nimetatud tegevuste elluviimiseks koostatud projekt) | H2: Max punktid
A3: 1.1 | B3: Projekti tulemusena renoveeritavas soojustorustiku lõigus kokkuhoitud aastane soojusenergia võrreldes eelnenud aasta andmetega | C3: ='CO2 arvutus'!B23 -> 72.996776 | D3: % | E3: <50% | F3: 50-70% | G3: >70% | H3: 30
A4: 1.2 | B4: Aastas kokku hoitavate kasvuhoonegaaside kogus süsinikdioksiidi ekvivalenttonnides, võrreldes taotluse esitamisele eelnenud aasta andmetega | C4: ='CO2 arvutus'!B24 -> 28.794887 | D4: t CO2e / aastas | E4: Projektide punktid kujunevad pingerea alusel, kusjuures kõige suuremat kokkuhoidu saavutav projekt saab maksimumpunktid ja kõige vähem kokkuhoidnud projekt saab 0 punkti. | H4: 20
A6: 2. | B6: Soojuse tootmise seadme renoveerimine (määruse § 5 lõike 1 punktis 2 nimetatud tegevuse elluviimiseks koostatud projekt)
A7: 2.1 | B7: Aastas kokku hoitavate kasvuhoonegaaside heitkogus süsinikdioksiidi ekvivalenttonnides renoveeritava või uue ehitatava soojuse tootmise seadme kohta võrreldes taotluse esitamisele eelnenud aasta andmetega | C7: ='CO2 arvutus'!N112 -> 0 | D7: t CO2e / aastas | E7: Projektide punktid kujunevad pingerea alusel, kusjuures kõige suurema näitaja saavutav projekt saab maksumumpunktid ja kõige väiksema näitajaga projekt saab 0 punkti. | H7: 25
B8: ='CO2 arvutus'!A118 -> Aastane energia kokkuhoid soojuse tootmisel | C8: ='CO2 arvutus'!C118 -> 0 | D8: MWh/aastas
A9: 2.8 | B9: ='CO2 arvutus'!A15 -> Soojusjaama efektiivsus | C9: ='CO2 arvutus'!C15 -> 0.96 | D9: - | E9: ≤1,3 | F9: - | G9: >1,3 | H9: 10 | I9: Arvutatud kogu tootmisjaama prognoositav kasutegur või soojustegur peale projekti elluviimist.
B11: ='CO2 arvutus'!A125 -> Summaarne energia kokkuhoid (koos torustiku renoveerimisega) | C11: ='CO2 arvutus'!B125 -> 439.28 | D11: MWh/aastas
B12: Taastuvenergia täiendav kasutuselevõtt | C12: ='CO2 arvutus'!B123 -> 0 | D12: MWh/aastas
B13: Muu kaasneva õhuheide muutus | C13: ='CO2 arvutus'!Y112/1000 -> 0 | D13: t/aastas

Sheet CO2 arvutus
A1: Taotleja täidab kollased lahtrid!
A3: Projekti nimetus: | B3: Näiteks: Tõravere soojatorustiku rekonstrueerimine
A4: Valida loendist missugusele küttelahendusele minnakse üle | C4: Kui soojustootmisseadme vahetust ei toimu, jätta lahter tühjaks
A6: Kaugkütte pakkuja | B6: SW Energia | O6: https://kotkas.envir.ee/permits/public_index
A7: Soojustootmisjaama nimi | B7: Tõravere katlamaja
A8: Keskkonnaloa nr | B8: L.ÕV.TM-43364 | G8: Aastaaruande saab otsida keskonnaloa numbri ja aasta järgi andmebaasist KOTKAS. Kopeeri vajalikud andmed läbipaistvuse suurendamiseks lehele Katlamaja. Kui arunaded KOTKASes katavad vaid osa aastaid, lisada omalt poolt puudvad andmed lehel katlamajad.
A9: Kasutatud aastaaruanne | B9: 2018 - 2020 | O9: https://kotkas.envir.ee/annual_reports_registry
A10: Kasutatud aastaaruanne viide | B10: https://kotkas.envir.ee/annual_reports_registry/view?search=1&nav_tab=annual_reports_registry&s__permit_nr_like=L.%C3%95V.TM-43364&s__owner_name=&s__year=2020&annual_report_id=24575
A11: Soojustootmisjaama aadress | B11: Torni tn 1, Tõravere alevik, Nõo vald, Tartu maakond
B13: Enne projekti | C13: Peale projekti
A14: Soojustootmisjaama poolt aastas keskmine toodetav väljundsoojuse kogus | B14: =C116*0.85 -> 31802.252 | C14: =C117*0.96 -> 35917.837 | D14: MWh/aastas | E14: Arvutada taotlusele eelnenud aasta põhjal arvestades vajadusel ka suitsugaaside pesuri poolt tagastatavat soojust; prognoos teha taotluse esitamise aastale eelnenud aasta tegeliku tarbimise põhjal arvestades prognoositavaid muudatusi tarbimises, soojusseadme võimsuses, kasutegris ja kasutatava kütuse kütteväärtuses; vastav seletus peab olema ära toodud ka finantsmajandusanalüüsis ja numbriliselt kajastuma siinses arvutuskäigus. Kui muudatusi soojustootmisseadmes pole planeeritud, siis märkida mõlemasse tabelisse siin ja all samad andmed, st taotluse esitamisele eelnenud aasta väärtus.
A15: Soojusjaama efektiivsus | B15: =B14/C116 -> 0.85 | C15: =C14/C117 -> 0.96 | D15: -
A17: SOOJUSTORUSTIKU PROJEKT
A18: Renoveeritava torustiku pikkus rekonstrueerimise järel | B18: 836.6 | C18: m | D18: Mõeldud on torustiku osa, mis välja vahetatakse, täiendavalt rajatav uus torustik märkida järgmisse lahtrisse.
A19: Uue paigaldatava torustiku pikkus | B19: 0 | C19: m | D19: Mõeldud on vaid täiesti uut rajatavat torustikku, vana torustiku rekonstrueerimist siia mitte arvestada.
A20: Varasem keskmine soojuskadu renoveeritavas torustikus | B20: 601.78 | C20: MWh/aastas | D20: Märkida vaid juba olemasoleva renoveeritava torustiku soojuskadu, uut rajatavat torustikku mitte arvestada!
A21: Prognoositav keskmine soojuskadu renoveeritavas torustikus peale renoveerimist | B21: 162.5 | C21: MWh/aastas | D21: Märkida vaid projekti tulemusel renoveeritava torustiku prognoositav soojuskadu, uut rajatavat torustikku mitte arvestada!
A22: Prognoositav soojuskao vähenemine renoveeritavas torustikus | B22: =B20-B21 -> 439.28 | C22: MWh/aastas
A23: Prognoositav soojuskao vähenemine renoveeritavas torustikus, % | B23: =(B20-B21)/B20*100 -> 72.996776 | C23: %
A24: Prognoositav kasvuhoonegaaside heite vähenemine renoveeritavas torustikus eelmise aasta väärtuse alusel | B24: =$B$22/C116*N65/B15 -> 28.794887 | C24: t CO2e / aastas | D24: Tulemuse saamiseks sisestada allolevasse kahte tabelisse nii taotlusele eelnenud aasta kui prognoositav energiatootmine. Juhul kui soojustootmises muudatusi ei toimu, sisestada mõlemasse tabelisse samad, taotlusele eelnenud aasta andmed.
A25: Prognoositav kasvuhoonegaaside heite vähenemine renoveeritavas torustikus, kui soojustootmises on planeeritud muudatused | B25: =$B$22/C117*N107/C15 -> 25.495473 | C25: t CO2e / aastas | D25: Tulemuse saamiseks sisestada allolevasse kahte tabelisse nii taotlusele eelnenud aasta kui prognoositav energiatootmine. Juhul kui soojustootmises muudatusi ei toimu, sisestada mõlemasse tabelisse samad, taotlusele eelnenud aasta andmed.
A27: Lisada eelnevalt kasutatud kütuste kogused liigiti (kollased lahtrid) - eelnev tarbimine (taotlusele eelnenud aasta põhjal arvutatuna) iga kütuse liigi kohta eraldi (t/aastas).
A28: Kütuse nimetus | B28: Kasutatud kütuse kogus | C28: Kütteväärtus | D28: Aastane kütteväärtus | E28: Aastane kütteväärtus | F28: Süsinikuheite faktor | G28: ox C osa | H28: CO2/C | I28: CO2 kogus | J28: CH4 emissiooni-faktor | K28: CH4 kogus | L28: N2O emissiooni-faktor | M28: N2O kogus | N28: CO2e kogus* | O28: NOx emissiooni-faktor | P28: NOx kogus | Q28: CO emissiooni-faktor | R28: CO kogus | S28: NMVOC emissiooni-faktor | T28: NMVOC kogus | U28: SOx emissiooni-faktor | V28: SOx kogus | W28: TSP emissiooni-faktor | X28: TSP kogus | Y28: Muu kaasnev õhuheide kokku
A29: Massiühikutes | B29: t/aasta | C29: MJ/kg | D29: TJ/aasta | E29: GJ/aasta | F29: tC/TJ | G29: arv | H29: 44/12 | I29: t/aasta | J29: kg/TJ | K29: kg/aasta | L29: kg/TJ | M29: kg/aasta | N29: t/aasta | O29: kg/TJ | P29: kg/aasta | Q29: kg/TJ | R29: kg/aasta | S29: kg/TJ | T29: kg/aasta | U29: kg/TJ | V29: kg/aasta | W29: kg/TJ | X29: kg/aasta | Y29: kg/aasta
A30: LPG | B30: 0 | C30: 45.5 | D30: =B30*C30/1000 -> 0 | E30: =C30*B30 -> 0 | F30: 17.73 | G30: 0.995 | H30: =44/12 -> 3.6666667 | I30: =D30*F30*G30*H30 -> 0 | J30: ='Kütteväärtused CO2 CH4 N2O EU'!$B$86 -> 5 | K30: =D30*J30 -> 0 | L30: ='Kütteväärtused CO2 CH4 N2O EU'!$C$86 -> 0.1 | M30: =D30*L30 -> 0 | N30: =SUM(I30+K30/1000*$J$141+M30/1000*$K$141) -> 0 | O30: =O72 -> 35.3 | P30: =$D30*O30 -> 0 | Q30: =Q72 -> 418.1 | R30: =$D30*Q30 -> 0 | S30: =S72 -> 6.1 | T30: =$D30*S30 -> 0 | U30: ='Heited suured kütteseamed EU'!$J$143 -> 0.281 | V30: =$D30*U30 -> 0 | W30: =W72 -> 15.85 | X30: =$D30*W30 -> 0 | Y30: =SUM(P30,R30,T30,V30,X30) -> 0
A31: Kivisüsi | B31: 0 | C31: 22 | D31: =B31*C31/1000 -> 0 | E31: =C31*B31 -> 0 | F31: 25.74 | G31: 0.99 | H31: =44/12 -> 3.6666667 | I31: =D31*F31*G31*H31 -> 0 | J31: ='Kütteväärtused CO2 CH4 N2O EU'!$B$89 -> 300 | K31: =D31*J31 -> 0 | L31: ='Kütteväärtused CO2 CH4 N2O EU'!$C$89 -> 1.5 | M31: =D31*L31 -> 0 | N31: =SUM(I31+K31/1000*$J$141+M31/1000*$K$141) -> 0 | O31: =O73 -> 199.42 | P31: =$D31*O31 -> 0 | Q31: =Q73 -> 5.25 | R31: =$D31*Q31 -> 0 | S31: =S73 -> 0.375 | T31: =$D31*S31 -> 0 | U31: =AVERAGE('Heited suured kütteseamed EU'!$J$161,'Heited suured kütteseamed EU'!$J$174) -> 820 | V31: =$D31*U31 -> 0 | W31: =W73 -> 19.558 | X31: =$D31*W31 -> 0 | Y31: =SUM(P31,R31,T31,V31,X31) -> 0
A32: Kerge kütteõli | B32: 0 | C32: 42.5 | D32: =B32*C32/1000 -> 0 | E32: =C32*B32 -> 0 | F32: 20.26 | G32: 0.99 | H32: =44/12 -> 3.6666667 | I32: =D32*F32*G32*H32 -> 0 | J32: ='Kütteväärtused CO2 CH4 N2O EU'!$B$85 -> 10 | K32: =D32*J32 -> 0 | L32: ='Kütteväärtused CO2 CH4 N2O EU'!$C$85 -> 0.6 | M32: =D32*L32 -> 0 | N32: =SUM(I32+K32/1000*$J$141+M32/1000*$K$141) -> 0 | O32: =O74 -> 37 | P32: =$D32*O32 -> 0 | Q32: =Q74 -> 2.2 | R32: =$D32*Q32 -> 0 | S32: =S74 -> 0.74 | T32: =$D32*S32 -> 0 | U32: =AVERAGE('Heited suured kütteseamed EU'!$J$100,'Heited suured kütteseamed EU'!$J$113,'Heited suured kütteseamed EU'!$J$121) -> 46.5 | V32: =$D32*U32 -> 0 | W32: =W74 -> 1 | X32: =$D32*W32 -> 0 | Y32: =SUM(P32,R32,T32,V32,X32) -> 0
A33: Masuut | B33: 0 | C33: 40.15 | D33: =B33*C33/1000 -> 0 | E33: =C33*B33 -> 0 | F33: 20.92 | G33: 0.99 | H33: =44/12 -> 3.6666667 | I33: =D33*F33*G33*H33 -> 0 | J33: ='Kütteväärtused CO2 CH4 N2O EU'!$B$85 -> 10 | K33: =D33*J33 -> 0 | L33: ='Kütteväärtused CO2 CH4 N2O EU'!$C$85 -> 0.6 | M33: =D33*L33 -> 0 | N33: =SUM(I33+K33/1000*$J$141+M33/1000*$K$141) -> 0 | O33: =O75 -> 89 | P33: =$D33*O33 -> 0 | Q33: =Q75 -> 2.6 | R33: =$D33*Q33 -> 0 | S33: =S75 -> 89 | T33: =$D33*S33 -> 0 | U33: =AVERAGE('Heited suured kütteseamed EU'!$J$161,'Heited suured kütteseamed EU'!$J$174) -> 820 | V33: =$D33*U33 -> 0 | W33: =W75 -> 0.89 | X33: =$D33*W33 -> 0 | Y33: =SUM(P33,R33,T33,V33,X33) -> 0
A34: Põlevkivi | B34: 0 | C34: 8.16 | D34: =B34*C34/1000 -> 0 | E34: =C34*B34 -> 0 | F34: =AVERAGE(26.42,27.25) -> 26.835 | G34: 0.99 | H34: =44/12 -> 3.6666667 | I34: =D34*F34*G34*H34 -> 0 | J34: ='Kütteväärtused CO2 CH4 N2O EU'!$B$91 -> 300 | K34: =D34*J34 -> 0 | L34: ='Kütteväärtused CO2 CH4 N2O EU'!$C$91 -> 1.5 | M34: =D34*L34 -> 0 | N34: =SUM(I34+K34/1000*$J$141+M34/1000*$K$141) -> 0 | O34: =O76 -> 79.02 | P34: =$D34*O34 -> 0 | Q34: =Q76 -> 0.88 | R34: =$D34*Q34 -> 0 | S34: =S76 -> 0 | T34: =$D34*S34 -> 0 | U34: =AVERAGE('Heited suured kütteseamed EU'!$J$161,'Heited suured kütteseamed EU'!$J$174) -> 820 | V34: =$D34*U34 -> 0 | W34: =W76 -> 429.5 | X34: =$D34*W34 -> 0 | Y34: =SUM(P34,R34,T34,V34,X34) -> 0
A35: Põlevkiviõli (raskem) | B35: 324.75 | C35: 39.22 | D35: =B35*C35/1000 -> 12.736695 | E35: =C35*B35 -> 12736.695 | F35: 21.1 | G35: 0.99 | H35: =44/12 -> 3.6666667 | I35: =D35*F35*G35*H35 -> 975.54168 | J35: ='Kütteväärtused CO2 CH4 N2O EU'!$B$85 -> 10 | K35: =D35*J35 -> 127.36695 | L35: ='Kütteväärtused CO2 CH4 N2O EU'!$C$85 -> 0.6 | M35: =D35*L35 -> 7.642017 | N35: =SUM(I35+K35/1000*$J$141+M35/1000*$K$141) -> 981.00317 | O35: =O77 -> 79.02 | P35: =$D35*O35 -> 1006.4536 | Q35: =Q77 -> 0.88 | R35: =$D35*Q35 -> 11.208292 | S35: =S77 -> 0 | T35: =$D35*S35 -> 0 | U35: =AVERAGE('Heited suured kütteseamed EU'!$J$161,'Heited suured kütteseamed EU'!$J$174) -> 820 | V35: =$D35*U35 -> 10444.09 | W35: =W77 -> 1.9 | X35: =$D35*W35 -> 24.19972 | Y35: =SUM(P35,R35,T35,V35,X35) -> 11485.952
A36: Põlevkiviõli (kergem) | B36: 0 | C36: 42.3 | D36: =B36*C36/1000 -> 0 | E36: =C36*B36 -> 0 | F36: 20.2 | G36: 0.99 | H36: =44/12 -> 3.6666667 | I36: =D36*F36*G36*H36 -> 0 | J36: ='Kütteväärtused CO2 CH4 N2O EU'!$B$85 -> 10 | K36: =D36*J36 -> 0 | L36: ='Kütteväärtused CO2 CH4 N2O EU'!$C$85 -> 0.6 | M36: =D36*L36 -> 0 | N36: =SUM(I36+K36/1000*$J$141+M36/1000*$K$141) -> 0 | O36: =O78 -> 79.02 | P36: =$D36*O36 -> 0 | Q36: =Q78 -> 0.88 | R36: =$D36*Q36 -> 0 | S36: =S78 -> 0 | T36: =$D36*S36 -> 0 | U36: =AVERAGE('Heited suured kütteseamed EU'!$J$161,'Heited suured kütteseamed EU'!$J$174) -> 820 | V36: =$D36*U36 -> 0 | W36: =W78 -> 1.9 | X36: =$D36*W36 -> 0 | Y36: =SUM(P36,R36,T36,V36,X36) -> 0
A37: Diisel | B37: 0 | C37: 42.3 | D37: =B37*C37/1000 -> 0 | E37: =C37*B37 -> 0 | F37: 19.87 | G37: 0.99 | H37: =44/12 -> 3.6666667 | I37: =D37*F37*G37*H37 -> 0 | J37: ='Kütteväärtused CO2 CH4 N2O EU'!$B$85 -> 10 | K37: =D37*J37 -> 0 | L37: ='Kütteväärtused CO2 CH4 N2O EU'!$C$85 -> 0.6 | M37: =D37*L37 -> 0 | N37: =SUM(I37+K37/1000*$J$141+M37/1000*$K$141) -> 0 | O37: =O79 -> 250 | P37: =$D37*O37 -> 0 | Q37: =Q79 -> 2.6 | R37: =$D37*Q37 -> 0 | S37: =S79 -> 89 | T37: =$D37*S37 -> 0 | U37: ='Heited suured kütteseamed EU'!$J$182 -> 495 | V37: =$D37*U37 -> 0 | W37: =W79 -> 0.89 | X37: =$D37*W37 -> 0 | Y37: =SUM(P37,R37,T37,V37,X37) -> 0
A38: Koksiahjukoks | B38: 0 | C38: 28.5 | D38: =B38*C38/1000 -> 0 | E38: =C38*B38 -> 0 | F38: 29.02 | G38: 0.99 | H38: =44/12 -> 3.6666667 | I38: =D38*F38*G38*H38 -> 0 | J38: ='Kütteväärtused CO2 CH4 N2O EU'!$B$89 -> 300 | K38: =D38*J38 -> 0 | L38: ='Kütteväärtused CO2 CH4 N2O EU'!$C$89 -> 1.5 | M38: =D38*L38 -> 0 | N38: =SUM(I38+K38/1000*$J$141+M38/1000*$K$141) -> 0 | O38: =O80 -> 199.42 | P38: =$D38*O38 -> 0 | Q38: =Q80 -> 5.25 | R38: =$D38*Q38 -> 0 | S38: =S80 -> 0.375 | T38: =$D38*S38 -> 0 | U38: =AVERAGE('Heited suured kütteseamed EU'!$J$79,'Heited suured kütteseamed EU'!$J$92) -> 820 | V38: =$D38*U38 -> 0 | W38: =W80 -> 19.558 | X38: =$D38*W38 -> 0 | Y38: =SUM(P38,R38,T38,V38,X38) -> 0
A39: Õlijäägid | B39: 0 | C39: 16 | D39: =B39*C39/1000 -> 0 | E39: =C39*B39 -> 0 | F39: 20.18 | G39: 0.99 | H39: =44/12 -> 3.6666667 | I39: =D39*F39*G39*H39 -> 0 | J39: ='Kütteväärtused CO2 CH4 N2O EU'!$B$85 -> 10 | K39: =D39*J39 -> 0 | L39: ='Kütteväärtused CO2 CH4 N2O EU'!$C$85 -> 0.6 | M39: =D39*L39 -> 0 | N39: =SUM(I39+K39/1000*$J$141+M39/1000*$K$141) -> 0 | O39: =O81 -> 37 | P39: =$D39*O39 -> 0 | Q39: =Q81 -> 2.2 | R39: =$D39*Q39 -> 0 | S39: =S81 -> 0.74 | T39: =$D39*S39 -> 0 | U39: =AVERAGE('Heited suured kütteseamed EU'!$J$229) -> 495 | V39: =$D39*U39 -> 0 | W39: =W81 -> 1 | X39: =$D39*W39 -> 0 | Y39: =SUM(P39,R39,T39,V39,X39) -> 0
A40: Turvas (turbaplokk) | B40: 0 | C40: 12 | D40: =B40*C40/1000 -> 0 | E40: =C40*B40 -> 0 | F40: 27.82 | G40: 0.99 | H40: =44/12 -> 3.6666667 | I40: =D40*F40*G40*H40 -> 0 | J40: ='Kütteväärtused CO2 CH4 N2O EU'!$B$93 -> 300 | K40: =D40*J40 -> 0 | L40: ='Kütteväärtused CO2 CH4 N2O EU'!$C$93 -> 1.4 | M40: =D40*L40 -> 0 | N40: =SUM(I40+K40/1000*$J$141+M40/1000*$K$141) -> 0 | O40: =O82 -> 300 | P40: =$D40*O40 -> 0 | Q40: =Q82 -> 4696.75 | R40: =$D40*Q40 -> 0 | S40: =S82 -> 100 | T40: =$D40*S40 -> 0 | U40: =AVERAGE('Heited suured kütteseamed EU'!$J$248) -> 10.8 | V40: =$D40*U40 -> 0 | W40: =W82 -> 477.75 | X40: =$D40*W40 -> 0 | Y40: =SUM(P40,R40,T40,V40,X40) -> 0
A41: Turbabrikett | B41: 0 | C41: 16 | D41: =B41*C41/1000 -> 0 | E41: =C41*B41 -> 0 | F41: 26.45 | G41: 0.99 | H41: =44/12 -> 3.6666667 | I41: =D41*F41*G41*H41 -> 0 | J41: ='Kütteväärtused CO2 CH4 N2O EU'!$B$93 -> 300 | K41: =D41*J41 -> 0 | L41: ='Kütteväärtused CO2 CH4 N2O EU'!$C$93 -> 1.4 | M41: =D41*L41 -> 0 | N41: =SUM(I41+K41/1000*$J$141+M41/1000*$K$141) -> 0 | O41: =O83 -> 300 | P41: =$D41*O41 -> 0 | Q41: =Q83 -> 4696.75 | R41: =$D41*Q41 -> 0 | S41: =S83 -> 100 | T41: =$D41*S41 -> 0 | U41: =AVERAGE('Heited suured kütteseamed EU'!$J$248) -> 10.8 | V41: =$D41*U41 -> 0 | W41: =W83 -> 477.75 | X41: =$D41*W41 -> 0 | Y41: =SUM(P41,R41,T41,V41,X41) -> 0
A42: Freesturvas | B42: 0 | C42: 9.7 | D42: =B42*C42/1000 -> 0 | E42: =C42*B42 -> 0 | F42: 28.9 | G42: 0.99 | H42: =44/12 -> 3.6666667 | I42: =D42*F42*G42*H42 -> 0 | J42: ='Kütteväärtused CO2 CH4 N2O EU'!$B$93 -> 300 | K42: =D42*J42 -> 0 | L42: ='Kütteväärtused CO2 CH4 N2O EU'!$C$93 -> 1.4 | M42: =D42*L42 -> 0 | N42: =SUM(I42+K42/1000*$J$141+M42/1000*$K$141) -> 0 | O42: =O84 -> 300 | P42: =$D42*O42 -> 0 | Q42: =Q84 -> 4696.75 | R42: =$D42*Q42 -> 0 | S42: =S84 -> 100 | T42: =$D42*S42 -> 0 | U42: =AVERAGE('Heited suured kütteseamed EU'!$J$248) -> 10.8 | V42: =$D42*U42 -> 0 | W42: =W84 -> 477.75 | X42: =$D42*W42 -> 0 | Y42: =SUM(P42,R42,T42,V42,X42) -> 0
A43: Õlijäägid biojäätmetest | B43: 0 | C43: 16 | D43: =B43*C43/1000 -> 0 | E43: =C43*B43 -> 0 | F43: 20.18 | G43: 0.99 | H43: =44/12 -> 3.6666667 | I43: =D43*F43*G43*H43 -> 0 | J43: ='Kütteväärtused CO2 CH4 N2O EU'!$B$85 -> 10 | K43: =D43*J43 -> 0 | L43: ='Kütteväärtused CO2 CH4 N2O EU'!$C$85 -> 0.6 | M43: =D43*L43 -> 0 | N43: =SUM(K43/1000*$J$141+M43/1000*$K$141) -> 0 | O43: =O85 -> 37 | P43: =$D43*O43 -> 0 | Q43: =Q85 -> 2.2 | R43: =$D43*Q43 -> 0 | S43: =S85 -> 0.74 | T43: =$D43*S43 -> 0 | U43: =AVERAGE('Heited suured kütteseamed EU'!$J$248) -> 10.8 | V43: =$D43*U43 -> 0 | W43: =W85 -> 1 | X43: =$D43*W43 -> 0 | Y43: =SUM(P43,R43,T43,V43,X43) -> 0
A44: Halupuit (niiskussisaldus2 ≤20%) | B44: 0 | C44: 14.76 | D44: =B44*C44/1000 -> 0 | E44: =C44*B44 -> 0 | F44: 30.5 | G44: 1 | H44: =44/12 -> 3.6666667 | I44: =D44*F44*G44*H44 -> 0 | J44: ='Kütteväärtused CO2 CH4 N2O EU'!$B$94 -> 300 | K44: =D44*J44 -> 0 | L44: ='Kütteväärtused CO2 CH4 N2O EU'!$C$94 -> 4 | M44: =D44*L44 -> 0 | N44: =SUM(K44/1000*$J$141+M44/1000*$K$141) -> 0 | O44: =O86 -> 0.736 | P44: =$D44*O44 -> 0 | Q44: =Q86 -> 11.7 | R44: =$D44*Q44 -> 0 | S44: =S86 -> 2.2 | T44: =$D44*S44 -> 0 | U44: =AVERAGE('Heited suured kütteseamed EU'!$J$248) -> 10.8 | V44: =$D44*U44 -> 0 | W44: =W86 -> 8.7 | X44: =$D44*W44 -> 0 | Y44: =SUM(P44,R44,T44,V44,X44) -> 0
A45: Puitbrikett (niiskussisaldus2 ≤12%) | B45: 0 | C45: 16.56 | D45: =B45*C45/1000 -> 0 | E45: =C45*B45 -> 0 | F45: 30.5 | G45: 1 | H45: =44/12 -> 3.6666667 | I45: =D45*F45*G45*H45 -> 0 | J45: ='Kütteväärtused CO2 CH4 N2O EU'!$B$94 -> 300 | K45: =D45*J45 -> 0 | L45: ='Kütteväärtused CO2 CH4 N2O EU'!$C$94 -> 4 | M45: =D45*L45 -> 0 | N45: =SUM(K45/1000*$J$141+M45/1000*$K$141) -> 0 | O45: =O87 -> 0.736 | P45: =$D45*O45 -> 0 | Q45: =Q87 -> 11.7 | R45: =$D45*Q45 -> 0 | S45: =S87 -> 2.2 | T45: =$D45*S45 -> 0 | U45: =AVERAGE('Heited suured kütteseamed EU'!$J$248) -> 10.8 | V45: =$D45*U45 -> 0 | W45: =W87 -> 8.7 | X45: =$D45*W45 -> 0 | Y45: =SUM(P45,R45,T45,V45,X45) -> 0
A46: Puitpellet (niiskussisaldus2 ≤12%) | B46: 0 | C46: 16.56 | D46: =B46*C46/1000 -> 0 | E46: =C46*B46 -> 0 | F46: 30.5 | G46: 1 | H46: =44/12 -> 3.6666667 | I46: =D46*F46*G46*H46 -> 0 | J46: ='Kütteväärtused CO2 CH4 N2O EU'!$B$94 -> 300 | K46: =D46*J46 -> 0 | L46: ='Kütteväärtused CO2 CH4 N2O EU'!$C$94 -> 4 | M46: =D46*L46 -> 0 | N46: =SUM(K46/1000*$J$141+M46/1000*$K$141) -> 0 | O46: =O88 -> 0.736 | P46: =$D46*O46 -> 0 | Q46: =Q88 -> 11.7 | R46: =$D46*Q46 -> 0 | S46: =S88 -> 2.2 | T46: =$D46*S46 -> 0 | U46: =AVERAGE('Heited suured kütteseamed EU'!$J$248) -> 10.8 | V46: =$D46*U46 -> 0 | W46: =W88 -> 8.7 | X46: =$D46*W46 -> 0 | Y46: =SUM(P46,R46,T46,V46,X46) -> 0
A47: Puiduhake, t | B47: 13721.68 | C47: =G143 -> 8.8615385 | D47: =B47*C47/1000 -> 121.5952 | E47: =C47*B47 -> 121595.2 | F47: 30.5 | G47: 1 | H47: =44/12 -> 3.6666667 | I47: =D47*F47*G47*H47 -> 13598.396 | J47: ='Kütteväärtused CO2 CH4 N2O EU'!$B$94 -> 300 | K47: =D47*J47 -> 36478.559 | L47: ='Kütteväärtused CO2 CH4 N2O EU'!$C$94 -> 4 | M47: =D47*L47 -> 486.38078 | N47: =SUM(K47/1000*$J$141+M47/1000*$K$141) -> 1056.9054 | O47: =O89 -> 0.736 | P47: =$D47*O47 -> 89.494064 | Q47: =Q89 -> 11.7 | R47: =$D47*Q47 -> 1422.6638 | S47: =S89 -> 2.2 | T47: =$D47*S47 -> 267.50943 | U47: =AVERAGE('Heited suured kütteseamed EU'!$J$248) -> 10.8 | V47: =$D47*U47 -> 1313.2281 | W47: =W89 -> 8.7 | X47: =$D47*W47 -> 1057.8782 | Y47: =SUM(P47,R47,T47,V47,X47) -> 4150.7736
A48: Biomass | B48: 0 | C48: =AVERAGE(6.9,16.9) -> 11.9 | D48: =B48*C48/1000 -> 0 | E48: =C48*B48 -> 0 | F48: ='Kütteväärtused CO2 CH4 N2O EU'!$D$42 -> 30.5 | G48: 1 | H48: =44/12 -> 3.6666667 | I48: =D48*F48*G48*H48 -> 0 | J48: ='Kütteväärtused CO2 CH4 N2O EU'!$B$94 -> 300 | K48: =D48*J48 -> 0 | L48: ='Kütteväärtused CO2 CH4 N2O EU'!$C$94 -> 4 | M48: =D48*L48 -> 0 | N48: =SUM(K48/1000*$J$141+M48/1000*$K$141) -> 0 | O48: ='Heited suured kütteseamed EU'!$J$9 -> 81 | P48: =$D48*O48 -> 0 | Q48: ='Heited suured kütteseamed EU'!$J$6 -> 90 | R48: =$D48*Q48 -> 0 | S48: ='Heited suured kütteseamed EU'!$J$8 -> 7.31 | T48: =$D48*S48 -> 0 | U48: ='Heited suured kütteseamed EU'!$J$13 -> 10.8 | V48: =$D48*U48 -> 0 | W48: ='Heited suured kütteseamed EU'!$J$14 -> 172 | X48: =$D48*W48 -> 0 | Y48: =SUM(P48,R48,T48,V48,X48) -> 0
A49: ruumiühikutes gaas | B49: tuh. m3/aasta | C49: MJ/m3 | D49: TJ/aasta | E49: GJ/aasta | F49: tC/TJ | G49: arv | H49: 44/12 | I49: t/aasta | J49: kg/TJ | K49: kg/aasta | L49: kg/TJ | M49: kg/aasta | N49: t/aasta | O49: kg/TJ | P49: kg/aasta | Q49: kg/TJ | R49: kg/aasta | S49: kg/TJ | T49: kg/aasta | U49: kg/TJ | V49: kg/aasta | W49: kg/TJ | X49: kg/aasta | Y49: kg/aasta
A50: Maagaas | B50: 0 | C50: =33.6 -> 33.6 | D50: =B50*C50/1000 -> 0 | E50: =C50*B50 -> 0 | F50: 15.3 | G50: 0.995 | H50: =44/12 -> 3.6666667 | I50: =D50*F50*G50*H50 -> 0 | J50: ='Kütteväärtused CO2 CH4 N2O EU'!$B$87 -> 5 | K50: =D50*J50 -> 0 | L50: ='Kütteväärtused CO2 CH4 N2O EU'!$C$87 -> 0.1 | M50: =D50*L50 -> 0 | N50: =SUM(I50+K50/1000*$J$141+M50/1000*$K$141) -> 0 | O50: ='Heited suured kütteseamed EU'!$J$140 -> 89 | P50: =$D50*O50 -> 0 | Q50: ='Heited suured kütteseamed EU'!$J$138 -> 39.3 | R50: =$D50*Q50 -> 0 | S50: ='Heited suured kütteseamed EU'!$J$139 -> 2.6 | T50: =$D50*S50 -> 0 | U50: ='Heited suured kütteseamed EU'!$J$143 -> 0.281 | V50: =$D50*U50 -> 0 | W50: ='Heited suured kütteseamed EU'!$J$144 -> 0.89 | X50: =$D50*W50 -> 0 | Y50: =SUM(P50,R50,T50,V50,X50) -> 0
A51: Poolkoksigaas | B51: 0 | C51: ='Kütteväärtused CO2 CH4 N2O EU'!$B$26 -> 43.96 | D51: =B51*C51/1000 -> 0 | E51: =C51*B51 -> 0 | F51: ='Kütteväärtused CO2 CH4 N2O EU'!$D$26 -> 18.44 | G51: 0.995 | H51: =44/12 -> 3.6666667 | I51: =D51*F51*G51*H51 -> 0 | J51: ='Kütteväärtused CO2 CH4 N2O EU'!$I$26 -> 1 | K51: =D51*J51 -> 0 | L51: ='Kütteväärtused CO2 CH4 N2O EU'!$J$26 -> 0.1 | M51: =D51*L51 -> 0 | N51: =SUM(I51+K51/1000*$J$141+M51/1000*$K$141) -> 0 | O51: ='Heited suured kütteseamed EU'!$J$140 -> 89 | P51: =$D51*O51 -> 0 | Q51: ='Heited suured kütteseamed EU'!$J$138 -> 39.3 | R51: =$D51*Q51 -> 0 | S51: ='Heited suured kütteseamed EU'!$J$139 -> 2.6 | T51: =$D51*S51 -> 0 | U51: ='Heited suured kütteseamed EU'!$J$143 -> 0.281 | V51: =$D51*U51 -> 0 | W51: ='Heited suured kütteseamed EU'!$J$144 -> 0.89 | X51: =$D51*W51 -> 0 | Y51: =SUM(P51,R51,T51,V51,X51) -> 0
A52: Generaatorgaas | B52: 0 | C52: ='Kütteväärtused CO2 CH4 N2O EU'!$B$33 -> 3.4 | D52: =B52*C52/1000 -> 0 | E52: =C52*B52 -> 0 | F52: ='Kütteväärtused CO2 CH4 N2O EU'!$D$33 -> 42.61 | G52: 0.995 | H52: =44/12 -> 3.6666667 | I52: =D52*F52*G52*H52 -> 0 | J52: ='Kütteväärtused CO2 CH4 N2O EU'!$I$33 -> 1 | K52: =D52*J52 -> 0 | L52: ='Kütteväärtused CO2 CH4 N2O EU'!$J$33 -> 0.1 | M52: =D52*L52 -> 0 | N52: =SUM(I52+K52/1000*$J$141+M52/1000*$K$141) -> 0 | O52: ='Heited suured kütteseamed EU'!$J$140 -> 89 | P52: =$D52*O52 -> 0 | Q52: ='Heited suured kütteseamed EU'!$J$138 -> 39.3 | R52: =$D52*Q52 -> 0 | S52: ='Heited suured kütteseamed EU'!$J$139 -> 2.6 | T52: =$D52*S52 -> 0 | U52: ='Heited suured kütteseamed EU'!$J$143 -> 0.281 | V52: =$D52*U52 -> 0 | W52: ='Heited suured kütteseamed EU'!$J$144 -> 0.89 | X52: =$D52*W52 -> 0 | Y52: =SUM(P52,R52,T52,V52,X52) -> 0
A53: Biogaas (prügila- ja reoveesette gaas) | B53: 0 | C53: =17.4 -> 17.4 | D53: =B53*C53/1000 -> 0 | E53: =C53*B53 -> 0 | F53: 14.89 | G53: 0.995 | H53: =44/12 -> 3.6666667 | I53: =D53*F53*G53*H53 -> 0 | J53: ='Kütteväärtused CO2 CH4 N2O EU'!$B$87 -> 5 | K53: =D53*J53 -> 0 | L53: ='Kütteväärtused CO2 CH4 N2O EU'!$C$87 -> 0.1 | M53: =D53*L53 -> 0 | N53: =SUM(K53/1000*$J$141+M53/1000*$K$141) -> 0 | O53: ='Heited suured kütteseamed EU'!$J$140 -> 89 | P53: =$D53*O53 -> 0 | Q53: ='Heited suured kütteseamed EU'!$J$138 -> 39.3 | R53: =$D53*Q53 -> 0 | S53: ='Heited suured kütteseamed EU'!$J$139 -> 2.6 | T53: =$D53*S53 -> 0 | U53: ='Heited suured kütteseamed EU'!$J$143 -> 0.281 | V53: =$D53*U53 -> 0 | W53: ='Heited suured kütteseamed EU'!$J$144 -> 0.89 | X53: =$D53*W53 -> 0 | Y53: =SUM(P53,R53,T53,V53,X53) -> 0
A54: ruumiühikutes puit | B54: m3/aasta | C54: MJ/m3 | D54: TJ/aasta | E54: GJ/aasta | F54: tC/TJ | G54: arv | H54: 44/12 | I54: t/aasta | J54: kg/TJ | K54: kg/aasta | L54: kg/TJ | M54: kg/aasta | N54: t/aasta | O54: kg/TJ | P54: kg/aasta | Q54: kg/TJ | R54: kg/aasta | S54: kg/TJ | T54: kg/aasta | U54: kg/TJ | V54: kg/aasta | W54: kg/TJ | X54: kg/aasta | Y54: kg/aasta
A55: Küttepuud, segapuit (ruumimeeter) | B55: 0 | C55: 4680 | D55: =B55*C55/1000/1000 -> 0 | E55: =C55*B55/1000 -> 0 | F55: 30.5 | G55: 0.995 | H55: =44/12 -> 3.6666667 | I55: =D55*F55*G55*H55 -> 0 | J55: ='Kütteväärtused CO2 CH4 N2O EU'!$B$94 -> 300 | K55: =D55*J55 -> 0 | L55: ='Kütteväärtused CO2 CH4 N2O EU'!$C$94 -> 4 | M55: =D55*L55 -> 0 | N55: =SUM(K55/1000*$J$141+M55/1000*$K$141) -> 0 | O55: =O97 -> 0.736 | P55: =$D55*O55 -> 0 | Q55: =Q97 -> 11.7 | R55: =$D55*Q55 -> 0 | S55: =S97 -> 2.2 | T55: =$D55*S55 -> 0 | V55: =$D55*U55 -> 0 | W55: =W97 -> 8.7 | X55: =$D55*W55 -> 0 | Y55: =SUM(P55,R55,T55,V55,X55) -> 0
A56: Küttepuud, kask (ruumimeeter) | B56: 0 | C56: 5400 | D56: =B56*C56/1000/1000 -> 0 | E56: =C56*B56/1000 -> 0 | F56: 30.5 | G56: 0.995 | H56: =44/12 -> 3.6666667 | I56: =D56*F56*G56*H56 -> 0 | J56: ='Kütteväärtused CO2 CH4 N2O EU'!$B$94 -> 300 | K56: =D56*J56 -> 0 | L56: ='Kütteväärtused CO2 CH4 N2O EU'!$C$94 -> 4 | M56: =D56*L56 -> 0 | N56: =SUM(K56/1000*$J$141+M56/1000*$K$141) -> 0 | O56: =O98 -> 0.736 | P56: =$D56*O56 -> 0 | Q56: =Q98 -> 11.7 | R56: =$D56*Q56 -> 0 | S56: =S98 -> 2.2 | T56: =$D56*S56 -> 0 | V56: =$D56*U56 -> 0 | W56: =W98 -> 8.7 | X56: =$D56*W56 -> 0 | Y56: =SUM(P56,R56,T56,V56,X56) -> 0
A57: Puiduhake (puistekuupmeeter) | B57: 0 | C57: 2880 | D57: =B57*C57/1000/1000 -> 0 | E57: =C57*B57/1000 -> 0 | F57: 30.5 | G57: 0.995 | H57: =44/12 -> 3.6666667 | I57: =D57*F57*G57*H57 -> 0 | J57: ='Kütteväärtused CO2 CH4 N2O EU'!$B$94 -> 300 | K57: =D57*J57 -> 0 | L57: ='Kütteväärtused CO2 CH4 N2O EU'!$C$94 -> 4 | M57: =D57*L57 -> 0 | N57: =SUM(K57/1000*$J$141+M57/1000*$K$141) -> 0 | O57: =O99 -> 0.736 | P57: =$D57*O57 -> 0 | Q57: =Q99 -> 11.7 | R57: =$D57*Q57 -> 0 | S57: =S99 -> 2.2 | T57: =$D57*S57 -> 0 | U57: =AVERAGE('Heited suured kütteseamed EU'!$J$248) -> 10.8 | V57: =$D57*U57 -> 0 | W57: =W99 -> 8.7 | X57: =$D57*W57 -> 0 | Y57: =SUM(P57,R57,T57,V57,X57) -> 0
A58: Elekter | B58: Kasutatud kütuse kogus | C58: Kasutatud kütuse kogus | D58: Aastane kütteväärtus | E58: Aastane kütteväärtus | H58: CO2 emisiooni-faktor | I58: CO2 kogus | J58: CH4 emissiooni-faktor | K58: CH4 kogus | L58: N2O emissiooni-faktor | M58: N2O kogus | N58: CO2e kogus*
B59: kWh/a | C59: MJ/a | D59: TJ/aasta | E59: GJ/aasta | H59: g/kWh | I59: t/aasta | J59: g/kWh | K59: kg/aasta | L59: g/kWh | M59: kg/aasta | N59: t/aasta
A60: Tavaline võrguelekter | B60: 100000 | C60: =B60*$B$140 -> 360000 | D60: =C60/1000000 -> 0.36 | E60: =C60/1000 -> 360 | H60: ='Elekter 2025'!B5 -> 467.35 | I60: =B60*H60/1000000 -> 46.735 | J60: ='Elekter 2025'!B7 -> NA | K60: =IFERROR(B60*J60/1000,0) -> 0 | L60: ='Elekter 2025'!B6 -> NA | M60: =IFERROR(B60*L60/1000,0) -> 0 | N60: =SUM(I60+K60/1000*$J$141+M60/1000*$K$141) -> 46.735
A61: Päritolutunnistusega võrguelekter (taastuvelekter) | B61: 0 | C61: =B61*$B$140 -> 0 | D61: =C61/1000000 -> 0 | E61: =C61/1000 -> 0 | H61: 0 | I61: =B61*H61/1000000 -> 0 | J61: 0 | K61: =IFERROR(B61*L61/1000,0) -> 0 | L61: 0 | M61: =$C61*L61/1000000 -> 0 | N61: =SUM(I61+K61/1000*$J$141+M61/1000*$K$141) -> 0
A62: Kohapeal toodetud taastuvelekter | B62: 0 | C62: =B62*$B$140 -> 0 | D62: =C62/1000000 -> 0 | E62: =C62/1000 -> 0 | H62: 0 | I62: =B62*H62/1000000 -> 0 | J62: 0 | K62: =IFERROR(B62*L62/1000,0) -> 0 | L62: 0 | M62: =$C62*L62/1000000 -> 0 | N62: =SUM(I62+K62/1000*$J$141+M62/1000*$K$141) -> 0
A63: Kasutatav jääksoojus | B63: kWh/a | C63: MJ/a | D63: TJ/aasta | E63: GJ/aasta | H63: t/TJ | I63: t/aasta | J63: kg/TJ | K63: kg/aasta | L63: kg/TJ | M63: kg/aasta | N63: t/aasta
A64: Summaarne jääksoojus | B64: 0 | C64: =B64*$B$140 -> 0 | D64: =C64/1000000 -> 0 | E64: =C64/1000 -> 0 | H64: 0 | I64: =$C64*H64/1000000 -> 0 | J64: 0 | K64: =$C64*J64/1000000 -> 0 | L64: 0 | M64: =$C64*L64/1000000 -> 0 | N64: =SUM(I64+K64/1000*$J$141+M64/1000*$K$141) -> 0
A65: KOKKU | D65: =SUM(D30:D48,D50:D53,D55:D57,D60:D62,D64) -> 134.69189 | E65: =SUM(E30:E48,E50:E53,E55:E57,E60:E62,E64) -> 134691.89 | I65: =SUM(I30:I48,I50:I53,I55:I57,I60:I62,I64) -> 14620.673 | K65: =SUM(K30:K48,K50:K53,K55:K57,K60:K62,K64) -> 36605.925 | M65: =SUM(M30:M48,M50:M53,M55:M57,M60:M62,M64) -> 494.0228 | N65: =SUM(N30:N48,N50:N53,N55:N57,N60:N62,N64) -> 2084.6436 | P65: =SUM(P30:P48,P50:P53,P55:P57,P60:P62,P64) -> 1095.9477 | R65: =SUM(R30:R48,R50:R53,R55:R57,R60:R62,R64) -> 1433.8721 | T65: =SUM(T30:T48,T50:T53,T55:T57,T60:T62,T64) -> 267.50943 | V65: =SUM(V30:V48,V50:V53,V55:V57,V60:V62,V64) -> 11757.318 | X65: =SUM(X30:X48,X50:X53,X55:X57,X60:X62,X64) -> 1082.0779 | Y65: =SUM(Y30:Y48,Y50:Y53,Y55:Y57,Y60:Y62,Y64) -> 15636.725
A66: Lokaalne mõju kokku | D66: =SUM(D30:D48,D50:D53,D55:D57,D62,D64) -> 134.33189 | E66: =SUM(E30:E48,E50:E53,E55:E57,E62,E64) -> 134331.89 | I66: =SUM(I30:I48,I50:I53,I55:I57,I62,I64) -> 14573.938 | K66: =SUM(K30:K48,K50:K53,K55:K57,K62,K64) -> 36605.925 | M66: =SUM(M30:M48,M50:M53,M55:M57,M62,M64) -> 494.0228 | N66: =SUM(N30:N48,N50:N53,N55:N57,N62,N64) -> 2037.9086 | P66: =SUM(P30:P48,P50:P53,P55:P57,P62,P64) -> 1095.9477 | R66: =SUM(R30:R48,R50:R53,R55:R57,R62,R64) -> 1433.8721 | T66: =SUM(T30:T48,T50:T53,T55:T57,T62,T64) -> 267.50943 | V66: =SUM(V30:V48,V50:V53,V55:V57,V62,V64) -> 11757.318 | X66: =SUM(X30:X48,X50:X53,X55:X57,X62,X64) -> 1082.0779 | Y66: =SUM(Y30:Y48,Y50:Y53,Y55:Y57,Y62,Y64) -> 15636.725
A68: Lisada uue/uute tarbitava(te) kütuse/kütuste kogused liigiti (kollased lahtrid) - järgnev prognoositav aastane kõigi kütuste tarbimine projekti tulemusel tehtud muudatustega seotud soojustootmise seadmes ja allesjäävates seadmetes. Kui soosjustootmises muudatusi ei plaanita, märkida siia samad väärtused, mis ülemisse tabelisse (taotlusele eelnenud aasta tulemuste alusel).
A70: Kütuse nimetus | B70: Kasutatud kütuse kogus | C70: Kütteväärtus | D70: Aastane kütteväärtus | E70: Aastane kütteväärtus | F70: Süsinikuheite faktor | G70: ox C osa | H70: CO2/C | I70: CO2 kogus | J70: CH4 emissiooni-faktor | K70: CH4 kogus | L70: N2O emissiooni-faktor | M70: N2O kogus | N70: CO2e kogus* | O70: NOx emissiooni-faktor | P70: NOx kogus | Q70: CO emissiooni-faktor | R70: CO kogus | S70: NMVOC emissiooni-faktor | T70: NMVOC kogus | U70: SOx emissiooni-faktor | V70: SOx kogus | W70: TSP emissiooni-faktor | X70: TSP kogus | Y70: Muu kaasnev õhuheide kokku
A71: Massiühikutes | B71: t/aasta | C71: MJ/kg | D71: TJ/aasta | E71: GJ/aasta | F71: tC/TJ | G71: arv | H71: 44/12 | I71: t/aasta | J71: kg/TJ | K71: kg/aasta | L71: kg/TJ | M71: kg/aasta | N71: t/aasta | O71: kg/TJ | P71: kg/aasta | Q71: kg/TJ | R71: kg/aasta | S71: kg/TJ | T71: kg/aasta | U71: kg/TJ | V71: kg/aasta | W71: kg/TJ | X71: kg/aasta | Y71: kg/aasta
A72: LPG | B72: 0 | C72: 45.5 | D72: =B72*C72/1000 -> 0 | E72: =C72*B72 -> 0 | F72: 17.73 | G72: 0.995 | H72: =44/12 -> 3.6666667 | I72: =D72*F72*G72*H72 -> 0 | J72: ='Kütteväärtused CO2 CH4 N2O EU'!$B$86 -> 5 | K72: =D72*J72 -> 0 | L72: 0.1 | M72: =D72*L72 -> 0 | N72: =SUM(I72+K72/1000*$J$141+M72/1000*$K$141) -> 0 | O72: =AVERAGE('Heited suured kütteseamed EU'!$J$118,'Heited suured kütteseamed EU'!$J$176) -> 35.3 | P72: =$D72*O72 -> 0 | Q72: =AVERAGE('Heited suured kütteseamed EU'!$J$116,'Heited suured kütteseamed EU'!$J$174) -> 418.1 | R72: =$D72*Q72 -> 0 | S72: =AVERAGE('Heited suured kütteseamed EU'!$J$117,'Heited suured kütteseamed EU'!$J$175) -> 6.1 | T72: =$D72*S72 -> 0 | U72: ='Heited suured kütteseamed EU'!$J$143 -> 0.281 | V72: =$D72*U72 -> 0 | W72: =AVERAGE('Heited suured kütteseamed EU'!$J$122,'Heited suured kütteseamed EU'!$J$180) -> 15.85 | X72: =$D72*W72 -> 0 | Y72: =SUM(P72,R72,T72,V72,X72) -> 0
A73: Kivisüsi | B73: 0 | C73: 22 | D73: =B73*C73/1000 -> 0 | E73: =C73*B73 -> 0 | F73: 25.74 | G73: 0.99 | H73: =44/12 -> 3.6666667 | I73: =D73*F73*G73*H73 -> 0 | J73: ='Kütteväärtused CO2 CH4 N2O EU'!$B$89 -> 300 | K73: =D73*J73 -> 0 | L73: ='Kütteväärtused CO2 CH4 N2O EU'!$J$16 -> 1.5 | M73: =D73*L73 -> 0 | N73: =SUM(I73+K73/1000*$J$141+M73/1000*$K$141) -> 0 | O73: =AVERAGE('Heited suured kütteseamed EU'!$J$97,'Heited suured kütteseamed EU'!$J$188) -> 199.42 | P73: =$D73*O73 -> 0 | Q73: =AVERAGE('Heited suured kütteseamed EU'!$J$93,'Heited suured kütteseamed EU'!$J$185) -> 5.25 | R73: =$D73*Q73 -> 0 | S73: =AVERAGE('Heited suured kütteseamed EU'!$J$96,'Heited suured kütteseamed EU'!$J$187) -> 0.375 | T73: =$D73*S73 -> 0 | U73: =AVERAGE('Heited suured kütteseamed EU'!$J$161,'Heited suured kütteseamed EU'!$J$174) -> 820 | V73: =$D73*U73 -> 0 | W73: =AVERAGE('Heited suured kütteseamed EU'!$J$103,'Heited suured kütteseamed EU'!$J$193) -> 19.558 | X73: =$D73*W73 -> 0 | Y73: =SUM(P73,R73,T73,V73,X73) -> 0
A74: Kerge kütteõli | B74: 0 | C74: 42.5 | D74: =B74*C74/1000 -> 0 | E74: =C74*B74 -> 0 | F74: 20.26 | G74: 0.99 | H74: =44/12 -> 3.6666667 | I74: =D74*F74*G74*H74 -> 0 | J74: ='Kütteväärtused CO2 CH4 N2O EU'!$B$85 -> 10 | K74: =D74*J74 -> 0 | L74: 0.6 | M74: =D74*L74 -> 0 | N74: =SUM(I74+K74/1000*$J$141+M74/1000*$K$141) -> 0 | O74: ='Heited suured kütteseamed EU'!$J$165 -> 37 | P74: =$D74*O74 -> 0 | Q74: ='Heited suured kütteseamed EU'!$J$163 -> 2.2 | R74: =$D74*Q74 -> 0 | S74: ='Heited suured kütteseamed EU'!$J$164 -> 0.74 | T74: =$D74*S74 -> 0 | U74: =AVERAGE('Heited suured kütteseamed EU'!$J$100,'Heited suured kütteseamed EU'!$J$113,'Heited suured kütteseamed EU'!$J$121) -> 46.5 | V74: =$D74*U74 -> 0 | W74: ='Heited suured kütteseamed EU'!$J$169 -> 1 | X74: =$D74*W74 -> 0 | Y74: =SUM(P74,R74,T74,V74,X74) -> 0
A75: Masuut | B75: 0 | C75: 40.15 | D75: =B75*C75/1000 -> 0 | E75: =C75*B75 -> 0 | F75: 20.92 | G75: 0.99 | H75: =44/12 -> 3.6666667 | I75: =D75*F75*G75*H75 -> 0 | J75: ='Kütteväärtused CO2 CH4 N2O EU'!$B$85 -> 10 | K75: =D75*J75 -> 0 | L75: 0.6 | M75: =D75*L75 -> 0 | N75: =SUM(I75+K75/1000*$J$141+M75/1000*$K$141) -> 0 | O75: ='Heited suured kütteseamed EU'!$J$197 -> 89 | P75: =$D75*O75 -> 0 | Q75: ='Heited suured kütteseamed EU'!$J$195 -> 2.6 | R75: =$D75*Q75 -> 0 | S75: ='Heited suured kütteseamed EU'!$J$196 -> 89 | T75: =$D75*S75 -> 0 | U75: =AVERAGE('Heited suured kütteseamed EU'!$J$161,'Heited suured kütteseamed EU'!$J$174) -> 820 | V75: =$D75*U75 -> 0 | W75: ='Heited suured kütteseamed EU'!$J$201 -> 0.89 | X75: =$D75*W75 -> 0 | Y75: =SUM(P75,R75,T75,V75,X75) -> 0
A76: Põlevkivi | B76: 0 | C76: 8.16 | D76: =B76*C76/1000 -> 0 | E76: =C76*B76 -> 0 | F76: =AVERAGE(26.42,27.25) -> 26.835 | G76: 0.99 | H76: =44/12 -> 3.6666667 | I76: =D76*F76*G76*H76 -> 0 | J76: ='Kütteväärtused CO2 CH4 N2O EU'!$B$91 -> 300 | K76: =D76*J76 -> 0 | L76: 0 | M76: =D76*L76 -> 0 | N76: =SUM(I76+K76/1000*$J$141+M76/1000*$K$141) -> 0 | O76: ='Kütteväärtused CO2 CH4 N2O EU'!$L$53 -> 79.02 | P76: =$D76*O76 -> 0 | Q76: ='Kütteväärtused CO2 CH4 N2O EU'!$L$63 -> 0.88 | R76: =$D76*Q76 -> 0 | S76: ='Kütteväärtused CO2 CH4 N2O EU'!$G$68 -> 0 | T76: =$D76*S76 -> 0 | U76: =AVERAGE('Heited suured kütteseamed EU'!$J$161,'Heited suured kütteseamed EU'!$J$174) -> 820 | V76: =$D76*U76 -> 0 | W76: =AVERAGE('Heited suured kütteseamed EU'!$J$161,'Heited suured kütteseamed EU'!$J$193) -> 429.5 | X76: =$D76*W76 -> 0 | Y76: =SUM(P76,R76,T76,V76,X76) -> 0
A77: Põlevkiviõli (raskem) | B77: 324.75 | C77: 39.22 | D77: =B77*C77/1000 -> 12.736695 | E77: =C77*B77 -> 12736.695 | F77: 21.1 | G77: 0.99 | H77: =44/12 -> 3.6666667 | I77: =D77*F77*G77*H77 -> 975.54168 | J77: ='Kütteväärtused CO2 CH4 N2O EU'!$B$85 -> 10 | K77: =D77*J77 -> 127.36695 | L77: 0.6 | M77: =D77*L77 -> 7.642017 | N77: =SUM(I77+K77/1000*$J$141+M77/1000*$K$141) -> 981.00317 | O77: ='Kütteväärtused CO2 CH4 N2O EU'!$L$53 -> 79.02 | P77: =$D77*O77 -> 1006.4536 | Q77: ='Kütteväärtused CO2 CH4 N2O EU'!$L$63 -> 0.88 | R77: =$D77*Q77 -> 11.208292 | S77: ='Kütteväärtused CO2 CH4 N2O EU'!$G$68 -> 0 | T77: =$D77*S77 -> 0 | U77: =AVERAGE('Heited suured kütteseamed EU'!$J$161,'Heited suured kütteseamed EU'!$J$174) -> 820 | V77: =$D77*U77 -> 10444.09 | W77: ='[3]Heited väiksed kütteseadmed EU'!$J$84 -> 1.9 | X77: =$D77*W77 -> 24.19972 | Y77: =SUM(P77,R77,T77,V77,X77) -> 11485.952
A78: Põlevkiviõli (kergem) | B78: 0 | C78: 42.3 | D78: =B78*C78/1000 -> 0 | E78: =C78*B78 -> 0 | F78: 20.2 | G78: 0.99 | H78: =44/12 -> 3.6666667 | I78: =D78*F78*G78*H78 -> 0 | J78: ='Kütteväärtused CO2 CH4 N2O EU'!$B$85 -> 10 | K78: =D78*J78 -> 0 | L78: 0.6 | M78: =D78*L78 -> 0 | N78: =SUM(I78+K78/1000*$J$141+M78/1000*$K$141) -> 0 | O78: ='Kütteväärtused CO2 CH4 N2O EU'!$L$53 -> 79.02 | P78: =$D78*O78 -> 0 | Q78: ='Kütteväärtused CO2 CH4 N2O EU'!$L$63 -> 0.88 | R78: =$D78*Q78 -> 0 | S78: ='Kütteväärtused CO2 CH4 N2O EU'!$G$68 -> 0 | T78: =$D78*S78 -> 0 | U78: =AVERAGE('Heited suured kütteseamed EU'!$J$161,'Heited suured kütteseamed EU'!$J$174) -> 820 | V78: =$D78*U78 -> 0 | W78: ='[3]Heited väiksed kütteseadmed EU'!$J$84 -> 1.9 | X78: =$D78*W78 -> 0 | Y78: =SUM(P78,R78,T78,V78,X78) -> 0
A79: Diisel | B79: 0 | C79: 42.3 | D79: =B79*C79/1000 -> 0 | E79: =C79*B79 -> 0 | F79: 19.87 | G79: 0.99 | H79: =44/12 -> 3.6666667 | I79: =D79*F79*G79*H79 -> 0 | J79: ='Kütteväärtused CO2 CH4 N2O EU'!$B$85 -> 10 | K79: =D79*J79 -> 0 | L79: 0.6 | M79: =D79*L79 -> 0 | N79: =SUM(I79+K79/1000*$J$141+M79/1000*$K$141) -> 0 | O79: ='Kütteväärtused CO2 CH4 N2O EU'!$L$50 -> 250 | P79: =$D79*O79 -> 0 | Q79: ='Heited suured kütteseamed EU'!$J$195 -> 2.6 | R79: =$D79*Q79 -> 0 | S79: ='Heited suured kütteseamed EU'!$J$196 -> 89 | T79: =$D79*S79 -> 0 | U79: ='Heited suured kütteseamed EU'!$J$182 -> 495 | V79: =$D79*U79 -> 0 | W79: ='Heited suured kütteseamed EU'!$J$201 -> 0.89 | X79: =$D79*W79 -> 0 | Y79: =SUM(P79,R79,T79,V79,X79) -> 0
A80: Koksiahjukoks | B80: 0 | C80: 28.5 | D80: =B80*C80/1000 -> 0 | E80: =C80*B80 -> 0 | F80: 29.02 | G80: 0.99 | H80: =44/12 -> 3.6666667 | I80: =D80*F80*G80*H80 -> 0 | J80: ='Kütteväärtused CO2 CH4 N2O EU'!$B$89 -> 300 | K80: =D80*J80 -> 0 | L80: 1.5 | M80: =D80*L80 -> 0 | N80: =SUM(I80+K80/1000*$J$141+M80/1000*$K$141) -> 0 | O80: =AVERAGE('Heited suured kütteseamed EU'!$J$97,'Heited suured kütteseamed EU'!$J$188) -> 199.42 | P80: =$D80*O80 -> 0 | Q80: =AVERAGE('Heited suured kütteseamed EU'!$J$93,'Heited suured kütteseamed EU'!$J$185) -> 5.25 | R80: =$D80*Q80 -> 0 | S80: =AVERAGE('Heited suured kütteseamed EU'!$J$96,'Heited suured kütteseamed EU'!$J$187) -> 0.375 | T80: =$D80*S80 -> 0 | U80: =AVERAGE('Heited suured kütteseamed EU'!$J$79,'Heited suured kütteseamed EU'!$J$92) -> 820 | V80: =$D80*U80 -> 0 | W80: =AVERAGE('Heited suured kütteseamed EU'!$J$103,'Heited suured kütteseamed EU'!$J$193) -> 19.558 | X80: =$D80*W80 -> 0 | Y80: =SUM(P80,R80,T80,V80,X80) -> 0
A81: Õlijäägid | B81: 0 | C81: 16 | D81: =B81*C81/1000 -> 0 | E81: =C81*B81 -> 0 | F81: 20.18 | G81: 0.99 | H81: =44/12 -> 3.6666667 | I81: =D81*F81*G81*H81 -> 0 | J81: ='Kütteväärtused CO2 CH4 N2O EU'!$B$85 -> 10 | K81: =D81*J81 -> 0 | L81: ='Kütteväärtused CO2 CH4 N2O EU'!$J$13 -> 0.6 | M81: =D81*L81 -> 0 | N81: =SUM(I81+K81/1000*$J$141+M81/1000*$K$141) -> 0 | O81: ='Heited suured kütteseamed EU'!$J$165 -> 37 | P81: =$D81*O81 -> 0 | Q81: ='Heited suured kütteseamed EU'!$J$163 -> 2.2 | R81: =$D81*Q81 -> 0 | S81: ='Heited suured kütteseamed EU'!$J$164 -> 0.74 | T81: =$D81*S81 -> 0 | U81: =AVERAGE('Heited suured kütteseamed EU'!$J$229) -> 495 | V81: =$D81*U81 -> 0 | W81: ='Heited suured kütteseamed EU'!$J$169 -> 1 | X81: =$D81*W81 -> 0 | Y81: =SUM(P81,R81,T81,V81,X81) -> 0
A82: Turvas (turbaplokk) | B82: 0 | C82: 12 | D82: =B82*C82/1000 -> 0 | E82: =C82*B82 -> 0 | F82: 27.82 | G82: 0.99 | H82: =44/12 -> 3.6666667 | I82: =D82*F82*G82*H82 -> 0 | J82: ='Kütteväärtused CO2 CH4 N2O EU'!$B$93 -> 300 | K82: =D82*J82 -> 0 | L82: 1.5 | M82: =D82*L82 -> 0 | N82: =SUM(I82+K82/1000*$J$141+M82/1000*$K$141) -> 0 | O82: 300 | P82: =$D82*O82 -> 0 | Q82: =AVERAGE('[3]Heited väiksed kütteseadmed EU'!$J$34,'[3]Heited väiksed kütteseadmed EU'!$J$56,'[3]Heited väiksed kütteseadmed EU'!$J$147,'[3]Heited väiksed kütteseadmed EU'!$J$168) -> 4696.75 | R82: =$D82*Q82 -> 0 | S82: ='Kütteväärtused CO2 CH4 N2O EU'!$H$68 -> 100 | T82: =$D82*S82 -> 0 | U82: =AVERAGE('Heited suured kütteseamed EU'!$J$248) -> 10.8 | V82: =$D82*U82 -> 0 | W82: =AVERAGE('[3]Heited väiksed kütteseadmed EU'!$J$24,'[3]Heited väiksed kütteseadmed EU'!$J$40,'[3]Heited väiksed kütteseadmed EU'!$J$152,'[3]Heited väiksed kütteseadmed EU'!$J$173) -> 477.75 | X82: =$D82*W82 -> 0 | Y82: =SUM(P82,R82,T82,V82,X82) -> 0
A83: Turbabrikett | B83: 0 | C83: 16 | D83: =B83*C83/1000 -> 0 | E83: =C83*B83 -> 0 | F83: 26.45 | G83: 0.99 | H83: =44/12 -> 3.6666667 | I83: =D83*F83*G83*H83 -> 0 | J83: ='Kütteväärtused CO2 CH4 N2O EU'!$B$93 -> 300 | K83: =D83*J83 -> 0 | L83: 1.5 | M83: =D83*L83 -> 0 | N83: =SUM(I83+K83/1000*$J$141+M83/1000*$K$141) -> 0 | O83: 300 | P83: =$D83*O83 -> 0 | Q83: =AVERAGE('[3]Heited väiksed kütteseadmed EU'!$J$34,'[3]Heited väiksed kütteseadmed EU'!$J$56,'[3]Heited väiksed kütteseadmed EU'!$J$147,'[3]Heited väiksed kütteseadmed EU'!$J$168) -> 4696.75 | R83: =$D83*Q83 -> 0 | S83: ='Kütteväärtused CO2 CH4 N2O EU'!$H$68 -> 100 | T83: =$D83*S83 -> 0 | U83: =AVERAGE('Heited suured kütteseamed EU'!$J$248) -> 10.8 | V83: =$D83*U83 -> 0 | W83: =AVERAGE('[3]Heited väiksed kütteseadmed EU'!$J$24,'[3]Heited väiksed kütteseadmed EU'!$J$40,'[3]Heited väiksed kütteseadmed EU'!$J$152,'[3]Heited väiksed kütteseadmed EU'!$J$173) -> 477.75 | X83: =$D83*W83 -> 0 | Y83: =SUM(P83,R83,T83,V83,X83) -> 0
A84: Freesturvas | B84: 0 | C84: 9.7 | D84: =B84*C84/1000 -> 0 | E84: =C84*B84 -> 0 | F84: 28.9 | G84: 0.99 | H84: =44/12 -> 3.6666667 | I84: =D84*F84*G84*H84 -> 0 | J84: ='Kütteväärtused CO2 CH4 N2O EU'!$B$93 -> 300 | K84: =D84*J84 -> 0 | L84: 1.5 | M84: =D84*L84 -> 0 | N84: =SUM(I84+K84/1000*$J$141+M84/1000*$K$141) -> 0 | O84: 300 | P84: =$D84*O84 -> 0 | Q84: =AVERAGE('[3]Heited väiksed kütteseadmed EU'!$J$34,'[3]Heited väiksed kütteseadmed EU'!$J$56,'[3]Heited väiksed kütteseadmed EU'!$J$147,'[3]Heited väiksed kütteseadmed EU'!$J$168) -> 4696.75 | R84: =$D84*Q84 -> 0 | S84: ='Kütteväärtused CO2 CH4 N2O EU'!$H$68 -> 100 | T84: =$D84*S84 -> 0 | U84: =AVERAGE('Heited suured kütteseamed EU'!$J$248) -> 10.8 | V84: =$D84*U84 -> 0 | W84: =AVERAGE('[3]Heited väiksed kütteseadmed EU'!$J$24,'[3]Heited väiksed kütteseadmed EU'!$J$40,'[3]Heited väiksed kütteseadmed EU'!$J$152,'[3]Heited väiksed kütteseadmed EU'!$J$173) -> 477.75 | X84: =$D84*W84 -> 0 | Y84: =SUM(P84,R84,T84,V84,X84) -> 0
A85: Õlijäägid biojäätmetest | B85: 0 | C85: 16 | D85: =B85*C85/1000 -> 0 | E85: =C85*B85 -> 0 | F85: 20.18 | G85: 0.99 | H85: =44/12 -> 3.6666667 | I85: =D85*F85*G85*H85 -> 0 | J85: ='Kütteväärtused CO2 CH4 N2O EU'!$B$85 -> 10 | K85: =D85*J85 -> 0 | L85: ='Kütteväärtused CO2 CH4 N2O EU'!$J$13 -> 0.6 | M85: =D85*L85 -> 0 | N85: =SUM(K85/1000*$J$141+M85/1000*$K$141) -> 0 | O85: ='Heited suured kütteseamed EU'!$J$165 -> 37 | P85: =$D85*O85 -> 0 | Q85: ='Heited suured kütteseamed EU'!$J$163 -> 2.2 | R85: =$D85*Q85 -> 0 | S85: ='Heited suured kütteseamed EU'!$J$164 -> 0.74 | T85: =$D85*S85 -> 0 | U85: =AVERAGE('Heited suured kütteseamed EU'!$J$248) -> 10.8 | V85: =$D85*U85 -> 0 | W85: ='Heited suured kütteseamed EU'!$J$169 -> 1 | X85: =$D85*W85 -> 0 | Y85: =SUM(P85,R85,T85,V85,X85) -> 0
A86: Halupuit (niiskussisaldus2 ≤20%) | B86: 0 | C86: 14.76 | D86: =B86*C86/1000 -> 0 | E86: =C86*B86 -> 0 | F86: 30.5 | G86: 1 | H86: =44/12 -> 3.6666667 | I86: =D86*F86*G86*H86 -> 0 | J86: ='Kütteväärtused CO2 CH4 N2O EU'!$B$94 -> 300 | K86: =D86*J86 -> 0 | L86: 4 | M86: =D86*L86 -> 0 | N86: =SUM(K86/1000*$J$141+M86/1000*$K$141) -> 0 | O86: ='Heited suured kütteseamed EU'!$J$66 -> 0.736 | P86: =$D86*O86 -> 0 | Q86: ='Heited suured kütteseamed EU'!$J$63 -> 11.7 | R86: =$D86*Q86 -> 0 | S86: ='Heited suured kütteseamed EU'!$J$65 -> 2.2 | T86: =$D86*S86 -> 0 | U86: =AVERAGE('Heited suured kütteseamed EU'!$J$248) -> 10.8 | V86: =$D86*U86 -> 0 | W86: ='Heited suured kütteseamed EU'!$J$72 -> 8.7 | X86: =$D86*W86 -> 0 | Y86: =SUM(P86,R86,T86,V86,X86) -> 0
A87: Puitbrikett (niiskussisaldus2 ≤12%) | B87: 0 | C87: 16.56 | D87: =B87*C87/1000 -> 0 | E87: =C87*B87 -> 0 | F87: 30.5 | G87: 1 | H87: =44/12 -> 3.6666667 | I87: =D87*F87*G87*H87 -> 0 | J87: ='Kütteväärtused CO2 CH4 N2O EU'!$B$94 -> 300 | K87: =D87*J87 -> 0 | L87: 4 | M87: =D87*L87 -> 0 | N87: =SUM(K87/1000*$J$141+M87/1000*$K$141) -> 0 | O87: ='Heited suured kütteseamed EU'!$J$66 -> 0.736 | P87: =$D87*O87 -> 0 | Q87: ='Heited suured kütteseamed EU'!$J$63 -> 11.7 | R87: =$D87*Q87 -> 0 | S87: ='Heited suured kütteseamed EU'!$J$65 -> 2.2 | T87: =$D87*S87 -> 0 | U87: =AVERAGE('Heited suured kütteseamed EU'!$J$248) -> 10.8 | V87: =$D87*U87 -> 0 | W87: ='Heited suured kütteseamed EU'!$J$72 -> 8.7 | X87: =$D87*W87 -> 0 | Y87: =SUM(P87,R87,T87,V87,X87) -> 0
A88: Puitpellet (niiskussisaldus2 ≤12%) | B88: 0 | C88: 16.56 | D88: =B88*C88/1000 -> 0 | E88: =C88*B88 -> 0 | F88: 30.5 | G88: 1 | H88: =44/12 -> 3.6666667 | I88: =D88*F88*G88*H88 -> 0 | J88: ='Kütteväärtused CO2 CH4 N2O EU'!$B$94 -> 300 | K88: =D88*J88 -> 0 | L88: 4 | M88: =D88*L88 -> 0 | N88: =SUM(K88/1000*$J$141+M88/1000*$K$141) -> 0 | O88: ='Heited suured kütteseamed EU'!$J$66 -> 0.736 | P88: =$D88*O88 -> 0 | Q88: ='Heited suured kütteseamed EU'!$J$63 -> 11.7 | R88: =$D88*Q88 -> 0 | S88: ='Heited suured kütteseamed EU'!$J$65 -> 2.2 | T88: =$D88*S88 -> 0 | U88: =AVERAGE('Heited suured kütteseamed EU'!$J$248) -> 10.8 | V88: =$D88*U88 -> 0 | W88: ='Heited suured kütteseamed EU'!$J$72 -> 8.7 | X88: =$D88*W88 -> 0 | Y88: =SUM(P88,R88,T88,V88,X88) -> 0
A89: Puiduhake | B89: 13721.68 | C89: =G143 -> 8.8615385 | D89: =B89*C89/1000 -> 121.5952 | E89: =C89*B89 -> 121595.2 | F89: 30.5 | G89: 1 | H89: =44/12 -> 3.6666667 | I89: =D89*F89*G89*H89 -> 13598.396 | J89: ='Kütteväärtused CO2 CH4 N2O EU'!$B$94 -> 300 | K89: =D89*J89 -> 36478.559 | L89: 4 | M89: =D89*L89 -> 486.38078 | N89: =SUM(K89/1000*$J$141+M89/1000*$K$141) -> 1056.9054 | O89: ='Heited suured kütteseamed EU'!$J$66 -> 0.736 | P89: =$D89*O89 -> 89.494064 | Q89: ='Heited suured kütteseamed EU'!$J$63 -> 11.7 | R89: =$D89*Q89 -> 1422.6638 | S89: ='Heited suured kütteseamed EU'!$J$65 -> 2.2 | T89: =$D89*S89 -> 267.50943 | U89: =AVERAGE('Heited suured kütteseamed EU'!$J$248) -> 10.8 | V89: =$D89*U89 -> 1313.2281 | W89: ='Heited suured kütteseamed EU'!$J$72 -> 8.7 | X89: =$D89*W89 -> 1057.8782 | Y89: =SUM(P89,R89,T89,V89,X89) -> 4150.7736
A90: Biomass | B90: 0 | C90: =AVERAGE(6.9,16.9) -> 11.9 | D90: =B90*C90/1000 -> 0 | E90: =C90*B90 -> 0 | F90: ='Kütteväärtused CO2 CH4 N2O EU'!$D$42 -> 30.5 | G90: 1 | H90: =44/12 -> 3.6666667 | I90: =D90*F90*G90*H90 -> 0 | J90: ='Kütteväärtused CO2 CH4 N2O EU'!$B$94 -> 300 | K90: =D90*J90 -> 0 | L90: ='Kütteväärtused CO2 CH4 N2O EU'!$C$94 -> 4 | M90: =D90*L90 -> 0 | N90: =SUM(K90/1000*$J$141+M90/1000*$K$141) -> 0 | O90: ='Heited suured kütteseamed EU'!$J$9 -> 81 | P90: =$D90*O90 -> 0 | Q90: ='Heited suured kütteseamed EU'!$J$6 -> 90 | R90: =$D90*Q90 -> 0 | S90: ='Heited suured kütteseamed EU'!$J$8 -> 7.31 | T90: =$D90*S90 -> 0 | U90: ='Heited suured kütteseamed EU'!$J$13 -> 10.8 | V90: =$D90*U90 -> 0 | W90: ='Heited suured kütteseamed EU'!$J$14 -> 172 | X90: =$D90*W90 -> 0 | Y90: =SUM(P90,R90,T90,V90,X90) -> 0
A91: ruumiühikutes | B91: tuh. m3/aasta | C91: MJ/m3 | D91: TJ/aasta | E91: GJ/aasta | F91: tC/TJ | G91: arv | H91: 44/12 | I91: t/aasta | J91: kg/TJ | K91: kg/aasta | L91: kg/TJ | M91: kg/aasta | N91: t/aasta | O91: kg/TJ | P91: kg/aasta | Q91: kg/TJ | R91: kg/aasta | S91: kg/TJ | T91: kg/aasta | U91: kg/TJ | V91: kg/aasta | W91: kg/TJ | X91: kg/aasta | Y91: kg/aasta
A92: Maagaas | B92: 0 | C92: =33.6 -> 33.6 | D92: =B92*C92/1000 -> 0 | E92: =C92*B92 -> 0 | F92: 15.3 | G92: 0.995 | H92: =44/12 -> 3.6666667 | I92: =D92*F92*G92*H92 -> 0 | J92: ='Kütteväärtused CO2 CH4 N2O EU'!$B$87 -> 5 | K92: =D92*J92 -> 0 | L92: 0.1 | M92: =D92*L92 -> 0 | N92: =SUM(I92+K92/1000*$J$141+M92/1000*$K$141) -> 0 | O92: ='Heited suured kütteseamed EU'!$J$140 -> 89 | P92: =$D92*O92 -> 0 | Q92: ='Heited suured kütteseamed EU'!$J$138 -> 39.3 | R92: =$D92*Q92 -> 0 | S92: ='Heited suured kütteseamed EU'!$J$139 -> 2.6 | T92: =$D92*S92 -> 0 | U92: ='Heited suured kütteseamed EU'!$J$143 -> 0.281 | V92: =$D92*U92 -> 0 | W92: ='Heited suured kütteseamed EU'!$J$144 -> 0.89 | X92: =$D92*W92 -> 0 | Y92: =SUM(P92,R92,T92,V92,X92) -> 0
A93: Poolkoksigaas | B93: 0 | C93: ='Kütteväärtused CO2 CH4 N2O EU'!$B$26 -> 43.96 | D93: =B93*C93/1000 -> 0 | E93: =C93*B93 -> 0 | F93: ='Kütteväärtused CO2 CH4 N2O EU'!$D$26 -> 18.44 | G93: 0.995 | H93: =44/12 -> 3.6666667 | I93: =D93*F93*G93*H93 -> 0 | J93: ='Kütteväärtused CO2 CH4 N2O EU'!$I$26 -> 1 | K93: =D93*J93 -> 0 | L93: ='Kütteväärtused CO2 CH4 N2O EU'!$J$26 -> 0.1 | M93: =D93*L93 -> 0 | N93: =SUM(I93+K93/1000*$J$141+M93/1000*$K$141) -> 0 | O93: ='Heited suured kütteseamed EU'!$J$140 -> 89 | P93: =$D93*O93 -> 0 | Q93: ='Heited suured kütteseamed EU'!$J$138 -> 39.3 | R93: =$D93*Q93 -> 0 | S93: ='Heited suured kütteseamed EU'!$J$139 -> 2.6 | T93: =$D93*S93 -> 0 | U93: ='Heited suured kütteseamed EU'!$J$143 -> 0.281 | V93: =$D93*U93 -> 0 | W93: ='Heited suured kütteseamed EU'!$J$144 -> 0.89 | X93: =$D93*W93 -> 0 | Y93: =SUM(P93,R93,T93,V93,X93) -> 0
A94: Generaatorgaas | B94: 0 | C94: ='Kütteväärtused CO2 CH4 N2O EU'!$B$33 -> 3.4 | D94: =B94*C94/1000 -> 0 | E94: =C94*B94 -> 0 | F94: ='Kütteväärtused CO2 CH4 N2O EU'!$D$33 -> 42.61 | G94: 0.995 | H94: =44/12 -> 3.6666667 | I94: =D94*F94*G94*H94 -> 0 | J94: ='Kütteväärtused CO2 CH4 N2O EU'!$I$33 -> 1 | K94: =D94*J94 -> 0 | L94: ='Kütteväärtused CO2 CH4 N2O EU'!$J$33 -> 0.1 | M94: =D94*L94 -> 0 | N94: =SUM(I94+K94/1000*$J$141+M94/1000*$K$141) -> 0 | O94: ='Heited suured kütteseamed EU'!$J$140 -> 89 | P94: =$D94*O94 -> 0 | Q94: ='Heited suured kütteseamed EU'!$J$138 -> 39.3 | R94: =$D94*Q94 -> 0 | S94: ='Heited suured kütteseamed EU'!$J$139 -> 2.6 | T94: =$D94*S94 -> 0 | U94: ='Heited suured kütteseamed EU'!$J$143 -> 0.281 | V94: =$D94*U94 -> 0 | W94: ='Heited suured kütteseamed EU'!$J$144 -> 0.89 | X94: =$D94*W94 -> 0 | Y94: =SUM(P94,R94,T94,V94,X94) -> 0
A95: Biogaas (prügila- ja reoveesette gaas) | B95: 0 | C95: =17.4 -> 17.4 | D95: =B95*C95/1000 -> 0 | E95: =C95*B95 -> 0 | F95: 14.89 | G95: 0.995 | H95: =44/12 -> 3.6666667 | I95: =D95*F95*G95*H95 -> 0 | J95: ='Kütteväärtused CO2 CH4 N2O EU'!$B$87 -> 5 | K95: =D95*J95 -> 0 | L95: 0.1 | M95: =D95*L95 -> 0 | N95: =SUM(K95/1000*$J$141+M95/1000*$K$141) -> 0 | O95: ='Heited suured kütteseamed EU'!$J$140 -> 89 | P95: =$D95*O95 -> 0 | Q95: ='Heited suured kütteseamed EU'!$J$138 -> 39.3 | R95: =$D95*Q95 -> 0 | S95: ='Heited suured kütteseamed EU'!$J$139 -> 2.6 | T95: =$D95*S95 -> 0 | U95: ='Heited suured kütteseamed EU'!$J$143 -> 0.281 | V95: =$D95*U95 -> 0 | W95: ='Heited suured kütteseamed EU'!$J$144 -> 0.89 | X95: =$D95*W95 -> 0 | Y95: =SUM(P95,R95,T95,V95,X95) -> 0
A96: ruumiühikutes puit | B96: m3/aasta | C96: MJ/m3 | D96: TJ/aasta | E96: GJ/aasta | F96: tC/TJ | G96: arv | H96: 44/12 | I96: t/aasta | J96: kg/TJ | K96: kg/aasta | L96: kg/TJ | M96: kg/aasta | N96: t/aasta | O96: kg/TJ | P96: kg/aasta | Q96: kg/TJ | R96: kg/aasta | S96: kg/TJ | T96: kg/aasta | U96: kg/TJ | V96: kg/aasta | W96: kg/TJ | X96: kg/aasta | Y96: kg/aasta
A97: Küttepuud, segapuit (ruumimeeter) | B97: 0 | C97: 4680 | D97: =B97*C97/1000/1000 -> 0 | E97: =C97*B97/1000 -> 0 | F97: 30.5 | G97: 0.995 | H97: =44/12 -> 3.6666667 | I97: =D97*F97*G97*H97 -> 0 | J97: ='Kütteväärtused CO2 CH4 N2O EU'!$B$94 -> 300 | K97: =D97*J97 -> 0 | L97: 4 | M97: =D97*L97 -> 0 | N97: =SUM(K97/1000*$J$141+M97/1000*$K$141) -> 0 | O97: ='Heited suured kütteseamed EU'!$J$66 -> 0.736 | P97: =$D97*O97 -> 0 | Q97: ='Heited suured kütteseamed EU'!$J$63 -> 11.7 | R97: =$D97*Q97 -> 0 | S97: ='Heited suured kütteseamed EU'!$J$65 -> 2.2 | T97: =$D97*S97 -> 0 | V97: =$D97*U97 -> 0 | W97: ='Heited suured kütteseamed EU'!$J$72 -> 8.7 | X97: =$D97*W97 -> 0 | Y97: =SUM(P97,R97,T97,V97,X97) -> 0
A98: Küttepuud, kask (ruumimeeter) | B98: 0 | C98: 5400 | D98: =B98*C98/1000/1000 -> 0 | E98: =C98*B98/1000 -> 0 | F98: 30.5 | G98: 0.995 | H98: =44/12 -> 3.6666667 | I98: =D98*F98*G98*H98 -> 0 | J98: ='Kütteväärtused CO2 CH4 N2O EU'!$B$94 -> 300 | K98: =D98*J98 -> 0 | L98: 4 | M98: =D98*L98 -> 0 | N98: =SUM(K98/1000*$J$141+M98/1000*$K$141) -> 0 | O98: ='Heited suured kütteseamed EU'!$J$66 -> 0.736 | P98: =$D98*O98 -> 0 | Q98: ='Heited suured kütteseamed EU'!$J$63 -> 11.7 | R98: =$D98*Q98 -> 0 | S98: ='Heited suured kütteseamed EU'!$J$65 -> 2.2 | T98: =$D98*S98 -> 0 | V98: =$D98*U98 -> 0 | W98: ='Heited suured kütteseamed EU'!$J$72 -> 8.7 | X98: =$D98*W98 -> 0 | Y98: =SUM(P98,R98,T98,V98,X98) -> 0
A99: Puiduhake (puistekuupmeeter) | B99: 0 | C99: 2880 | D99: =B99*C99/1000/1000 -> 0 | E99: =C99*B99/1000 -> 0 | F99: 30.5 | G99: 0.995 | H99: =44/12 -> 3.6666667 | I99: =D99*F99*G99*H99 -> 0 | J99: ='Kütteväärtused CO2 CH4 N2O EU'!$B$94 -> 300 | K99: =D99*J99 -> 0 | L99: 4 | M99: =D99*L99 -> 0 | N99: =SUM(K99/1000*$J$141+M99/1000*$K$141) -> 0 | O99: ='Heited suured kütteseamed EU'!$J$66 -> 0.736 | P99: =$D99*O99 -> 0 | Q99: ='Heited suured kütteseamed EU'!$J$63 -> 11.7 | R99: =$D99*Q99 -> 0 | S99: ='Heited suured kütteseamed EU'!$J$65 -> 2.2 | T99: =$D99*S99 -> 0 | U99: =AVERAGE('Heited suured kütteseamed EU'!$J$248) -> 10.8 | V99: =$D99*U99 -> 0 | W99: ='Heited suured kütteseamed EU'!$J$72 -> 8.7 | X99: =$D99*W99 -> 0 | Y99: =SUM(P99,R99,T99,V99,X99) -> 0
A100: Elekter | B100: Kasutatud kütuse kogus | C100: Kasutatud kütuse kogus | D100: Aastane kütteväärtus | E100: Aastane kütteväärtus | H100: CO2 emisiooni-faktor | I100: CO2 kogus | J100: CH4 emissiooni-faktor | K100: CH4 kogus | L100: N2O emissiooni-faktor | M100: N2O kogus | N100: CO2e kogus*
B101: kWh/a | C101: MJ/a | D101: TJ/aasta | E101: GJ/aasta | H101: g/kWh | I101: t/aasta | J101: g/kWh | K101: kg/aasta | L101: g/kWh | M101: kg/aasta | N101: t/aasta
A102: Tavaline võrguelekter | B102: 100000 | C102: =B102*$B$140 -> 360000 | D102: =C102/1000000 -> 0.36 | E102: =C102/1000 -> 360 | H102: ='Elekter 2025'!B5 -> 467.35 | I102: =B102*H102/1000000 -> 46.735 | J102: ='Elekter 2025'!B7 -> NA | K102: =IFERROR(B102*J102/1000,0) -> 0 | L102: ='Elekter 2025'!B6 -> NA | M102: =IFERROR(B102*L102/1000,0) -> 0 | N102: =SUM(I102+K102/1000*$J$141+M102/1000*$K$141) -> 46.735
A103: Päritolutunnistusega võrguelekter (taastuvelekter) | B103: 0 | C103: =B103*$B$140 -> 0 | D103: =C103/1000000 -> 0 | E103: =C103/1000 -> 0 | H103: 0 | I103: =$C103*H103/1000000 -> 0 | J103: 0 | K103: =$C103*J103/1000000 -> 0 | L103: 0 | M103: =$C103*L103/1000000 -> 0 | N103: =SUM(I103+K103/1000*$J$141+M103/1000*$K$141) -> 0
A104: Kohapeal toodetud taastuvelekter | B104: 0 | C104: =B104*$B$140 -> 0 | D104: =C104/1000000 -> 0 | E104: =C104/1000 -> 0 | H104: 0 | I104: =$C104*H104/1000000 -> 0 | J104: 0 | K104: =$C104*J104/1000000 -> 0 | L104: 0 | M104: =$C104*L104/1000000 -> 0 | N104: =SUM(I104+K104/1000*$J$141+M104/1000*$K$141) -> 0
A105: Kasutatav jääksoojus | B105: kWh/a | C105: MJ/a | D105: TJ/aasta | E105: GJ/aasta | H105: t/TJ | I105: t/aasta | J105: kg/TJ | K105: kg/aasta | L105: kg/TJ | M105: kg/aasta | N105: t/aasta
A106: Summaarne jääksoojus | B106: 0 | C106: =B106*$B$140 -> 0 | D106: =C106/1000000 -> 0 | E106: =C106/1000 -> 0 | H106: 0 | I106: =$C106*H106/1000000 -> 0 | J106: 0 | K106: =$C106*J106/1000000 -> 0 | L106: 0 | M106: =$C106*L106/1000000 -> 0 | N106: =SUM(I106+K106/1000*$J$141+M106/1000*$K$141) -> 0
A107: KOKKU | D107: =SUM(D72:D90,D92:D95,D97:D99,D102:D104,D106) -> 134.69189 | E107: =SUM(E72:E90,E92:E95,E97:E99,E102:E104,E106) -> 134691.89 | I107: =SUM(I72:I90,I92:I95,I97:I99,I102:I104,I106) -> 14620.673 | K107: =SUM(K72:K90,K92:K95,K97:K99,K102:K104,K106) -> 36605.925 | M107: =SUM(M72:M90,M92:M95,M97:M99,M102:M104,M106) -> 494.0228 | N107: =SUM(N72:N90,N92:N95,N97:N99,N102:N104,N106) -> 2084.6436 | P107: =SUM(P72:P90,P92:P95,P97:P99,P102:P104,P106) -> 1095.9477 | R107: =SUM(R72:R90,R92:R95,R97:R99,R102:R104,R106) -> 1433.8721 | T107: =SUM(T72:T90,T92:T95,T97:T99,T102:T104,T106) -> 267.50943 | V107: =SUM(V72:V90,V92:V95,V97:V99,V102:V104,V106) -> 11757.318 | X107: =SUM(X72:X90,X92:X95,X97:X99,X102:X104,X106) -> 1082.0779 | Y107: =SUM(Y72:Y90,Y92:Y95,Y97:Y99,Y102:Y104,Y106) -> 15636.725
...

Sheet Katlamajad
A1: Kopeeri aruandlusaastast siia vajalikud andmed (lae aruande pdf alla ja ava wordi failina, seejärel kopeeri vajalikud tabelid tervikuna siia)
A2: Viide aruandele | C2: https://kotkas.envir.ee/annual_reports_registry/view?search=1&nav_tab=annual_reports_registry&s__permit_nr_like=L.%C3%95V.TM-43364&s__owner_name=&s__year=2020&annual_report_id=24575
A3: 2.5. Kütuste ning jäätmete kasutamine ja energia tootmine tegevusalade kaupa
A4: Kasutatav kütus ja jäätmed | H4: Energia tootmine, MWh/a
A5: Kütuse liik | B5: Kütuse nimetus | C5: KN kood | D5: KN nimetus | E5: Tegevusala või tootmisprotsess | H5: Elekter | K5: Soojus ja aur
E6: SNAP kood | F6: Kütuse ja jäätmete kogus aastas | H6: Kokku | I6: Omatarve | J6: Müük | K6: Kokku | L6: Omatarve | M6: Müük
F7: Kogus | G7: Ühik
A8: Tahke kütus | B8: Puiduhake | C8: 440139 | D8: puiduhake ja puidujäätmed | E8: 010203b - Piirkondlikud katlamajad - põletusseade | F8: 492.7 | G8: tonni | H8: 0 | I8: 0 | J8: 0 | K8: 1058.621 | L8: 0 | M8: 899
E9: < 20 MW (katlad)
A10: Vedelkütus | B10: Põlevkiviõli (raske fraktsioon) | C10: 27101964 | D10: põlevkiviõli | E10: 010203b - Piirkondlikud katlamajad - põletusseade | F10: 3.718 | G10: tonni | H10: 0 | I10: 0 | J10: 0 | K10: 35.321 | L10: 0 | M10: 35.321
E11: < 20 MW (katlad)

Sheet Heited suured kütteseamed EU
A1: NFR | B1: Sector | C1: Table | D1: Type | E1: Technology | F1: Fuel | G1: Abatement | H1: Region | I1: Pollutant | J1: Value | K1: Unit | L1: CI_lower | M1: CI_upper | N1: Reference
A2: 1.A.1.a | B2: Public electricity and heat production | C2: Table_3-7 | D2: Tier 1 emission factor | E2: NA | F2: Biomass | H2: NA | I2: BC | J2: 3.3 | K2: % of PM2.5 | L2: 1.6 | M2: 6.6 | N2: See note in Guidebook chapter
A3: 1.A.1.a | B3: Public electricity and heat production | C3: Table_3-7 | D3: Tier 1 emission factor | E3: NA | F3: Biomass | H3: NA | I3: Benzo(a)pyrene | J3: 1.12 | K3: mg/GJ | L3: 0.671 | M3: 1.57 | N3: US EPA (2003), chapter 1.6
A4: 1.A.1.a | B4: Public electricity and heat production | C4: Table_3-7 | D4: Tier 1 emission factor | E4: NA | F4: Biomass | H4: NA | I4: Benzo(b)fluoranthene | J4: 0.043 | K4: mg/GJ | L4: 0.0215 | M4: 0.0645 | N4: US EPA (2003), chapter 1.6
A5: 1.A.1.a | B5: Public electricity and heat production | C5: Table_3-7 | D5: Tier 1 emission factor | E5: NA | F5: Biomass | H5: NA | I5: Benzo(k)fluoranthene | J5: 0.0155 | K5: mg/GJ | L5: 0.00774 | M5: 0.0232 | N5: US EPA (2003), chapter 1.6
A6: 1.A.1.a | B6: Public electricity and heat production | C6: Table_3-7 | D6: Tier 1 emission factor | E6: NA | F6: Biomass | H6: NA | I6: CO | J6: 90 | K6: g/GJ | L6: 45 | M6: 180 | N6: Nielsen et al., 2010
A7: 1.A.1.a | B7: Public electricity and heat production | C7: Table_3-7 | D7: Tier 1 emission factor | E7: NA | F7: Biomass | H7: NA | I7: HCB | J7: 5 | K7: µg/GJ | L7: 0.5 | M7: 50 | N7: Bailey, 2001
A8: 1.A.1.a | B8: Public electricity and heat production | C8: Table_3-7 | D8: Tier 1 emission factor | E8: NA | F8: Biomass | H8: NA | I8: NMVOC | J8: 7.31 | K8: g/GJ | L8: 2.44 | M8: 21.9 | N8: US EPA (2003), chapter 1.6
A9: 1.A.1.a | B9: Public electricity and heat production | C9: Table_3-7 | D9: Tier 1 emission factor | E9: NA | F9: Biomass | H9: NA | I9: NOx | J9: 81 | K9: g/GJ | L9: 40 | M9: 160 | N9: Nielsen et al., 2010
A10: 1.A.1.a | B10: Public electricity and heat production | C10: Table_3-7 | D10: Tier 1 emission factor | E10: NA | F10: Biomass | H10: NA | I10: PCB | J10: 3.5 | K10: µg/GJ | L10: 0.35 | M10: 35 | N10: US EPA (2003), chapter 1.6
A11: 1.A.1.a | B11: Public electricity and heat production | C11: Table_3-7 | D11: Tier 1 emission factor | E11: NA | F11: Biomass | H11: NA | I11: PM10 | J11: 155 | K11: g/GJ | L11: 77 | M11: 310 | N11: US EPA (2003), chapter 1.6
A12: 1.A.1.a | B12: Public electricity and heat production | C12: Table_3-7 | D12: Tier 1 emission factor | E12: NA | F12: Biomass | H12: NA | I12: PM2.5 | J12: 133 | K12: g/GJ | L12: 66 | M12: 266 | N12: US EPA (2003), chapter 1.6
A13: 1.A.1.a | B13: Public electricity and heat production | C13: Table_3-7 | D13: Tier 1 emission factor | E13: NA | F13: Biomass | H13: NA | I13: SOx | J13: 10.8 | K13: g/GJ | L13: 6.45 | M13: 15.1 | N13: US EPA (2003), chapter 1.6
... A249: 1.A.1.a | B249: Public electricity and heat production | C249: Table_3-13 | D249: Tier 2 emission factor | E249: Dry Bottom Boilers | F249: Wood and wood waste (clean wood waste) | H249: NA | I249: TSP | J249: 172 | K249: g/GJ | L249: 86 | M249: 344 | N249: US EPA (2003), chapter 1.6
A252: Allikas: | B252: http://efdb.apps.eea.europa.eu/?source=%7B%22query%22%3A%7B%22bool%22%3A%7B%22must%22%3A%7B%22match_all%22%3A%7B%7D%7D%2C%22filter%22%3A%7B%22bool%22%3A%7B%22must%22%3A%5B%7B%22bool%22%3A%7B%22should%22%3A%5B%7B%22term%22%3A%7B%22Pollutant%22%3A%22CH4%22%7D%7D%2C%7B%22term%22%3A%7B%22Pollutant%22%3A%22CO2%22%7D%7D%2C%7B%22term%22%3A%7B%22Pollutant%22%3A%22N2O%22%7D%7D%2C%7B%22term%22%3A%7B%22Pollutant%22%3A%22NH3%22%7D%7D%2C%7B%22term%22%3A%7B%22Pollutant%22%3A%22BC%22%7D%7D%2C%7B%22term%22%3A%7B%22Pollutant%22%3A%22Benzo(a)pyrene%22%7D%7D%2C%7B%22term%22%3A%7B%22Pollutant%22%3A%22Benzo(b)fluoranthene%22%7D%7D%2C%7B%22term%22%3A%7B%22Pollutant%22%3A%22Benzo(k)fluoranthene%22%7D%7D%2C%7B%22term%22%3A%7B%22Pollutant%22%3A%22CO%22%7D%7D%2C%7B%22term%22%3A%7B%22Pollutant%22%3A%22NMVOC%22%7D%7D%2C%7B%22term%22%3A%7B%22Pollutant%22%3A%22NOx%22%7D%7D%2C%7B%22term%22%3A%7B%22Pollutant%22%3A%22HCB%22%7D%7D%2C%7B%22term%22%3A%7B%22Pollutant%22%3A%22PCB%22%7D%7D%2C%7B%22term%22%3A%7B%22Pollutant%22%3A%22PM10%22%7D%7D%2C%7B%22term%22%3A%7B%22Pollutant%22%3A%22PM2.5%22%7D%7D%2C%7B%22term%22%3A%7B%22Pollutant%22%3A%22SOx%22%7D%7D%2C%7B%22term%22%3A%7B%22Pollutant%22%3A%22TSP%22%7D%7D%5D%7D%7D%2C%7B%22bool%22%3A%7B%22should%22%3A%5B%7B%22term%22%3A%7B%22Fuel%22%3A%22%27Other%27%20Liquid%20Fuels%22%7D%7D%2C%7B%22term%22%3A%7B%22Fuel%22%3A%22Coal%20Fuels%22%7D%7D%2C%7B%22term%22%3A%7B%22Fuel%22%3A%22Hard%20Coal%20and%20Brown%20Coal%22%7D%7D%2C%7B%22term%22%3A%7B%22Fuel%22%3A%22Solid%20Fuel%20(not%20biomass)%22%7D%7D%2C%7B%22term%22%3A%7B%22Fuel%22%3A%22Wood%22%7D%7D%2C%7B%22term%22%3A%7B%22Fuel%22%3A%22Wood%20and%20similar%20wood%20waste%22%7D%7D%2C%7B%22term%22%3A%7B%22Fuel%22%3A%22Biomass%22%7D%7D%2C%7B%22term%22%3A%7B%22Fuel%22%3A%22Brown%20Coal%22%7D%7D%2C%7B%22term%22%3A%7B%22Fuel%22%3A%22Brown%20Coal%2FLignite%22%7D%7D%2C%7B%22term%22%3A%7B%22Fuel%22%3A%22Coking%20Coal%22%7D%7D%2C%7B%22term%22%3A%7B%22Fuel%22%3A%22Gas%20Oil%22%7D%7D%2C%7B%22term%22%3A%7B%22Fuel%22%3A%22Gas%20oil%22%7D%7D%2C%7B%22term%22%3A%7B%22Fuel%22%3A%22Gaseous%20Fuels%22%7D%7D%2C%7B%22term%22%3A%7B%22Fuel%22%3A%22Gaseous%20fuels%22%7D%7D%2C%7B%22term%22%3A%7B%22Fuel%22%3A%22Hard%20Coal%22%7D%7D%2C%7B%22term%22%3A%7B%22Fuel%22%3A%22Heavy%20Fuel%20Oil%22%7D%7D%2C%7B%22term%22%3A%7B%22Fuel%22%3A%22Natural%20Gas%22%7D%7D%2C%7B%22term%22%3A%7B%22Fuel%22%3A%22Natural%20gas%22%7D%7D%2C%7B%22term%22%3A%7B%22Fuel%22%3A%22Residual%20Oil%22%7D%7D%2C%7B%22term%22%3A%7B%22Fuel%22%3A%22Wood%20and%20wood%20waste%20(clean%20wood%20waste)%22%7D%7D%2C%7B%22term%22%3A%7B%22Fuel%22%3A%22Steam%20Coal%20%26%20Sub-Bituminous%20Coal%22%7D%7D%5D%7D%7D%2C%7B%22bool%22%3A%7B%22should%22%3A%5B%7B%22term%22%3A%7B%22code%22%3A%221.A.1.a%20Public%20electricity%20and%20heat%20production%22%7D%7D%5D%7D%7D%5D%7D%7D%7D%7D%2C%22display_type%22%3A%22tabular%22%7D
A254: Lühendid põlemisel tekkivate lenduvate saasteainete kohta: | F254: Nimetus aastaaruannetes
A255: BC | B255: must süsinik, mõõdetakse % PM2.5 suhtes | C255: must süsinik, mõõdetakse % PM2.5 suhtes | D255: must süsinik, mõõdetakse % PM2.5 suhtes | F255: -
A256: CO | B256: CO - süsnikmonooksiid | C256: CO - süsnikmonooksiid | D256: CO - süsnikmonooksiid | F256: Süsinikmonooksiid
A257: NH3 | B257: NH3 - ammoniaak | C257: NH3 - ammoniaak | D257: NH3 - ammoniaak
A258: NMVOC | B258: lenduvad orgaanilised ained v.a. metaan | C258: lenduvad orgaanilised ained v.a. metaan | D258: lenduvad orgaanilised ained v.a. metaan | F258: Lenduvad orgaanilised ühendid kütuse põletamisel
A259: NOx | B259: NOx - lämmastiku oksiidid | C259: NOx - lämmastiku oksiidid | D259: NOx - lämmastiku oksiidid | F259: Lämmastikdioksiid
A260: PM10 | B260: PM10 - tahked osakesed suurusega alla 10 mikromeetri | C260: PM10 - tahked osakesed suurusega alla 10 mikromeetri | D260: PM10 - tahked osakesed suurusega alla 10 mikromeetri | F260: -
A261: PM2.5 | B261: PM2,5 - tahked osakesed suurusega alla 2,5 mikromeetri | C261: PM2,5 - tahked osakesed suurusega alla 2,5 mikromeetri | D261: PM2,5 - tahked osakesed suurusega alla 2,5 mikromeetri | F261: -
A262: TSP | B262: kõik tahked osakesed | C262: kõik tahked osakesed | D262: kõik tahked osakesed | F262: Tahked osakesed, summaarsed
A264: Ühikuteisendus: | E264: g/GJ = kg/TJ

Sheet Heited väiksed kütteseadmed EU
A1: NFR | B1: Sektor | C1: Table | D1: Type | E1: Tehnoloogia | F1: Kütus | G1: Abatement | H1: Region | I1: Saasteaine | J1: Väärtus | K1: Ühik | L1: CI_lower | M1: CI_upper | N1: Kirjandusallikas
A2: 1.A.4.b.i | B2: Olme/elamu põletusseade | C2: Table_3-42 | D2: Tier 2 emission factor | E2: Uuemad / ökomärgisega ahjud ja boilerid | F2: Puit | H2: NA | I2: BC | J2: 28 | K2: % of PM2.5 | L2: 11 | M2: 39 | N2: Goncalves et al. (2010)
A3: 1.A.4.b.i | B3: Olme/elamu põletusseade | C3: Table_3-42 | D3: Tier 2 emission factor | E3: Uuemad / ökomärgisega ahjud ja boilerid | F3: Puit | H3: NA | I3: CO | J3: 2000 | K3: g/GJ | L3: 500 | M3: 5000 | N3: Johansson et al. (2003)
A4: 1.A.4.b.i | B4: Olme/elamu põletusseade | C4: Table_3-42 | D4: Tier 2 emission factor | E4: Uuemad / ökomärgisega ahjud ja boilerid | F4: Puit | H4: NA | I4: NH3 | J4: 37 | K4: g/GJ | L4: 18 | M4: 74 | N4: Roe et al. (2004)
A5: 1.A.4.b.i | B5: Olme/elamu põletusseade | C5: Table_3-42 | D5: Tier 2 emission factor | E5: Uuemad / ökomärgisega ahjud ja boilerid | F5: Puit | H5: NA | I5: NMVOC | J5: 250 | K5: g/GJ | L5: 20 | M5: 500 | N5: EMEP/EEA Guidebook 2009
A6: 1.A.4.b.i | B6: Olme/elamu põletusseade | C6: Table_3-42 | D6: Tier 2 emission factor | E6: Uuemad / ökomärgisega ahjud ja boilerid | F6: Puit | H6: NA | I6: NOx | J6: 95 | K6: g/GJ | L6: 50 | M6: 150 | N6: Pettersson et al. (2011)
A7: 1.A.4.b.i | B7: Olme/elamu põletusseade | C7: Table_3-42 | D7: Tier 2 emission factor | E7: Uuemad / ökomärgisega ahjud ja boilerid | F7: Puit | H7: NA | I7: PM10 | J7: 95 | K7: g/GJ | L7: 19 | M7: 238 | N7: Johansson et al.(2003)
A8: 1.A.4.b.i | B8: Olme/elamu põletusseade | C8: Table_3-42 | D8: Tier 2 emission factor | E8: Uuemad / ökomärgisega ahjud ja boilerid | F8: Puit | H8: NA | I8: PM2.5 | J8: 93 | K8: g/GJ | L8: 19 | M8: 233 | N8: Johansson et al.(2003)
A9: 1.A.4.b.i | B9: Olme/elamu põletusseade | C9: Table_3-42 | D9: Tier 2 emission factor | E9: Uuemad / ökomärgisega ahjud ja boilerid | F9: Puit | H9: NA | I9: TSP | J9: 100 | K9: g/GJ | L9: 20 | M9: 250 | N9: Johansson et al.(2003)
A10: 1.A.4.b.i | B10: Olme/elamu põletusseade | C10: Table_3-19 | D10: Tier 2 emission factor | E10: Uuemad söepõletustehnikad <1MWth - uuemad ahjud | F10: Kivisüsi / kivisöe tahkekütused | H10: NA | I10: BC | J10: 6.4 | K10: % of PM2.5 | L10: 2 | M10: 26 | N10: Zhang et al. (2012)
A11: 1.A.4.b.i | B11: Olme/elamu põletusseade | C11: Table_3-19 | D11: Tier 2 emission factor | E11: Uuemad söepõletustehnikad <1MWth - uuemad ahjud | F11: Kivisüsi / kivisöe tahkekütused | H11: NA | I11: CO | J11: 2000 | K11: g/GJ | L11: 200 | M11: 3000 | N11: Guidebook (2006) chapter B216
A12: 1.A.4.b.i | B12: Olme/elamu põletusseade | C12: Table_3-19 | D12: Tier 2 emission factor | E12: Uuemad söepõletustehnikad <1MWth - uuemad ahjud | F12: Kivisüsi / kivisöe tahkekütused | H12: NA | I12: NMVOC | J12: 300 | K12: g/GJ | L12: 20 | M12: 400 | N12: Guidebook (2006) chapter B216
A13: 1.A.4.b.i | B13: Olme/elamu põletusseade | C13: Table_3-19 | D13: Tier 2 emission factor | E13: Uuemad söepõletustehnikad <1MWth - uuemad ahjud | F13: Kivisüsi / kivisöe tahkekütused | H13: NA | I13: NOx | J13: 150 | K13: g/GJ | L13: 50 | M13: 200 | N13: Guidebook (2006) chapter B216
... A107: 1.A.4.b.i | B107: Olme/elamu põletusseade | C107: Table_3-31 | D107: Tier 2 emission factor | E107: kolbmootor (Reciprocating Engines) | F107: Kerge kütteõli | H107: NA | I107: TSP | J107: 30 | K107: g/GJ | L107: 18 | M107: 42 | N107: BUWAL (2001)
A108: 1.A.4.b.i | B108: Olme/elamu põletusseade | C108: Table_3-49_04 | D108: Tier 2 emission factor | E108: Elamud - Uuemad / ökomärgisega ahjud ja boilerid | F108: Puit | H108: NA | I108: BC | J108: 55 | K108: % of PM2.5 | N108: Denier van der Gon et al. (2015) applied on EFs in Table 3.42
A109: 1.A.4.b.i | B109: Olme/elamu põletusseade | C109: Table_3-49_04 | D109: Tier 2 emission factor | E109: Elamud - Uuemad / ökomärgisega ahjud ja boilerid | F109: Puit | H109: NA | I109: PM10 | J109: 49 | K109: g/GJ | N109: Denier van der Gon et al. (2015) applied on EFs in Table 3.42
A110: 1.A.4.b.i | B110: Olme/elamu põletusseade | C110: Table_3-49_04 | D110: Tier 2 emission factor | E110: Elamud - Uuemad / ökomärgisega ahjud ja boilerid | F110: Puit | H110: NA | I110: PM2.5 | J110: 47 | K110: g/GJ | N110: Denier van der Gon et al. (2015) applied on EFs in Table 3.42
A111: 1.A.4.b.i | B111: Olme/elamu põletusseade | C111: Table_3-49_04 | D111: Tier 2 emission factor | E111: Elamud - Uuemad / ökomärgisega ahjud ja boilerid | F111: Puit | H111: NA | I111: TSP | J111: 54 | K111: g/GJ | N111: Denier van der Gon et al. (2015) applied on EFs in Table 3.42
A112: 1.A.4.b.i | B112: Olme/elamu põletusseade | C112: Table_3-49_05 | D112: Tier 2 emission factor | E112: Elamud - Traditsiooniline boiler < 50 kW | F112: Puit | H112: NA | I112: BC | J112: 54 | K112: % of PM2.5 | N112: Denier van der Gon et al. (2015) applied on EFs in Table 3.43
A113: 1.A.4.b.i | B113: Olme/elamu põletusseade | C113: Table_3-49_05 | D113: Tier 2 emission factor | E113: Elamud - Traditsiooniline boiler < 50 kW | F113: Puit | H113: NA | I113: PM10 | J113: 150 | K113: g/GJ | N113: Denier van der Gon et al. (2015) applied on EFs in Table 3.43
A114: 1.A.4.b.i | B114: Olme/elamu põletusseade | C114: Table_3-49_05 | D114: Tier 2 emission factor | E114: Elamud - Traditsiooniline boiler < 50 kW | F114: Puit | H114: NA | I114: PM2.5 | J114: 140 | K114: g/GJ | N114: Denier van der Gon et al. (2015) applied on EFs in Table 3.43
A115: 1.A.4.b.i | B115: Olme/elamu põletusseade | C115: Table_3-49_05 | D115: Tier 2 emission factor | E115: Elamud - Traditsiooniline boiler < 50 kW | F115: Puit | H115: NA | I115: TSP | J115: 170 | K115: g/GJ | N115: Denier van der Gon et al. (2015) applied on EFs in Table 3.43
A116: 1.A.4.b.i | B116: Olme/elamu põletusseade | C116: Table_3-49_02 | D116: Tier 2 emission factor | E116: Elamud - Traditsiooniline ahi | F116: Puit | H116: NA | I116: BC | J116: 53 | K116: % of PM2.5 | N116: Denier van der Gon et al. (2015) applied on EFs in Table 3.40
A117: 1.A.4.b.i | B117: Olme/elamu põletusseade | C117: Table_3-49_02 | D117: Tier 2 emission factor | E117: Elamud - Traditsiooniline ahi | F117: Puit | H117: NA | I117: PM10 | J117: 160 | K117: g/GJ | N117: Denier van der Gon et al. (2015) applied on EFs in Table 3.40
A118: 1.A.4.b.i | B118: Olme/elamu põletusseade | C118: Table_3-49_02 | D118: Tier 2 emission factor | E118: Elamud - Traditsiooniline ahi | F118: Puit | H118: NA | I118: PM2.5 | J118: 140 | K118: g/GJ | N118: Denier van der Gon et al. (2015) applied on EFs in Table 3.40
A119: 1.A.4.b.i | B119: Olme/elamu põletusseade | C119: Table_3-49_02 | D119: Tier 2 emission factor | E119: Elamud - Traditsiooniline ahi | F119: Puit | H119: NA | I119: TSP | J119: 200 | K119: g/GJ | N119: Denier van der Gon et al. (2015) applied on EFs in Table 3.40
... A131: 1.A.4.b.i | B131: Olme/elamu põletusseade | C131: Table_3-49_06 | D131: Tier 2 emission factor | E131: Elamud - Pelletahjud ja -boilerid (pelletite põletamine) | F131: Puit | H131: NA | I131: TSP | J131: 32 | K131: g/GJ | N131: Denier van der Gon et al. (2015), for BC applied on Schmidl et al. (2011)
A132: 1.A.4.b.i | B132: Olme/elamu põletusseade | C132: Table_3-18 | D132: Tier 2 emission factor | E132: Väikesed (üksikelamu skaalas, võimsus <= 50 kWth) boilerid | F132: Kerge kütteõli | H132: NA | I132: BC | J132: 3.9 | K132: % of PM2.5 | L132: 2 | M132: 8 | N132: US EPA (2011)
A133: 1.A.4.b.i | B133: Olme/elamu põletusseade | C133: Table_3-18 | D133: Tier 2 emission factor | E133: Väikesed (üksikelamu skaalas, võimsus <= 50 kWth) boilerid | F133: Kerge kütteõli | H133: NA | I133: CO | J133: 3.7 | K133: g/GJ | L133: 2 | M133: 5 | N133: Italian Ministry for the Environment (2005)
A134: 1.A.4.b.i | B134: Olme/elamu põletusseade | C134: Table_3-18 | D134: Tier 2 emission factor | E134: Väikesed (üksikelamu skaalas, võimsus <= 50 kWth) boilerid | F134: Kerge kütteõli | H134: NA | I134: NMVOC | J134: 0.17 | K134: g/GJ | L134: 0.06 | M134: 0.51 | N134: Italian Ministry for the Environment (2005)
A135: 1.A.4.b.i | B135: Olme/elamu põletusseade | C135: Table_3-18 | D135: Tier 2 emission factor | E135: Väikesed (üksikelamu skaalas, võimsus <= 50 kWth) boilerid | F135: Kerge kütteõli | H135: NA | I135: NOx | J135: 69 | K135: g/GJ | L135: 41 | M135: 97 | N135: Italian Ministry for the Environment (2005)
A136: 1.A.4.b.i | B136: Olme/elamu põletusseade | C136: Table_3-18 | D136: Tier 2 emission factor | E136: Väikesed (üksikelamu skaalas, võimsus <= 50 kWth) boilerid | F136: Kerge kütteõli | H136: NA | I136: PM10 | J136: 1.5 | K136: g/GJ | L136: 1 | M136: 2 | N136: *
A137: 1.A.4.b.i | B137: Olme/elamu põletusseade | C137: Table_3-18 | D137: Tier 2 emission factor | E137: Väikesed (üksikelamu skaalas, võimsus <= 50 kWth) boilerid | F137: Kerge kütteõli | H137: NA | I137: PM2.5 | J137: 1.5 | K137: g/GJ | L137: 1 | M137: 2 | N137: *
A138: 1.A.4.b.i | B138: Olme/elamu põletusseade | C138: Table_3-18 | D138: Tier 2 emission factor | E138: Väikesed (üksikelamu skaalas, võimsus <= 50 kWth) boilerid | F138: Kerge kütteõli | H138: NA | I138: TSP | J138: 1.5 | K138: g/GJ | L138: 1 | M138: 2 | N138: Italian Ministry for the Environment (2005)
A139: 1.A.4.b.i | B139: Olme/elamu põletusseade | C139: Table_3-16 | D139: Tier 2 emission factor | E139: Väikesed (üksikelamu skaalas, võimsus <= 50 kWth) boilerid | F139: Maagaas | H139: NA | I139: BC | J139: 5.4 | K139: % of PM2.5 | L139: 2.7 | M139: 11 | N139: Hildemann et al. (1991), Muhlbaier (1981) **
A140: 1.A.4.b.i | B140: Olme/elamu põletusseade | C140: Table_3-16 | D140: Tier 2 emission factor | E140: Väikesed (üksikelamu skaalas, võimsus <= 50 kWth) boilerid | F140: Maagaas | H140: NA | I140: CO | J140: 22 | K140: g/GJ | L140: 18 | M140: 42 | N140: DGC (2009)
A141: 1.A.4.b.i | B141: Olme/elamu põletusseade | C141: Table_3-16 | D141: Tier 2 emission factor | E141: Väikesed (üksikelamu skaalas, võimsus <= 50 kWth) boilerid | F141: Maagaas | H141: NA | I141: NMVOC | J141: 1.8 | K141: g/GJ | L141: 1.1 | M141: 2.5 | N141: Italian Ministry for the Environment (2005)
A142: 1.A.4.b.i | B142: Olme/elamu põletusseade | C142: Table_3-16 | D142: Tier 2 emission factor | E142: Väikesed (üksikelamu skaalas, võimsus <= 50 kWth) boilerid | F142: Maagaas | H142: NA | I142: NOx | J142: 42 | K142: g/GJ | L142: 25 | M142: 59 | N142: DGC (2009)
A143: 1.A.4.b.i | B143: Olme/elamu põletusseade | C143: Table_3-16 | D143: Tier 2 emission factor | E143: Väikesed (üksikelamu skaalas, võimsus <= 50 kWth) boilerid | F143: Maagaas | H143: NA | I143: PM10 | J143: 0.2 | K143: g/GJ | L143: 0.12 | M143: 0.28 | N143: BUWAL (2001)
... A180: 1.A.4.b.i | B180: Olme/elamu põletusseade | C180: Table_3-13 | D180: Tier 2 emission factor | E180: Ahjud, kaminad, saunad ja välisoojendid (Outdoor Heaters) | F180: Maagaas | H180: NA | I180: TSP | J180: 2.2 | K180: g/GJ | L180: 1.3 | M180: 3.1 | N180: Zhang et al. (2000)
A182: Allikas: | B182: http://efdb.apps.eea.europa.eu/?source=%7B%22query%22%3A%7B%22bool%22%3A%7B%22must%22%3A%7B%22match_all%22%3A%7B%7D%7D%2C%22filter%22%3A%7B%22bool%22%3A%7B%22must%22%3A%5B%7B%22bool%22%3A%7B%22should%22%3A%5B%7B%22term%22%3A%7B%22code%22%3A%221.A.4.b.i%20Residential%20plants%22%7D%7D%5D%7D%7D%2C%7B%22bool%22%3A%7B%22should%22%3A%5B%7B%22term%22%3A%7B%22Pollutant%22%3A%22BC%22%7D%7D%2C%7B%22term%22%3A%7B%22Pollutant%22%3A%22CH4%22%7D%7D%2C%7B%22term%22%3A%7B%22Pollutant%22%3A%22CO%22%7D%7D%2C%7B%22term%22%3A%7B%22Pollutant%22%3A%22CO2%22%7D%7D%2C%7B%22term%22%3A%7B%22Pollutant%22%3A%22N2O%22%7D%7D%2C%7B%22term%22%3A%7B%22Pollutant%22%3A%22NH3%22%7D%7D%2C%7B%22term%22%3A%7B%22Pollutant%22%3A%22NMVOC%22%7D%7D%2C%7B%22term%22%3A%7B%22Pollutant%22%3A%22NOx%22%7D%7D%2C%7B%22term%22%3A%7B%22Pollutant%22%3A%22PM10%22%7D%7D%2C%7B%22term%22%3A%7B%22Pollutant%22%3A%22PM2.5%22%7D%7D%2C%7B%22term%22%3A%7B%22Pollutant%22%3A%22TSP%22%7D%7D%5D%7D%7D%2C%7B%22bool%22%3A%7B%22should%22%3A%5B%7B%22term%22%3A%7B%22Fuel%22%3A%22%27Other%27%20Liquid%20Fuels%22%7D%7D%2C%7B%22term%22%3A%7B%22Fuel%22%3A%22Biomass%22%7D%7D%2C%7B%22term%22%3A%7B%22Fuel%22%3A%22Coal%20Fuels%22%7D%7D%2C%7B%22term%22%3A%7B%22Fuel%22%3A%22Gas%20Oil%22%7D%7D%2C%7B%22term%22%3A%7B%22Fuel%22%3A%22Gaseous%20Fuels%22%7D%7D%2C%7B%22term%22%3A%7B%22Fuel%22%3A%22Hard%20Coal%20and%20Brown%20Coal%22%7D%7D%2C%7B%22term%22%3A%7B%22Fuel%22%3A%22Natural%20Gas%22%7D%7D%2C%7B%22term%22%3A%7B%22Fuel%22%3A%22Solid%20Fuel%20(not%20biomass)%22%7D%7D%2C%7B%22term%22%3A%7B%22Fuel%22%3A%22Wood%22%7D%7D%2C%7B%22term%22%3A%7B%22Fuel%22%3A%22Wood%20and%20similar%20wood%20waste%22%7D%7D%5D%7D%7D%5D%7D%7D%7D%7D%2C%22display_type%22%3A%22tabular%22%7D
A184: Lühendid põlemisel tekkivate lenduvate saasteainete kohta:
A185: BC | B185: must süsinik, mõõdetakse % PM2.5 suhtes | C185: must süsinik, mõõdetakse % PM2.5 suhtes | D185: must süsinik, mõõdetakse % PM2.5 suhtes
A186: CO | B186: CO - süsnikmonooksiid | C186: CO - süsnikmonooksiid | D186: CO - süsnikmonooksiid
A187: NH3 | B187: NH3 - ammoniaak | C187: NH3 - ammoniaak | D187: NH3 - ammoniaak
A188: NMVOC | B188: lenduvad orgaanilised ained v.a. metaan | C188: lenduvad orgaanilised ained v.a. metaan | D188: lenduvad orgaanilised ained v.a. metaan
A189: NOx | B189: NOx - lämmastiku oksiidid | C189: NOx - lämmastiku oksiidid | D189: NOx - lämmastiku oksiidid
A190: PM10 | B190: PM10 - tahked osakesed suurusega alla 10 mikromeetri | C190: PM10 - tahked osakesed suurusega alla 10 mikromeetri | D190: PM10 - tahked osakesed suurusega alla 10 mikromeetri
A191: PM2.5 | B191: PM2,5 - tahked osakesed suurusega alla 2,5 mikromeetri | C191: PM2,5 - tahked osakesed suurusega alla 2,5 mikromeetri | D191: PM2,5 - tahked osakesed suurusega alla 2,5 mikromeetri
A192: TSP | B192: kõik tahked osakesed | C192: kõik tahked osakesed | D192: kõik tahked osakesed
A194: Ühikuteisendus: | E194: g/GJ = kg/TJ

Sheet Kütteväärtused CO2 CH4 N2O EU
A1: Allikas: | B1: GREENHOUSE GAS EMISSIONS IN ESTONIA 1990-2019 NATIONAL INVENTORY REPORT | I1: https://unfccc.int/sites/default/files/resource/est-2021-nir-15apr21_0.zip
A2: Tabelid: 3.9 lk 84-85 ja 3.10 lk 86-87, 3.11-3.13 lk 87 - suurenergeetika ja siin lehel all lõpus tabel 3.33 lk 119 ja osa tabelist Table1.A(a)s4 - kodumajapidamised | I2: https://unfccc.int/ghg-inventories-annex-i-parties/2020
A3: Table 3.9. Carbon emission factors, oxidation factors and net calorific values by fuels for 2019 | H3: Table 3.10. CH4 and N2O emission factors by fuel, kg/TJ
A4: Fuels | B4: NCV | C4: Unit | D4: CEF, tC/TJ | E4: Oxidation factor | F4: Source of emission factor | H4: Fuels | I4: Energy Industry | K4: Manufacturing Industry | M4: Source | O4: KIK märkus: 2026. aastal avaldatud "GREENHOUSE GAS EMISSIONS IN ESTONIA 1990-2024 NATIONAL INVENTORY DOCUMENT" aruandes kütteväärtused ei erine oluliselt siintoodud väärtustest, mistõttu neid käesolevas tabelis ei uuendata.
B5: average | I5: CH4 | J5: N2O | K5: CH4 | L5: N2O
A6: Liquid fuels | H6: Liquid fuels
A7: LPG | B7: 45.5 | C7: GJ/t | D7: 17.73 | E7: 1 | F7: CS (Estonia) | H7: LPG (Liquefied Petrol Gas) | I7: 1 | J7: 0.1 | K7: 1 | L7: 0.1 | M7: D, IPCC 2006
A8: Gasoline (for non-road transport) | B8: 44 | C8: GJ/t | D8: 19.09 | E8: 1 | F8: CS (Estonia) | H8: Gasoline | I8: 3 | J8: 0.6 | K8: 3 | L8: 0.6 | M8: D, IPCC 2006
A9: Light fuel oil | B9: 42.5 | C9: GJ/t | D9: 20.26 | E9: 1 | F9: CS (Estonia) | H9: Gasoil (light fuel oil) | I9: 3 | J9: 0.6 | K9: 3 | L9: 0.6 | M9: D, IPCC 2006
A10: Shale oil (heavy fraction) | B10: 39.22 | C10: GJ/t | D10: 21.1 | E10: 1 | F10: CS, MoE 2017 | H10: Gasoil (for non-road use) | I10: 3 | J10: 0.6 | K10: 3 | L10: 0.6 | M10: D, IPCC 2006
A11: Shale oil (light fraction) | B11: 42.3 | C11: GJ/t | D11: 20.2 | E11: 1 | F11: CS (Estonia), MoE 2017 | H11: Shale oil | I11: 3 | J11: 0.6 | K11: 3 | L11: 0.6 | M11: D, IPCC 2006
A12: Diesel oil | B12: 42.3 | C12: GJ/t | D12: 19.87 | E12: 1 | F12: CS (Estonia) | H12: Diesel oil | I12: 3 | J12: 0.6 | K12: 3 | L12: 0.6 | M12: D, IPCC 2006
A13: Residual fuel oil (heavy fuel oil) | B13: 40.15 | C13: GJ/t | D13: 20.92 | E13: 1 | F13: CS (Estonia) | H13: Residual fuel oil (heavy fuel oil) | I13: 3 | J13: 0.6 | K13: 3 | L13: 0.6 | M13: D, IPCC 2006
A14: Solid fuels | H14: Recycled waste oil | I14: 30 | J14: 0.6 | K14: 30 | L14: 0.6 | M14: D, IPCC 2006
A15: Coal | B15: 22 | C15: GJ/t | D15: 25.74 | E15: 1 | F15: CS (Estonia) | H15: Solid fuels
A16: Coke oven coke | B16: 28.5 | C16: GJ/t | D16: 29.02 | E16: 1 | F16: CS (Estonia) | H16: Coal | I16: 1 | J16: 1.5 | K16: 10 | L16: 1.5 | M16: D, IPCC 2006
A17: Oil shale CFB (fludised bed combustion) | B17: 8.16 | C17: GJ/t | D17: 26,42 – | E17: 1 | F17: PS (Estonia) | H17: Coke oven coke | K17: 10 | L17: 1.5 | M17: D, IPCC 2006
D18: 27.25 | H18: Oil shale PC12 | I18: 0 | J18: 0 | K18: 10 | L18: 1.5 | M18: CS, A.Ots/ D, IPCC
A19: Oil shale PC (pulverised combustion) | B19: 7.47 | C19: GJ/t | D19: 27,76 – | E19: 1 | F19: PS (Estonia) | L19: 1.5 | M19: 2006
D20: 29.14 | H20: Oil shale FBC* | I20: 0 | J20: 0.82 | K20: 10 | L20: 1.5 | M20: CS, EE/ D, IPCC 2006
A21: Milled peat | B21: 9.7 | C21: GJ/t | D21: 28.9 | E21: 1 | F21: D, IPCC 2006 | H21: Milled peat | I21: 1 | J21: 1.5 | K21: 2 | L21: 1.5 | M21: D, IPCC 2006
A22: Sod peat1 | B22: 12 | C22: GJ/t | D22: 27.82 | E22: 1 | F22: FI (Finland) | H22: Sod peat | I22: 1 | J22: 1.5 | K22: 2 | L22: 1.5 | M22: D, IPCC 2006
A23: Peat briquette | B23: 16 | C23: GJ/t | D23: 26.45 | E23: 1 | F23: FI (Finland) | H23: Peat briquette | I23: 1 | J23: 1.5 | K23: 2 | L23: 1.5 | M23: D, IPCC 2006
A24: Oil shale semi-coke gas (SHC technology, Narva Enefit 140 plant) | B24: 54.59 | C24: GJ/1000 m3 | D24: 18.9 | E24: 1 | F24: PS (Estonia) | H24: Oil shale gases (semi-coke gas and generator gas) | I24: 1 | J24: 0.1 | K24: 1 | L24: 0.1 | M24: D, IPCC 2006 (of natural gas)
A25: Oil shale semi-coke gas (SHC technology, Narva Enefit 280 plant) | B25: 46.12 | C25: GJ/1000 m3 | D25: 19.52 | E25: 1 | F25: PS (Estonia) | H25: Oil shale gases (semi-coke gas and generator gas) | I25: 1 | J25: 0.1 | K25: 1 | L25: 0.1 | M25: D, IPCC 2006 (of natural gas)
A26: Oil shale semi-coke gas (VKG Petroter I plant) | B26: 43.96 | C26: GJ/1000 m3 | D26: 18.44 | E26: 1 | F26: PS (Estonia) | H26: Oil shale gases (semi-coke gas and generator gas) | I26: 1 | J26: 0.1 | K26: 1 | L26: 0.1 | M26: D, IPCC 2006 (of natural gas)
A27: Oil shale semi-coke gas (VKG Petroter | B27: 43.96 | C27: GJ/1000 m3 | D27: 18.44 | E27: 1 | F27: PS (Estonia) | H27: Oil shale gases (semi-coke gas and generator gas) | I27: 1 | J27: 0.1 | K27: 1 | L27: 0.1 | M27: D, IPCC 2006 (of natural gas)
A28: II plant) | H28: Oil shale gases (semi-coke gas and generator gas) | I28: 1 | J28: 0.1 | K28: 1 | L28: 0.1 | M28: D, IPCC 2006 (of natural gas)
A29: Oil shale generators gas (VKG Petroter | B29: 43.96 | C29: GJ/1000 m3 | D29: 18.44 | E29: 1 | F29: PS (Estonia) | H29: Oil shale gases (semi-coke gas and generator gas) | I29: 1 | J29: 0.1 | K29: 1 | L29: 0.1 | M29: D, IPCC 2006 (of natural gas)
A30: III plant) | H30: Oil shale gases (semi-coke gas and generator gas) | I30: 1 | J30: 0.1 | K30: 1 | L30: 0.1 | M30: D, IPCC 2006 (of natural gas)
A31: Oil shale semi-coke gas (Kiviõli plant) | B31: 49.33 | C31: GJ/1000 m3 | D31: 17.94 | E31: 1 | F31: PS (Estonia) | H31: Oil shale gases (semi-coke gas and generator gas) | I31: 1 | J31: 0.1 | K31: 1 | L31: 0.1 | M31: D, IPCC 2006 (of natural gas)
A32: Oil shale generator gas (Kiviõli plant) | B32: 4.24 | C32: GJ/1000 m3 | D32: 38.99 | E32: 1 | F32: PS (Estonia) | H32: Oil shale gases (semi-coke gas and generator gas) | I32: 1 | J32: 0.1 | K32: 1 | L32: 0.1 | M32: D, IPCC 2006 (of natural gas)
A33: Oil shale generator gas (VKG plant) | B33: 3.4 | C33: GJ/1000 m3 | D33: 42.61 | E33: 1 | F33: PS (Estonia) | H33: Oil shale gases (semi-coke gas and generator gas) | I33: 1 | J33: 0.1 | K33: 1 | L33: 0.1 | M33: D, IPCC 2006 (of natural gas)
A34: Gas gasoline | B34: 44 | C34: GJ/t | D34: 19.09 | E34: 1 | F34: CS (Estonia) | H34: Gasoline | I34: 3 | J34: 0.6 | K34: 3 | L34: 0.6 | M34: D, IPCC 2006
A35: Waste oils (CRF 1A2f)* | B35: 16 | C35: GJ/t | D35: 20.18 | F35: PS, Kunda Nordic Cement | H35: Waste oils | K35: 30 | L35: 4
A36: Other fossil based solid waste (MSW) (CRF 1A2f) | B36: 19.3 | C36: GJ/t | D36: 21.82 | E36: 1 | F36: PS, Kunda Nordic Cement | H36: Other fossil based waste (MSW) | K36: 30 | L36: 4 | M36: D, IPCC 2006
A37: Plastic waste (CRF 1A2f) | B37: 21.12 | C37: GJ/t | D37: 20.45 | E37: 1 | F37: PS, Kunda Nordic Cement | H37: Plastic waste | K37: 30 | L37: 4 | M37: D, IPCC 2006
A38: Municipal solid waste (CRF 1A1a) | B38: 9 | C38: GJ/t | D38: 17.94 | E38: 1 | F38: PS, Iru incineration plant | H38: Municipal solid waste | I38: 30 | J38: 4
A39: Gaseous fuels | H39: Gaseous fuels
A40: Natural gas | B40: 33.6 | C40: GJ/1000 m3 | D40: 15.07 | E40: 1 | F40: CS (Estonia) | H40: Natural gas | I40: 1 | J40: 0.1 | K40: 1 | L40: 0.1 | M40: D, IPCC 2006
A41: Biomass fuels | H41: Biomass fuels
A42: Solid biomass (solid, includes e.g. firewood, wood chips, sawdust pellets, briquettes, etc.) | B42: 6,9 – 16,9 | C42: GJ/t | D42: 30.5 | E42: 1 | F42: D, IPCC 2006 | H42: Solid biomass (solid, includes e.g. firewood, bark, chips, sawdust and other industrial wood residues, pellets and briquettes) | I42: 30 | J42: 4 | K42: 30 | L42: 4 | M42: D, IPCC 2006
A43: Black liquor | B43: 13.4 | C43: GJ/t | D43: 26 | E43: 1 | F43: D, IPCC 2006 | H43: Black liquors | I43: 3 | J43: 2 | M43: D, IPCC 2006
A44: Biogas (landfill gas and biogas from wastewater treatment ) | B44: 17.4 | C44: GJ/1000 m3 | D44: 14.89 | E44: 1 | F44: D, IPCC 2006 | H44: Biogas (landfill gas and biogas from wastewater treatment ) | I44: 1.75 | J44: 0.11 | M44: CS
A46: Lühedid ja märked: | B46: GJ/1000 m3 = MJ/ m3 | J46: Pöördtabel - Table 3.11. NOx emission factors from Fuel combustion (kg/TJ)
A47: NCV - net calorific value, CEF - Carbon emission factor | L47: Energy industries | M47: Manufacturing and construction | N47: Other sectors
A48: 1 A processed form of peat that is compressed into small (40–70 mm) pieces. | J48: Coal | L48: 200 | M48: 173 | N48: 200
A49: D - IPCC default value; CS – country specific; PS – plant specific *biogenic and non-biogenic origin | J49: Natural Gas | L49: 100 | M49: 60 | N49: 60
J50: Heavy Fuel Oil | L50: 250 | M50: 513 | N50: 51
A51: Table 3.11. NOx emission factors from Fuel combustion (kg/TJ) | J51: Gas Oil | L51: 513
B52: Coal | C52: Natural Gas | D52: Heavy Fuel Oil | E52: Gas Oil | F52: Biomass | G52: Oil Shale | H52: Peat | J52: Biomass | L52: 100 | M52: 100 | N52: 100
J53: Oil Shale | L53: 79.02 | M53: 110 | N53: 110
A54: Energy industries | B54: 200 | C54: 100 | D54: 250 | E54: 513 | F54: 100 | G54: 79.02 | H54: 300 | J54: Peat | L54: 300 | M54: 300 | N54: 300
A55: Manufacturing and construction | B55: 173 | C55: 60 | D55: 513 | F55: 100 | G55: 110 | H55: 300
A56: Other sectors | B56: 200 | C56: 60 | D56: 51 | F56: 100 | G56: 110 | H56: 300 | J56: Pöördtabel - Table 3.12. CO emission factors from Fuel combustion (kg/TJ)
L57: Energy industries | M57: Manufacturing and construction | N57: Other sectors
A58: Table 3.12. CO emission factors from Fuel combustion (kg/TJ) | J58: Coal | L58: 100 | M58: 931 | N58: 5000
B59: Coal | C59: Natural Gas | D59: Heavy Fuel Oil | E59: Gas Oil | F59: Biomass | G59: Oil Shale | H59: Peat | J59: Natural Gas | L59: 40 | M59: 50 | N59: 26
J60: Heavy Fuel Oil | L60: 100 | M60: 66 | N60: 57
A61: Energy industries | B61: 100 | C61: 40 | D61: 100 | E61: 100 | F61: 200 | G61: 0.88 | H61: 100 | J61: Gas Oil | L61: 100
A62: Manufacturing and construction | B62: 931 | C62: 50 | D62: 66 | F62: 700 | G62: 87 | H62: 650 | J62: Biomass | L62: 200 | M62: 700 | N62: 5009
A63: Other sectors | B63: 5000 | C63: 26 | D63: 57 | F63: 5009 | G63: 5000 | H63: 5000 | J63: Oil Shale | L63: 0.88 | M63: 87 | N63: 5000
J64: Peat | L64: 100 | M64: 650 | N64: 5000
A65: Table 3.13. NMVOC emission factors from Fuel combustion (kg/TJ)
B66: Coal | C66: Natural Gas | D66: Heavy | E66: Gas Oil | F66: Biomass | G66: Oil Shale | H66: Peat | J66: Pöördtabel - Table 3.13. NMVOC emission factors from Fuel combustion (kg/TJ)
D67: Fuel Oil | L67: Energy industries | M67: Manufacturing and construction | N67: Other sectors
A68: Energy industries | B68: 1.5 | C68: 2.5 | D68: 3 | E68: 1.5 | F68: 48 | G68: 0 | H68: 100 | J68: Coal | L68: 1.5 | M68: 88.8 | N68: 600
A69: Manufacturing and construction | B69: 88.8 | C69: 2.5 | D69: 25 | F69: 48 | G69: 60 | H69: 100 | J69: Natural Gas | L69: 2.5 | M69: 2.5 | N69: 1.9
A70: Other sectors | B70: 600 | C70: 1.9 | D70: 0.69 | F70: 271.58 | G70: 600 | H70: 600 | J70: Heavy Fuel Oil | L70: 3 | M70: 25 | N70: 0.69
J71: Gas Oil | L71: 1.5
J72: Biomass | L72: 48 | M72: 48 | N72: 271.58
J73: Oil Shale | L73: 0 | M73: 60 | N73: 600
A74: NMVOC - lenduvad orgaanilised ühedid, mis pole metaan | J74: Peat | L74: 100 | M74: 100 | N74: 600
A75: The GHGs covered are carbon dioxide (CO2), methane (CH4), nitrous oxide (N2O), nitrogen trifluoride (NF3), hydrofluorocarbons (HFCs), perfluorocarbons (PFCs) and sulphur hexafluoride (SF6). Emission estimates for nitrogen oxides (NOx), carbon monoxide (CO), nonmethane volatile organic compounds (NMVOCs) and sulphur dioxide (SO2) are also included in the inventory.
A80: lk 51.
A82: 3.2.6. | B82: Other sectors (CRF 1.A.4) | E82: 1.A.4.b Residential (Households) | H82: Antud andmeid kasutatud, kui Table 3.33 vastavat väärtust pole
A83: Table 3.33. CH4 and N2O emission factors for small combustion of fuels, kg/TJ | G83: lk 119 | H83: Table1.A(a)s4 | I83: https://unfccc.int/ghg-inventories-annex-i-parties/2020 | J83: Vastavatest andmetest valida Estonia, CRF ja tabelid alla laadida. Võtta viimase, 2020 aasta sõidukite andmed, tabelid Table1A(a)s4, veerg D-F, read23-29.
B84: CH4 | C84: N2O | D84: Source | H84: GREENHOUSE GAS SOURCE AND SINK CATEGORIES | I84: IMPLIED EMISSION FACTORS
A85: Oil | B85: 10 | C85: 0.6 | D85: 2006 IPCC | I85: CO2(1) | J85: CH4 | K85: N2O
A86: LPG | B86: 5 | C86: 0.1 | D86: 2006 IPCC
A87: Natural gas | B87: 5 | C87: 0.1 | D87: 2006 IPCC | I87: (t/TJ) | J87: (kg/TJ) | K87: (kg/TJ)
A88: Coal (commercial) | B88: 10 | C88: 1.5 | D88: 2006 IPCC | H88: b. Residential(13)
A89: Coal (residential, agriculture) | B89: 300 | C89: 1.5 | D89: 2006 IPCC | H89: Liquid fuels | I89: 67.040357 | J89: 6.0899674 | K89: 0.20899674
A90: Oil shale (commercial) | B90: 10 | C90: 1.5 | D90: 2006 IPCC | H90: Solid fuels | I90: 94.397855 | J90: 300 | K90: 1.5
A91: Oil shale | B91: 300 | C91: 1.5 | D91: 2006 IPCC | H91: Gaseous fuels | I91: 55.256667 | J91: 5 | K91: 0.1
A92: Peat/peat briquette (commercial) | B92: 10 | C92: 1.4 | D92: 2006 IPCC | H92: Other fossil fuels(4) | I92: NO | J92: NO | K92: NO
A93: Peat/peat briquette (residential, agriculture) | B93: 300 | C93: 1.4 | D93: 2006 IPCC | H93: Peat(5) | I93: NO | J93: NO | K93: NO
A94: Wood | B94: 300 | C94: 4 | D94: 2006 IPCC | H94: Biomass(6) | I94: 112 | J94: 300 | K94: 4

Sheet Kütteväärtused EE
A1: Majandus- ja kommunikatsiooniministri | F1: Ümberarvutus:
B2: 8. oktoobri 2012. a määrus nr 63 | F2: 1Wh=3,6kJ | G2: 3.6
B3: „Hoonete energiatõhususe arvutamise metoodika” | F3: 1kWh=3600kJ=3,6MJ
B4: Lisa 4
A6: Kütuste tarbimisaine alumised kütteväärtused
A8: Kütus | B8: Alumine kütteväärtus
B9: kWh/kg | C9: kWh/l | D9: kWh/m3 | E9: MJ/kg | F9: MJ/l | G9: MJ/m3
A10: Põlevkiviõli | B10: 10.8 | C10: 10 | E10: =B10*$G$2 -> 38.88 | F10: =C10*$G$2 -> 36
A11: Kerge kütteõli | B11: 11.7 | C11: 10 | E11: =B11*$G$2 -> 42.12 | F11: =C11*$G$2 -> 36
A12: Diislikütus | B12: 11.7 | C12: 9.7 | E12: =B12*$G$2 -> 42.12 | F12: =C12*$G$2 -> 34.92
A13: Masuut | B13: 11.3 | C13: 10.9 | E13: =B13*$G$2 -> 40.68 | F13: =C13*$G$2 -> 39.24
A14: Maagaas | D14: 9.3 | G14: =D14*$G$2 -> 33.48
A15: Vedelgaas (propaan + butaan) | B15: 12.8 | E15: =B15*$G$2 -> 46.08
A16: Biogaas1 | D16: 6 | G16: =D16*$G$2 -> 21.6
A17: Halupuit (niiskussisaldus2 ≤20%) | B17: 4.1 | E17: =B17*$G$2 -> 14.76
A18: Küttepuud, segapuit (ruumimeeter) | D18: 1300 | G18: =D18*$G$2 -> 4680
A19: Küttepuud, kask (ruumimeeter) | D19: 1500 | G19: =D19*$G$2 -> 5400
A20: Puiduhake (puistekuupmeeter) | D20: 800 | G20: =D20*$G$2 -> 2880
A21: Puitbrikett (niiskussisaldus2 ≤12%) | B21: 4.6 | E21: =B21*$G$2 -> 16.56
A22: Puitpellet (niiskussisaldus2 ≤12%) | B22: 4.6 | E22: =B22*$G$2 -> 16.56
A23: Turbabrikett (niiskussisaldus2 ≤20%) | B23: 4.2 | E23: =B23*$G$2 -> 15.12
A24: Tükkturvas (niiskussisaldus2 ≤40%) | B24: 3.4 | E24: =B24*$G$2 -> 12.24
A25: Freesturvas (niiskussisaldus2 ≤50%) | B25: 2.8 | E25: =B25*$G$2 -> 10.08
A26: Kivisüsi | B26: 7 | E26: =B26*$G$2 -> 25.2
A28: 1 ligikaudne väärtus, tegelik väärtus kõigub sõltuvalt toormest
A29: 2 niiskussisaldused massiprotsentides

Sheet puidu arvutused
A1: Küttepuud (cerbos.ee)
A2: Küttepuude kütteväärtus
A4: Kütteväärtus on soojushulk, mis eraldub puidu põlemisel. Erinevatel puuliikidel on erinev kütteväärtus. Enamlevinud küttepuude keskmised kütteväärtused 20% puiduniiskuse juures ("Puitkütus" 2010, SA Erametsakeskus):
A8: kask 1700 kWh/rm
A9: mänd 1360 kWh/rm
A10: haab 1330 kWh/rm
A11: kuusk 1320 kWh/rm
A12: lepp 1230 kWh/rm
A14: Küttepuude koguse mõõtmine
A16: Küttepuude tellimisel on oluline aru saada erinevatest kasutuselolevatest mõõtühikutest ja nendevahelistest seostest:
A19: Tihumeeter (tm) on 1 m3 puhta puidu maht ilma koore ja õhuvahedeta (1 m × 1 m × 1 m).
A20: Ruumimeeter (rm) on 1 m3 virna/riita laotud halgudelt mõõdetud metsamaterjali kogus koos koore ja õhuvahedega.
... A24: Järgnev tabel aitab paremini mõista seoseid mõõtühikute vahel
G27: TREA ettekanne, slaid 27 (allikas Wood Fuels…, 2000)
B28: Küttepuud (cerbos.ee) | G28: https://www.trea.ee/ettekanded/UloKaskspets_loeng_1_18_04_2017.pdf
B29: Puisteruum | C29: Laotud ruum e ruumimeeter | D29: Tihumeeter | H29: Puisteruum | I29: Laotud ruum e ruumimeeter | J29: Tihumeeter
A30: Puisteruum | B30: 1 | C30: 0.67 | D30: 0.44 | G30: Puisteruum | H30: 1 | I30: 0.6 | J30: 0.4
A31: Laotud ruum e ruumimeeter | B31: 1.5 | C31: 1 | D31: 0.67 | G31: Laotud ruum e ruumimeeter | H31: 1.68 | I31: 1 | J31: 0.67
A32: Tihumeeter | B32: 2.25 | C32: 1.5 | D32: 1 | G32: Tihumeeter | H32: 2.5 | I32: 1.49 | J32: 1
A34: Puisteruum - puud koos õhuvahedega (ca 46% puitu ja 54% õhuvahed). | I34: slaid 40
A35: Laotud ruum - puud koos õhuvahedega (ca 69% puitu ja 31% õhuvahed).
A36: Tihumeeter - puud ilma õhuvahedeta (ca 100% puitu õhuvahedeta).
A39: Tavapraktikas korrutatakse ruumimeetrid koefitsiendiga 0,5-0,6, et saada puidu mahtu tihumeetrites. Alati on oluline pöörata tähelepanu, kas müüja poolt pakutav hind kehtib tihumeetri, riidaruumi või puisteruumi kohta. Juhul kui osta kolme meetri pikkuseid saagimata ja lõhkumata küttepuid, moodustavad õhuvahed virnas olevate puude puhul keskmiselt 50% ehk 1 tihumeeter
A44: Küttepuude erikaal
A45: Kuivade küttepuude kaal on märgadega võrreldes tunduvalt väiksem. Küttepuu kuivab peaaegu kaks korda kokku. Tihe küttepuu annab kütmisel rohkem soojust.
A48: Kaal 20% niiskuse juures:
A49: - 1 ruumimeeter (rm) kasehalge kaalub u 480 kg
A50: - 1 rm kuusehalge kaalub u 330 kg
A51: - 1 rm lepahalge kaalub u 400 kg
A53: Keskmine ruumimeetri kaal | B53: =AVERAGE(480,330,400) -> 403.33333 | C53: kg/rm
A54: Kask ruumimeetri kaal | B54: 330 | C54: kg/rm
A55: Puistekuupmeetri kaal | B55: =B53*C31/B31 -> 268.88889 | C55: kg/pk
A56: Puiduhakke puistekuupmeetri kaal | B56: =AVERAGE(250,400) -> 325 | C56: kg/rm

Sheet Elekter 2025
A1: Eesti 2025. a elektri segajäägi CO2 sisaldus.
A2: Segajääk väljendab elektrienergia päritolu, kui see ei ole tõendatud päritolutunnistustega | F2: Andmeallikas: | G2: https://www.elextra.ee/segajaak
B4: g/kWh
A5: CO2 | B5: 467.35
A6: N2O | B6: NA | D6: * Elering ega AIB ei avalikusta segajäägi CH4 ja N2O komponenti
A7: CH4 | B7: NA
A9: Andmed lahtrites, mis puudutavad erinevatest taastumatutest lähteainetsest elektri tootmist Eestis, on Eesti Keskkonnauuringute Keskuse poolt antud 2020. aasta EL heitkogustega kauplemissüseemi (European Union Emission Trading Scheme) aruandluse andmed. Andmed ei ole avalikult viidatavad.
A10: Kasvuhoonegaaside eriheited (sinised numbrid) on saadud dokumentidest Greenhouse gas emissions in Estonia 1990-2020. National inventory report.” Lk. 79-80 “Table 3.9. Carbon emission factors, oxidation factors and net calorific values by fuels for 2020” ja lk. 81-82 “CH4 and N2O emission factors by fuel, kg/TJ”. Süsiniku eriheide on tC/TJ CO2 arvutamiseks ja CH4 ning N2O puhul on kg/TJ. Samad andmed ka Estonia 1990-2020. National inventory report.”
A11: Taastuvenergia abil toodetud elektri andmed on pärit Eesti Taastuvenergia koja aastaraamatust 2020 lk 15. 2021 aasta andmed on pärit stastistikaametist. | I11: ETEK_aastaraamat_2020_veebi (taastuvenergeetika.ee)
I12: KE033: ELEKTRIJAAMADE TOODANG JA ENERGIA TOOTMISEKS TARBITUD KÜTUS. Statistika andmebaas
C14: 2020 | D14: 2021 | J14: Allikas: statistikaamet | K14: https://andmed.stat.ee/et/stat/majandus__energeetika__energia-tarbimine-ja-tootmine__aastastatistika/KE033/table/tableViewLayout2
A15: Oil ShalePC (pulverised combustion) | B15: TJ | C15: 4527.8918 | D15: TJ | E15: =G15*$N$17/$O$17 -> 12888.009 | F15: GWh | G15: =L22 -> 3579 | N15: Teisendus
B16: Carbon Emission Factor, tC/TJ | C16: heide, t CO2 | D16: Carbon Emission Factor, tC/TJ | E16: heide, t CO2 | F16: Carbon Emission Factor, tC/TJ | G16: heide, t CO2 | L16: 2021 | N16: TJ = | O16: =GWh
A17: CO2 | B17: 29.452968 | C17: =$B$17*C15/1000*(44/12) -> 488.98613 | D17: 29.452968 | E17: =$B$17*E15/1000*(44/12) -> 1391.8304 | F17: =D17/$O$17 -> 106.06038 | G17: =F17*G15/1000*(44/12) -> 1391.8304 | L17: Kõik elektrijaamad | N17: 1 | O17: 0.2777
B18: CH4 and N2O emission factors by fuel, kg/TJ | C18: heide, t CH4 või N2O | D18: CH4 and N2O emission factors by fuel, kg/TJ | E18: heide, t CH4 või N2O | F18: CH4 and N2O emission factors by fuel, kg/TJ | G18: heide, t CH4 või N2O | J18: Kokku | K18: Toodetud elektrienergia, GWh | L18: 7359 | N18: =N17*O18/O17 -> 26499.82 | O18: =L18 -> 7359
A19: CH4 | B19: 0 | C19: 0 | D19: 0 | E19: 0 | F19: 0 | G19: 0 | K19: Elektrienergia tootmiseks tarbitud kütus | L19: ..
A20: N2O | B20: 0 | C20: 0 | D20: 0 | E20: 0 | F20: 0 | G20: 0 | J20: Kivisüsi, tuhat t | K20: Toodetud elektrienergia, GWh | L20: ..
A21: t CO2 eq | C21: =C17+C19*25+C20*298 -> 488.98613 | E21: =E17+E19*25+E20*298 -> 1391.8304 | G21: =G17+G19*25+G20*298 -> 1391.8304 | K21: Elektrienergia tootmiseks tarbitud kütus | L21: ..
J22: Põlevkivi, tuhat t | K22: Toodetud elektrienergia, GWh | L22: 3579
A23: Oil Shale FBC (fludised bed combustion) | B23: TJ | C23: 17686.378 | K23: Elektrienergia tootmiseks tarbitud kütus | L23: 4357
B24: Carbon Emission Factor, tC/TJ | C24: heide, t CO2 | J24: Turvas, tuhat t | K24: Toodetud elektrienergia, GWh | L24: ..
A25: CO2 | B25: 27.406802 | C25: =$B$25*C23/1000*44/12 -> 1777.3326 | K25: Elektrienergia tootmiseks tarbitud kütus | L25: ..
B26: CH4 and N2O emission factors by fuel, kg/TJ | C26: heide, t CH4 või N2O | J26: Puiduhake ja -jäätmed, tuhat tm | K26: Toodetud elektrienergia, GWh | L26: 1694
A27: CH4 | B27: 0 | C27: 0 | K27: Elektrienergia tootmiseks tarbitud kütus | L27: 1512
A28: N2O | B28: 0.82 | C28: =$B$28*C23/10^6 -> 0.01450283 | J28: Raske kütteõli, tuhat t | K28: Toodetud elektrienergia, GWh | L28: ..
A29: t CO2 eq | C29: =C25+C27*25+C28*298 -> 1781.6544 | K29: Elektrienergia tootmiseks tarbitud kütus | L29: ..
J30: Põlevkivikütteõli (raske fraktsioon), tuhat t | K30: Toodetud elektrienergia, GWh | L30: 37
A31: Milled Peat | B31: TJ | C31: 28.224 | G31: 0 | K31: Elektrienergia tootmiseks tarbitud kütus | L31: 11
B32: Carbon Emission Factor, tC/TJ | C32: heide, t CO2 | J32: Diislikütus, tuhat t | K32: Toodetud elektrienergia, GWh | L32: ..
A33: CO2 | B33: 28.9 | C33: =$B$33*C31/1000*3.664 -> 2.9886281 | K33: Elektrienergia tootmiseks tarbitud kütus | L33: ..
B34: CH4 and N2O emission factors by fuel, kg/TJ | C34: heide, t CH4 või N2O | J34: Maagaas, mln m³ | K34: Toodetud elektrienergia, GWh | L34: 42
A35: CH4 | B35: 1.3812734 | C35: =$B$35*C31/10^6 -> 3.8985059e-05 | K35: Elektrienergia tootmiseks tarbitud kütus | L35: 6
A36: N2O | B36: 2.0039509 | C36: =$B$36*C31/10^6 -> 5.6559509e-05 | J36: Biogaasid, mln m³ | K36: Toodetud elektrienergia, GWh | L36: 15
A37: CO2 eq | C37: =C33+C35*25+C36*298 -> 3.0064574 | K37: Elektrienergia tootmiseks tarbitud kütus | L37: 4
J38: Jäätmekütus, tuhat t | K38: Toodetud elektrienergia, GWh | L38: 151
A39: BIOMASS | K39: Elektrienergia tootmiseks tarbitud kütus | L39: 57
A40: Solid Biomass | J40: Muud taastuvad allikad, TJ | K40: Toodetud elektrienergia, GWh | L40: 20
A41: Wood and wood waste | B41: TJ | C41: 11294 | D41: TJ | E41: =G41*$N$17/$O$17 -> 6100.108 | F41: GWh | G41: =L26 -> 1694 | K41: Elektrienergia tootmiseks tarbitud kütus | L41: 123
B42: Carbon Emission Factor, tC/TJ | C42: heide, t CO2 | D42: Carbon Emission Factor, tC/TJ | E42: heide, t CO2 | F42: Carbon Emission Factor, tC/TJ | G42: heide, t CO2 | J42: Põlevkivigaas, TJ | K42: Toodetud elektrienergia, GWh | L42: 711
A43: CO2 wood | B43: 0 | D43: 0 | F43: =D43*$O$17 -> 0 | G43: =F43*G41/1000*(44/12) -> 0 | K43: Elektrienergia tootmiseks tarbitud kütus | L43: 8253
A44: CO2 Black liqour | B44: 0 | D44: 0 | J44: Hüdroenergia | K44: Toodetud elektrienergia, GWh | L44: 23
A45: CO2 | K45: Elektrienergia tootmiseks tarbitud kütus | L45: ..
B46: CH4 and N2O emission factors by fuel, kg/TJ | C46: heide, t CH4 või N2O | D46: CH4 and N2O emission factors by fuel, kg/TJ | E46: heide, t CH4 või N2O | F46: CH4 and N2O emission factors by fuel, kg/TJ | G46: heide, t CH4 või N2O | J46: Tuuleenergia | K46: Toodetud elektrienergia, GWh | L46: 733
A47: CH4 Solid | B47: 14.928388 | C47: =$B$47*C41/10^6 -> 0.16860121 | D47: 14.928388 | E47: =$B$47*E41/10^6 -> 0.091064779 | F47: =D47/$O$17 -> 53.757248 | G47: =F47*G41/10^6 -> 0.091064779 | K47: Elektrienergia tootmiseks tarbitud kütus | L47: ..
A48: Total CH4 | C48: =C47 -> 0.16860121 | E48: =E47 -> 0.091064779 | F48: 0 | G48: =G47 -> 0.091064779 | J48: Päikeseenergia | K48: Toodetud elektrienergia, GWh | L48: 354
A49: N2OSolid | B49: 2.078028 | C49: =$B$49*C41/10^6 -> 0.023469248 | D49: 2.078028 | E49: =$B$49*E41/10^6 -> 0.012676195 | F49: =D49/$O$17 -> 7.482996 | G49: =F49*G41/10^6 -> 0.012676195 | K49: Elektrienergia tootmiseks tarbitud kütus | L49: ..
A50: Total N2O | C50: =C49 -> 0.023469248 | E50: =E49 -> 0.012676195 | G50: =G49 -> 0.012676195
A51: CO2 eq | C51: =C48*25+C50*298 -> 11.208866 | E51: =E48*25+E50*298 -> 6.0541256 | G51: =G48*25+G50*298 -> 6.0541256 | J51: Allikas Elering | K51: https://elering.ee/segajaak
J52: Segajääk 2019-2022
A53: Natural Gas | B53: TJ | C53: 94.964063 | D53: TJ | E53: =G53*$N$17/$O$17 -> 151.24235 | F53: GWh | G53: =L34 -> 42 | J53: Aasta | K53: Tõendamata päritoluga elektri osakaal | L53: Taastuv (RES) | M53: Fossiilne (FOS) | N53: Tuuma (NUC) | O53: CO2 (g/kWh) | P53: Radioaktiivsed jäätmed (mg/kWh)
B54: Carbon Emission Factor, tC/TJ | C54: heide, t CO2 | D54: Carbon Emission Factor, tC/TJ | E54: heide, t CO2 | F54: Carbon Emission Factor, tC/TJ | G54: heide, t CO2 | J54: 2019 | K54: 0.9509 | L54: 0.0148 | M54: 0.8179 | N54: 0.1673 | O54: 757.71 | P54: 0.51
A55: CO2 | B55: 15.07 | C55: =$B$55*C53/1000*3.664 -> 5.2435813 | D55: 15.07 | E55: =$B$55*E53/1000*3.664 -> 8.3510701 | F55: =D55/$O$17 -> 54.267195 | G55: =F55*G53/1000*3.664 -> 8.3510701 | J55: 2020 | K55: 0.8991 | L55: 0.066 | M55: 0.6947 | N55: 0.2393 | O55: 546.89 | P55: 0.88
B56: CH4 and N2O emission factors by fuel, kg/TJ | C56: heide, t CH4 või N2O | D56: CH4 and N2O emission factors by fuel, kg/TJ | E56: heide, t CH4 või N2O | F56: CH4 and N2O emission factors by fuel, kg/TJ | G56: heide, t CH4 või N2O | J56: 2021 | K56: 0.8514 | L56: 0.0755 | M56: 0.7637 | N56: 0.1608 | O56: 636.58 | P56: 0.65
A57: CH4 | B57: 1.0007838 | C57: =$B$57*C53/10^6 -> 9.5038495e-05 | D57: 1.0007838 | E57: =$B$57*E53/10^6 -> 0.00015136089 | F57: =D57/$O$17 -> 3.6038307 | G57: =F57*G53/10^6 -> 0.00015136089 | J57: 2022 | K57: 0.841 | L57: 0.0722 | M57: 0.8311 | N57: 0.0967 | O57: 715.18 | P57: 0.36
A58: N2O | B58: 0.13704352 | C58: =$B$58*C53/10^6 -> 1.301421e-05 | D58: 0.13704352 | E58: =$B$58*E53/10^6 -> 2.0726784e-05 | F58: =D58/$O$17 -> 0.49349486 | G58: =F58*G53/10^6 -> 2.0726784e-05 | J58: 2022.a. on Eestis päritolutunnistustega katmata elektrienergia tarbimise osakaal 84,10%, segajäägi CO2 sisaldus on 715,18 gCO2/kWh ning radioaktiivsete jäätmete sisaldus 0,36 mg/kWh.
A59: CO2 eq | C59: =C55+C57*25+C58*298 -> 5.2498355 | E59: =E55+E57*25+E58*298 -> 8.3610307 | G59: =G55+G57*25+G58*298 -> 8.3610307
A61: Shale Oil (Heavy fraction) | B61: TJ | C61: 220.56252 | D61: TJ | E61: =G61*$N$17/$O$17 -> 133.23731 | F61: GWh | G61: =L30 -> 37 | J61: Allikas Statistikaamet: | L61: https://andmed.stat.ee/et/stat/majandus__energeetika__energia-tehususe-naitajad/KE36/table/tableViewLayout2
B62: Carbon Emission Factor, tC/TJ | C62: heide, t CO2 | D62: Carbon Emission Factor, tC/TJ | E62: heide, t CO2 | F62: Carbon Emission Factor, tC/TJ | G62: heide, t CO2 | K62: 2020 | L62: 2021
A63: CO2 | B63: 20.740295 | C63: =$B$63*C61/1000*3.664 -> 16.761085 | D63: 20.740295 | E63: =$B$63*E61/1000*3.664 -> 10.125028 | F63: =D63/$O$17 -> 74.685976 | G63: =F63*G61/1000*3.664 -> 10.125028 | J63: Taastuvenergiast toodetud elektri osatähtsus elektri kogutarbimises*, % | K63: 28.3 | L63: 29.3
B64: CH4 and N2O emission factors by fuel, kg/TJ | C64: heide, t CH4 või N2O | D64: CH4 and N2O emission factors by fuel, kg/TJ | E64: heide, t CH4 või N2O | F64: CH4 and N2O emission factors by fuel, kg/TJ | G64: heide, t CH4 või N2O
A65: CH4 | B65: 1.172609 | C65: =$B$65*C61/10^6 -> 0.0002586336 | D65: 1.172609 | E65: =$B$65*E61/10^6 -> 0.00015623527 | F65: =D65/$O$17 -> 4.2225748 | G65: =F65*G61/10^6 -> 0.00015623527
A66: N2O | B66: 0.33960984 | C66: =$B$66*C61/10^6 -> 7.4905203e-05 | D66: 0.33960984 | E66: =$B$66*E61/10^6 -> 4.5248701e-05 | F66: =D66/$O$17 -> 1.2229379 | G66: =F66*G61/10^6 -> 4.5248701e-05
A67: CO2 eq | C67: =C63+C65*25+C66*298 -> 16.789872 | E67: =E63+E65*25+E66*298 -> 10.142418 | G67: =G63+G65*25+G66*298 -> 10.142418
A69: Gaseous biomass landfill and SW gas | B69: TJ | C69: 124 | D69: TJ | E69: =G69*$N$17/$O$17 -> 54.015124 | F69: GWh | G69: =L36 -> 15
B70: Carbon Emission Factor, tC/TJ | C70: heide, t CO2 | D70: Carbon Emission Factor, tC/TJ | E70: heide, t CO2 | F70: Carbon Emission Factor, tC/TJ | G70: heide, t CO2
A71: CO2 | B71: 0 | C71: =$B$71*C69/1000*3.664 -> 0 | D71: 0 | E71: =$B$71*E69/1000*3.664 -> 0 | F71: =D71/$O$17 -> 0 | G71: =F71*G69/1000*3.664 -> 0
B72: CH4 and N2O emission factors by fuel, kg/TJ | C72: heide, t CH4 või N2O | D72: CH4 and N2O emission factors by fuel, kg/TJ | E72: heide, t CH4 või N2O | F72: CH4 and N2O emission factors by fuel, kg/TJ | G72: heide, t CH4 või N2O
A73: Total CH4 | B73: 0.22197071 | C73: =$B$73*C69/10^6 -> 2.7524368e-05 | D73: 0.22197071 | E73: =$B$73*E69/10^6 -> 1.1989775e-05 | F73: =D73/$O$17 -> 0.79931835 | G73: =F73*G69/10^6 -> 1.1989775e-05
A74: Total N2O | B74: 0.11514011 | C74: =$B$74*C69/10^6 -> 1.4277374e-05 | D74: 0.11514011 | E74: =$B$74*E69/10^6 -> 6.2193074e-06 | F74: =D74/$O$17 -> 0.41462049 | G74: =F74*G69/10^6 -> 6.2193074e-06
A75: CO2 eq | C75: =C71+C73*25+C74*298 -> 0.0049427666 | E75: =E71+E73*25+E74*298 -> 0.002153098 | G75: =G71+G73*25+G74*298 -> 0.002153098
A77: Municipal Wastes | B77: t | C77: 121169.5 | E77: =L39*1000 -> 57000 | G77: =L39*1000 -> 57000
B78: TJ | C78: 1198.3664 | D78: TJ | E78: =G78*$N$17/$O$17 -> 543.75225 | F78: GWh | G78: =L38 -> 151
B79: Carbon Emission Factor, tC/T | C79: heide, t CO2 | D79: Carbon Emission Factor, tC/T | E79: heide, t CO2 | F79: Carbon Emission Factor, tC/T | G79: heide, t CO2
A80: CO2 | B80: 0.592 | C80: =C77*$B$80/1000 -> 71.732344 | D80: 0.592 | E80: =E77*$B$80/1000 -> 33.744 | F80: =D80 -> 0.592 | G80: =E80 -> 33.744
B81: CH4 and N2O emission factors by fuel, kg/TJ | C81: heide, t CH4 või N2O | D81: CH4 and N2O emission factors by fuel, kg/TJ | E81: heide, t CH4 või N2O | F81: CH4 and N2O emission factors by fuel, kg/TJ | G81: heide, t CH4 või N2O
A82: Total CH4 | B82: 0.0038955431 | C82: =C78*$B$82/1000000 -> 4.6682878e-06 | D82: 0.0038955431 | E82: =E78*$B$82/1000000 -> 2.1182103e-06 | F82: =D82/$O$17 -> 0.014027883 | G82: =F82*G78/10^6 -> 2.1182103e-06
A83: Total N2O | B83: 0.1753177 | C83: =C78*$B$83/1000000 -> 0.00021009483 | D83: 0.1753177 | E83: =E78*$B$83/1000000 -> 9.5329392e-05 | F83: =D83/$O$17 -> 0.63132048 | G83: =F83*G78/10^6 -> 9.5329392e-05
A84: CO2 eq | C84: =C80+C82*25+C83*298 -> 71.795069 | E84: =E80+E82*25+E83*298 -> 33.772461 | G84: =G80+G82*25+G83*298 -> 33.772461
A86: Oil Shale Gas | B86: TJ | C86: 12883.823 | D86: TJ | E86: =G86*$N$17/$O$17 -> 2560.3169 | F86: GWh | G86: =L42 -> 711
B87: Carbon Emission Factor, tC/TJ | C87: heide, t CO2 | D87: Carbon Emission Factor, tC/TJ | E87: heide, t CO2 | F87: Carbon Emission Factor, tC/TJ | G87: heide, t CO2
A88: CO2 | C88: 1131.353 | E88: =C88*E86/C86 -> 224.82629 | G88: =E88 -> 224.82629
B89: CH4 and N2O emission factors by fuel, kg/TJ | C89: heide, t CH4 või N2O | D89: CH4 and N2O emission factors by fuel, kg/TJ | E89: heide, t CH4 või N2O | F89: CH4 and N2O emission factors by fuel, kg/TJ | G89: heide, t CH4 või N2O
A90: CH4 | B90: 1 | C90: =C86*$B$90/1000000 -> 0.012883823 | D90: 1 | E90: =E86*$B$90/1000000 -> 0.0025603169 | F90: =D90/$O$17 -> 3.6010083 | G90: =F90*G86/10^6 -> 0.0025603169
A91: N2O | B91: 0.1 | C91: =C86*$B$91/1000000 -> 0.0012883823 | D91: 0.1 | E91: =E86*$B$91/1000000 -> 0.00025603169 | F91: =D91/$O$17 -> 0.36010083 | G91: =F91*G86/10^6 -> 0.00025603169
A92: CO2 eq | C92: =C88+C90*25+C91*298 -> 1132.059 | E92: =E88+E90*25+E91*298 -> 224.96659 | G92: =G88+G90*25+G91*298 -> 224.96659
A94: Tuul | B94: TJ | C94: =C103*$B$100 -> 2966.1627 | D94: TJ | E94: =G94*$N$17/$O$17 -> 2639.5391 | F94: GWh | G94: =L46 -> 733
A95: Päike | B95: TJ | C95: =C104*$B$100 -> 428.36573 | D95: TJ | E95: =G95*$N$17/$O$17 -> 1274.7569 | F95: GWh | G95: =L48 -> 354
A96: Hüdro | B96: TJ | C96: =C107*$B$100 -> 97.192225 | D96: TJ | E96: =G96*$N$17/$O$17 -> 82.82319 | F96: GWh | G96: =L44 -> 23
A97: Muud taastuvad allikad | B97: TJ | D97: TJ | E97: =G97*$N$17/$O$17 -> 72.020166 | F97: GWh | G97: =L40 -> 20
C98: =SUM(C94:C97)/C115*100 -> 6.773473
A99: Teisendusfaktor TJ > GWh | B99: 0.2778
A100: Teisendusfaktor GWh > TJ | B100: =1/B99 -> 3.599712
A102: Toodetud elekter | C102: 2020(*) | G102: 2021(***)
A103: Tuul | B103: GWh | C103: 824 | F103: GWh | G103: =G94 -> 733
A104: Päike | B104: GWh | C104: 119 | F104: GWh | G104: =G95 -> 354
A105: Biomass(**) | B105: GWh | C105: 1226 | F105: GWh | G105: =G41 -> 1694
A106: Biogaas(**) | B106: GWh | C106: 29 | F106: GWh | G106: =G69 -> 15
A107: Hüdro | B107: GWh | C107: 27 | F107: GWh | G107: =G96 -> 23
A108: Muud taastuvad allikad | F108: GWh | G108: =G97 -> 20
B109: Kokku | C109: =SUM(C103:C107) -> 2225 | F109: Kokku | G109: =SUM(G103:G108) -> 2839 | H109: 2577.67
...
